{"text_format":"1","workbook":"xlsx","n_sheets":4,"sheets":["Daily Programs","Indivigual Programs","Sheet4","Indivigual Program Log"],"not_rendered":{"charts":0,"images":0,"macros":1,"external_links":2,"defined_names":0,"comments":0,"pivot_tables":0},"unopened":[],"bounds":{"document_bytes":16777216,"sheet_cells":100000,"rows_first":2000,"rows_last":500,"rows_between":2000,"halvings":0,"cell_chars":16384,"cell_head_chars":4096},"cells_cut":0,"cells_raw":0,"read":"whole","date_system":"1900"}

{"sheet":"Daily Programs","index":0,"n_rows":10,"n_cols":3,"rows_kept":10,"cut":false,"hidden":false,"merged":[[0,0,0,2]]}
["Daily Programs"]
["Program","Air Times","Description"]
["News & Weather","8:00 AM, 12:00 PM, 4:00 PM, 8:00 PM","Local Weather Forcast and reading of current news"]
["PSA","12:00 AM, 5:00AM, 9:00 AM, 1:00 PM, 5:00 PM, 7:00 PM","Public Service Announcements produced by KMNR DJs that cover a variety of topics"]
["Ad Council","1:00 AM, 7:00 AM, 11:00 AM, 3:00 PM, 6:00 PM, 9:00 PM","Public Service Announcements produced by the Ad Council that cover a variety of topics"]
["Profile America","2:00 AM, 6:00 AM, 10:00 AM, 2:00 PM, 11:00 PM","Daily vignettes about events, commemerations, or observences for that day"]
["Ascertainment","3:00 AM, 7:00 AM, 11:00 AM, 3:00 PM, 9:00 PM","Programs produced by KMNR DJs about services and activities in the Rolla area"]
["Town and Campus","6:00 AM, 10:00 AM, 2:00 PM, 6:00 PM, 10:00 PM","Listener submited announcements of activites and events in the Rolla area"]
["Science and the Sea","8:00 AM, 12:00 PM, 4:00 PM, 8:00 PM","A presentation of marine science topics produced by the University of Texas Marine Sceince Institute"]
["Concert News","9:00 AM, 1:00 PM, 5:00 PM, 7:00 PM","Announcements of nearby concerts"]

{"sheet":"Indivigual Programs","index":1,"n_rows":421,"n_cols":3,"rows_kept":421,"cut":false,"hidden":false,"merged":[[0,0,0,2]]}
["Indivigual Program Descriptions"]
["Title","Type","Description"]
[{"$f":"[1]Sheet1!A2","v":"2 Sides 30"},{"$f":"[1]Sheet1!B2","v":"Ad Council"},{"$f":"[1]Sheet1!D2","v":0}]
[{"$f":"[1]Sheet1!A3","v":"2 Sides 60"},{"$f":"[1]Sheet1!B3","v":"Ad Council"},{"$f":"[1]Sheet1!D3","v":0}]
[{"$f":"[1]Sheet1!A4","v":"A seccond Chance 30"},{"$f":"[1]Sheet1!B4","v":"Ad Council"},{"$f":"[1]Sheet1!D4","v":0}]
[{"$f":"[1]Sheet1!A5","v":"Age Means Everything 30"},{"$f":"[1]Sheet1!B5","v":"Ad Council"},{"$f":"[1]Sheet1!D5","v":0}]
[{"$f":"[1]Sheet1!A6","v":"Age Means Everything 60"},{"$f":"[1]Sheet1!B6","v":"Ad Council"},{"$f":"[1]Sheet1!D6","v":0}]
[{"$f":"[1]Sheet1!A7","v":"Airtime 30"},{"$f":"[1]Sheet1!B7","v":"Ad Council"},{"$f":"[1]Sheet1!D7","v":0}]
[{"$f":"[1]Sheet1!A8","v":"Airtime 60"},{"$f":"[1]Sheet1!B8","v":"Ad Council"},{"$f":"[1]Sheet1!D8","v":0}]
[{"$f":"[1]Sheet1!A9","v":"Allison 30"},{"$f":"[1]Sheet1!B9","v":"Ad Council"},{"$f":"[1]Sheet1!D9","v":0}]
[{"$f":"[1]Sheet1!A10","v":"Attention Men 60"},{"$f":"[1]Sheet1!B10","v":"Ad Council"},{"$f":"[1]Sheet1!D10","v":0}]
[{"$f":"[1]Sheet1!A11","v":"Battlefield 30"},{"$f":"[1]Sheet1!B11","v":"Ad Council"},{"$f":"[1]Sheet1!D11","v":0}]
[{"$f":"[1]Sheet1!A12","v":"Battlefield 60"},{"$f":"[1]Sheet1!B12","v":"Ad Council"},{"$f":"[1]Sheet1!D12","v":0}]
[{"$f":"[1]Sheet1!A13","v":"Bear Hug Campfire 30"},{"$f":"[1]Sheet1!B13","v":"Ad Council"},{"$f":"[1]Sheet1!D13","v":0}]
[{"$f":"[1]Sheet1!A14","v":"Bear Hug Campfire 60"},{"$f":"[1]Sheet1!B14","v":"Ad Council"},{"$f":"[1]Sheet1!D14","v":0}]
[{"$f":"[1]Sheet1!A15","v":"Bento 30"},{"$f":"[1]Sheet1!B15","v":"Ad Council"},{"$f":"[1]Sheet1!D15","v":0}]
[{"$f":"[1]Sheet1!A16","v":"Best In Show Cat 30"},{"$f":"[1]Sheet1!B16","v":"Ad Council"},{"$f":"[1]Sheet1!D16","v":0}]
[{"$f":"[1]Sheet1!A17","v":"Best In Show Cat 60"},{"$f":"[1]Sheet1!B17","v":"Ad Council"},{"$f":"[1]Sheet1!D17","v":0}]
[{"$f":"[1]Sheet1!A18","v":"Best In Show Dog 30"},{"$f":"[1]Sheet1!B18","v":"Ad Council"},{"$f":"[1]Sheet1!D18","v":0}]
[{"$f":"[1]Sheet1!A19","v":"Best In Show Dog 60"},{"$f":"[1]Sheet1!B19","v":"Ad Council"},{"$f":"[1]Sheet1!D19","v":0}]
[{"$f":"[1]Sheet1!A20","v":"Best vs Standard 30"},{"$f":"[1]Sheet1!B20","v":"Ad Council"},{"$f":"[1]Sheet1!D20","v":0}]
[{"$f":"[1]Sheet1!A21","v":"Boss Baby 30"},{"$f":"[1]Sheet1!B21","v":"Ad Council"},{"$f":"[1]Sheet1!D21","v":0}]
[{"$f":"[1]Sheet1!A22","v":"Breakup 60"},{"$f":"[1]Sheet1!B22","v":"Ad Council"},{"$f":"[1]Sheet1!D22","v":0}]
[{"$f":"[1]Sheet1!A23","v":"CarAce 30"},{"$f":"[1]Sheet1!B23","v":"Ad Council"},{"$f":"[1]Sheet1!D23","v":0}]
[{"$f":"[1]Sheet1!A24","v":"Caregiver to Mom 30"},{"$f":"[1]Sheet1!B24","v":"Ad Council"},{"$f":"[1]Sheet1!D24","v":0}]
[{"$f":"[1]Sheet1!A25","v":"Caregiver to Mom 60"},{"$f":"[1]Sheet1!B25","v":"Ad Council"},{"$f":"[1]Sheet1!D25","v":0}]
[{"$f":"[1]Sheet1!A26","v":"Cellphone 30"},{"$f":"[1]Sheet1!B26","v":"Ad Council"},{"$f":"[1]Sheet1!D26","v":0}]
[{"$f":"[1]Sheet1!A27","v":"Chance 60"},{"$f":"[1]Sheet1!B27","v":"Ad Council"},{"$f":"[1]Sheet1!D27","v":0}]
[{"$f":"[1]Sheet1!A28","v":"Change of Plans 30"},{"$f":"[1]Sheet1!B28","v":"Ad Council"},{"$f":"[1]Sheet1!D28","v":0}]
[{"$f":"[1]Sheet1!A29","v":"Click 30"},{"$f":"[1]Sheet1!B29","v":"Ad Council"},{"$f":"[1]Sheet1!D29","v":0}]
[{"$f":"[1]Sheet1!A30","v":"Click 60"},{"$f":"[1]Sheet1!B30","v":"Ad Council"},{"$f":"[1]Sheet1!D30","v":0}]
[{"$f":"[1]Sheet1!A31","v":"Concert 30"},{"$f":"[1]Sheet1!B31","v":"Ad Council"},{"$f":"[1]Sheet1!D31","v":0}]
[{"$f":"[1]Sheet1!A32","v":"Concert 60"},{"$f":"[1]Sheet1!B32","v":"Ad Council"},{"$f":"[1]Sheet1!D32","v":0}]
[{"$f":"[1]Sheet1!A33","v":"DanicaPatrick 30"},{"$f":"[1]Sheet1!B33","v":"Ad Council"},{"$f":"[1]Sheet1!D33","v":0}]
[{"$f":"[1]Sheet1!A34","v":"DanicaPatrick 60"},{"$f":"[1]Sheet1!B34","v":"Ad Council"},{"$f":"[1]Sheet1!D34","v":0}]
[{"$f":"[1]Sheet1!A35","v":"Designer Jeans 30"},{"$f":"[1]Sheet1!B35","v":"Ad Council"},{"$f":"[1]Sheet1!D35","v":0}]
[{"$f":"[1]Sheet1!A36","v":"Designer Jeans 60"},{"$f":"[1]Sheet1!B36","v":"Ad Council"},{"$f":"[1]Sheet1!D36","v":0}]
[{"$f":"[1]Sheet1!A37","v":"Dont Wait-Earthquake 30"},{"$f":"[1]Sheet1!B37","v":"Ad Council"},{"$f":"[1]Sheet1!D37","v":0}]
[{"$f":"[1]Sheet1!A38","v":"Dont Wait-Tornado 30"},{"$f":"[1]Sheet1!B38","v":"Ad Council"},{"$f":"[1]Sheet1!D38","v":0}]
[{"$f":"[1]Sheet1!A39","v":"Dont Wait-Wildfire 30"},{"$f":"[1]Sheet1!B39","v":"Ad Council"},{"$f":"[1]Sheet1!D39","v":0}]
[{"$f":"[1]Sheet1!A40","v":"Dont Wait 30"},{"$f":"[1]Sheet1!B40","v":"Ad Council"},{"$f":"[1]Sheet1!D40","v":0}]
[{"$f":"[1]Sheet1!A41","v":"Dont Wait 60"},{"$f":"[1]Sheet1!B41","v":"Ad Council"},{"$f":"[1]Sheet1!D41","v":0}]
[{"$f":"[1]Sheet1!A42","v":"Dr Phil 30"},{"$f":"[1]Sheet1!B42","v":"Ad Council"},{"$f":"[1]Sheet1!D42","v":0}]
[{"$f":"[1]Sheet1!A43","v":"Dr Phil 60"},{"$f":"[1]Sheet1!B43","v":"Ad Council"},{"$f":"[1]Sheet1!D43","v":0}]
[{"$f":"[1]Sheet1!A44","v":"Driving Blind 30"},{"$f":"[1]Sheet1!B44","v":"Ad Council"},{"$f":"[1]Sheet1!D44","v":0}]
[{"$f":"[1]Sheet1!A45","v":"Driving Means 30"},{"$f":"[1]Sheet1!B45","v":"Ad Council"},{"$f":"[1]Sheet1!D45","v":0}]
[{"$f":"[1]Sheet1!A46","v":"Driving Sounds 30"},{"$f":"[1]Sheet1!B46","v":"Ad Council"},{"$f":"[1]Sheet1!D46","v":0}]
[{"$f":"[1]Sheet1!A47","v":"Expensive Night 60"},{"$f":"[1]Sheet1!B47","v":"Ad Council"},{"$f":"[1]Sheet1!D47","v":0}]
[{"$f":"[1]Sheet1!A48","v":"Feather 30"},{"$f":"[1]Sheet1!B48","v":"Ad Council"},{"$f":"[1]Sheet1!D48","v":0}]
[{"$f":"[1]Sheet1!A49","v":"Forest Animals 30"},{"$f":"[1]Sheet1!B49","v":"Ad Council"},{"$f":"[1]Sheet1!D49","v":0}]
[{"$f":"[1]Sheet1!A50","v":"Forest Animals 60"},{"$f":"[1]Sheet1!B50","v":"Ad Council"},{"$f":"[1]Sheet1!D50","v":0}]
[{"$f":"[1]Sheet1!A51","v":"Forest Benefits 30"},{"$f":"[1]Sheet1!B51","v":"Ad Council"},{"$f":"[1]Sheet1!D51","v":0}]
[{"$f":"[1]Sheet1!A52","v":"Forest Benefits 60"},{"$f":"[1]Sheet1!B52","v":"Ad Council"},{"$f":"[1]Sheet1!D52","v":0}]
[{"$f":"[1]Sheet1!A53","v":"Full Circle 30"},{"$f":"[1]Sheet1!B53","v":"Ad Council"},{"$f":"[1]Sheet1!D53","v":0}]
[{"$f":"[1]Sheet1!A54","v":"Full Circle 60"},{"$f":"[1]Sheet1!B54","v":"Ad Council"},{"$f":"[1]Sheet1!D54","v":0}]
[{"$f":"[1]Sheet1!A55","v":"Gift to Future Me 60"},{"$f":"[1]Sheet1!B55","v":"Ad Council"},{"$f":"[1]Sheet1!D55","v":0}]
[{"$f":"[1]Sheet1!A56","v":"GPS 30"},{"$f":"[1]Sheet1!B56","v":"Ad Council"},{"$f":"[1]Sheet1!D56","v":0}]
[{"$f":"[1]Sheet1!A57","v":"Groan 30"},{"$f":"[1]Sheet1!B57","v":"Ad Council"},{"$f":"[1]Sheet1!D57","v":0}]
[{"$f":"[1]Sheet1!A58","v":"Groan 60"},{"$f":"[1]Sheet1!B58","v":"Ad Council"},{"$f":"[1]Sheet1!D58","v":0}]
[{"$f":"[1]Sheet1!A59","v":"Grown Up 30"},{"$f":"[1]Sheet1!B59","v":"Ad Council"},{"$f":"[1]Sheet1!D59","v":0}]
[{"$f":"[1]Sheet1!A60","v":"Grown Up 60"},{"$f":"[1]Sheet1!B60","v":"Ad Council"},{"$f":"[1]Sheet1!D60","v":0}]
[{"$f":"[1]Sheet1!A61","v":"Guys Night Out-Moment 30"},{"$f":"[1]Sheet1!B61","v":"Ad Council"},{"$f":"[1]Sheet1!D61","v":0}]
[{"$f":"[1]Sheet1!A62","v":"Haircut 30"},{"$f":"[1]Sheet1!B62","v":"Ad Council"},{"$f":"[1]Sheet1!D62","v":0}]
[{"$f":"[1]Sheet1!A63","v":"Haircut 60"},{"$f":"[1]Sheet1!B63","v":"Ad Council"},{"$f":"[1]Sheet1!D63","v":0}]
[{"$f":"[1]Sheet1!A64","v":"Hamilton 30"},{"$f":"[1]Sheet1!B64","v":"Ad Council"},{"$f":"[1]Sheet1!D64","v":0}]
[{"$f":"[1]Sheet1!A65","v":"HouseAce 30"},{"$f":"[1]Sheet1!B65","v":"Ad Council"},{"$f":"[1]Sheet1!D65","v":0}]
[{"$f":"[1]Sheet1!A66","v":"How We Do It 60"},{"$f":"[1]Sheet1!B66","v":"Ad Council"},{"$f":"[1]Sheet1!D66","v":0}]
[{"$f":"[1]Sheet1!A67","v":"I know 30"},{"$f":"[1]Sheet1!B67","v":"Ad Council"},{"$f":"[1]Sheet1!D67","v":0}]
[{"$f":"[1]Sheet1!A68","v":"I want to be 30"},{"$f":"[1]Sheet1!B68","v":"Ad Council"},{"$f":"[1]Sheet1!D68","v":0}]
[{"$f":"[1]Sheet1!A69","v":"I want to be 60"},{"$f":"[1]Sheet1!B69","v":"Ad Council"},{"$f":"[1]Sheet1!D69","v":0}]
[{"$f":"[1]Sheet1!A70","v":"In Their Own Words 30"},{"$f":"[1]Sheet1!B70","v":"Ad Council"},{"$f":"[1]Sheet1!D70","v":0}]
[{"$f":"[1]Sheet1!A71","v":"In Their Own Words 60"},{"$f":"[1]Sheet1!B71","v":"Ad Council"},{"$f":"[1]Sheet1!D71","v":0}]
[{"$f":"[1]Sheet1!A72","v":"Indoor Baseball 30"},{"$f":"[1]Sheet1!B72","v":"Ad Council"},{"$f":"[1]Sheet1!D72","v":0}]
[{"$f":"[1]Sheet1!A73","v":"Inside the Mind 30"},{"$f":"[1]Sheet1!B73","v":"Ad Council"},{"$f":"[1]Sheet1!D73","v":0}]
[{"$f":"[1]Sheet1!A74","v":"Inside the Mind 60"},{"$f":"[1]Sheet1!B74","v":"Ad Council"},{"$f":"[1]Sheet1!D74","v":0}]
[{"$f":"[1]Sheet1!A75","v":"Josh Groban 30"},{"$f":"[1]Sheet1!B75","v":"Ad Council"},{"$f":"[1]Sheet1!D75","v":0}]
[{"$f":"[1]Sheet1!A76","v":"Josh Groban 60"},{"$f":"[1]Sheet1!B76","v":"Ad Council"},{"$f":"[1]Sheet1!D76","v":0}]
[{"$f":"[1]Sheet1!A77","v":"Julius Randle Reverse 60"},{"$f":"[1]Sheet1!B77","v":"Ad Council"},{"$f":"[1]Sheet1!D77","v":0}]
[{"$f":"[1]Sheet1!A78","v":"Leash 30"},{"$f":"[1]Sheet1!B78","v":"Ad Council"},{"$f":"[1]Sheet1!D78","v":0}]
[{"$f":"[1]Sheet1!A79","v":"Let Me Ask You 30"},{"$f":"[1]Sheet1!B79","v":"Ad Council"},{"$f":"[1]Sheet1!D79","v":0}]
[{"$f":"[1]Sheet1!A80","v":"Listen 30"},{"$f":"[1]Sheet1!B80","v":"Ad Council"},{"$f":"[1]Sheet1!D80","v":0}]
[{"$f":"[1]Sheet1!A81","v":"Listen 60"},{"$f":"[1]Sheet1!B81","v":"Ad Council"},{"$f":"[1]Sheet1!D81","v":0}]
[{"$f":"[1]Sheet1!A82","v":"Long Haul 30"},{"$f":"[1]Sheet1!B82","v":"Ad Council"},{"$f":"[1]Sheet1!D82","v":0}]
[{"$f":"[1]Sheet1!A83","v":"Look Down 30"},{"$f":"[1]Sheet1!B83","v":"Ad Council"},{"$f":"[1]Sheet1!D83","v":0}]
[{"$f":"[1]Sheet1!A84","v":"Lucky 60"},{"$f":"[1]Sheet1!B84","v":"Ad Council"},{"$f":"[1]Sheet1!D84","v":0}]
[{"$f":"[1]Sheet1!A85","v":"Lucky 30"},{"$f":"[1]Sheet1!B85","v":"Ad Council"},{"$f":"[1]Sheet1!D85","v":0}]
[{"$f":"[1]Sheet1!A86","v":"Missed Opportunity 60"},{"$f":"[1]Sheet1!B86","v":"Ad Council"},{"$f":"[1]Sheet1!D86","v":0}]
[{"$f":"[1]Sheet1!A87","v":"Moments 30"},{"$f":"[1]Sheet1!B87","v":"Ad Council"},{"$f":"[1]Sheet1!D87","v":0}]
[{"$f":"[1]Sheet1!A88","v":"Moments 60"},{"$f":"[1]Sheet1!B88","v":"Ad Council"},{"$f":"[1]Sheet1!D88","v":0}]
[{"$f":"[1]Sheet1!A89","v":"One More 30"},{"$f":"[1]Sheet1!B89","v":"Ad Council"},{"$f":"[1]Sheet1!D89","v":0}]
[{"$f":"[1]Sheet1!A90","v":"Online Dating 30"},{"$f":"[1]Sheet1!B90","v":"Ad Council"},{"$f":"[1]Sheet1!D90","v":0}]
[{"$f":"[1]Sheet1!A91","v":"Only in the forest 60"},{"$f":"[1]Sheet1!B91","v":"Ad Council"},{"$f":"[1]Sheet1!D91","v":0}]
[{"$f":"[1]Sheet1!A92","v":"Overconfidence 30"},{"$f":"[1]Sheet1!B92","v":"Ad Council"},{"$f":"[1]Sheet1!D92","v":0}]
[{"$f":"[1]Sheet1!A93","v":"Overconfidence 60"},{"$f":"[1]Sheet1!B93","v":"Ad Council"},{"$f":"[1]Sheet1!D93","v":0}]
[{"$f":"[1]Sheet1!A94","v":"Passengers 30"},{"$f":"[1]Sheet1!B94","v":"Ad Council"},{"$f":"[1]Sheet1!D94","v":0}]
[{"$f":"[1]Sheet1!A95","v":"Pavlov Purpose 30"},{"$f":"[1]Sheet1!B95","v":"Ad Council"},{"$f":"[1]Sheet1!D95","v":0}]
[{"$f":"[1]Sheet1!A96","v":"Pavlov Purpose 60"},{"$f":"[1]Sheet1!B96","v":"Ad Council"},{"$f":"[1]Sheet1!D96","v":0}]
[{"$f":"[1]Sheet1!A97","v":"Pets Anthem 30"},{"$f":"[1]Sheet1!B97","v":"Ad Council"},{"$f":"[1]Sheet1!D97","v":0}]
[{"$f":"[1]Sheet1!A98","v":"Pets Anthem 60"},{"$f":"[1]Sheet1!B98","v":"Ad Council"},{"$f":"[1]Sheet1!D98","v":0}]
[{"$f":"[1]Sheet1!A99","v":"Pool Party 30"},{"$f":"[1]Sheet1!B99","v":"Ad Council"},{"$f":"[1]Sheet1!D99","v":0}]
[{"$f":"[1]Sheet1!A100","v":"Power Suit 60"},{"$f":"[1]Sheet1!B100","v":"Ad Council"},{"$f":"[1]Sheet1!D100","v":0}]
[{"$f":"[1]Sheet1!A101","v":"Prediabetes Test 30"},{"$f":"[1]Sheet1!B101","v":"Ad Council"},{"$f":"[1]Sheet1!D101","v":0}]
[{"$f":"[1]Sheet1!A102","v":"Prediabetes Test 60"},{"$f":"[1]Sheet1!B102","v":"Ad Council"},{"$f":"[1]Sheet1!D102","v":0}]
[{"$f":"[1]Sheet1!A103","v":"Prom 60"},{"$f":"[1]Sheet1!B103","v":"Ad Council"},{"$f":"[1]Sheet1!D103","v":0}]
[{"$f":"[1]Sheet1!A104","v":"Rachael Ray 30"},{"$f":"[1]Sheet1!B104","v":"Ad Council"},{"$f":"[1]Sheet1!D104","v":0}]
[{"$f":"[1]Sheet1!A105","v":"Rachael Ray 60"},{"$f":"[1]Sheet1!B105","v":"Ad Council"},{"$f":"[1]Sheet1!D105","v":0}]
[{"$f":"[1]Sheet1!A106","v":"Reba McEntire 30"},{"$f":"[1]Sheet1!B106","v":"Ad Council"},{"$f":"[1]Sheet1!D106","v":0}]
[{"$f":"[1]Sheet1!A107","v":"Reba McEntire 60"},{"$f":"[1]Sheet1!B107","v":"Ad Council"},{"$f":"[1]Sheet1!D107","v":0}]
[{"$f":"[1]Sheet1!A108","v":"Redwoods 30"},{"$f":"[1]Sheet1!B108","v":"Ad Council"},{"$f":"[1]Sheet1!D108","v":0}]
[{"$f":"[1]Sheet1!A109","v":"Redwoods 60"},{"$f":"[1]Sheet1!B109","v":"Ad Council"},{"$f":"[1]Sheet1!D109","v":0}]
[{"$f":"[1]Sheet1!A110","v":"Rich 60"},{"$f":"[1]Sheet1!B110","v":"Ad Council"},{"$f":"[1]Sheet1!D110","v":0}]
[{"$f":"[1]Sheet1!A111","v":"Rich Uncle 60"},{"$f":"[1]Sheet1!B111","v":"Ad Council"},{"$f":"[1]Sheet1!D111","v":0}]
[{"$f":"[1]Sheet1!A112","v":"Rising Ashes-Chains 30"},{"$f":"[1]Sheet1!B112","v":"Ad Council"},{"$f":"[1]Sheet1!D112","v":0}]
[{"$f":"[1]Sheet1!A113","v":"Rising Ashes-Chains 60"},{"$f":"[1]Sheet1!B113","v":"Ad Council"},{"$f":"[1]Sheet1!D113","v":0}]
[{"$f":"[1]Sheet1!A114","v":"Rising Ashes-Fire Pit 30"},{"$f":"[1]Sheet1!B114","v":"Ad Council"},{"$f":"[1]Sheet1!D114","v":0}]
[{"$f":"[1]Sheet1!A115","v":"Rising Ashes-Fire Pit 60"},{"$f":"[1]Sheet1!B115","v":"Ad Council"},{"$f":"[1]Sheet1!D115","v":0}]
[{"$f":"[1]Sheet1!A116","v":"Rock Tshirt 30"},{"$f":"[1]Sheet1!B116","v":"Ad Council"},{"$f":"[1]Sheet1!D116","v":0}]
[{"$f":"[1]Sheet1!A117","v":"Rockstar 60"},{"$f":"[1]Sheet1!B117","v":"Ad Council"},{"$f":"[1]Sheet1!D117","v":0}]
[{"$f":"[1]Sheet1!A118","v":"Sense of Adventure 30"},{"$f":"[1]Sheet1!B118","v":"Ad Council"},{"$f":"[1]Sheet1!D118","v":0}]
[{"$f":"[1]Sheet1!A119","v":"Sense of Adventure 60"},{"$f":"[1]Sheet1!B119","v":"Ad Council"},{"$f":"[1]Sheet1!D119","v":0}]
[{"$f":"[1]Sheet1!A120","v":"Short Drive 30"},{"$f":"[1]Sheet1!B120","v":"Ad Council"},{"$f":"[1]Sheet1!D120","v":0}]
[{"$f":"[1]Sheet1!A121","v":"Short Drive 60"},{"$f":"[1]Sheet1!B121","v":"Ad Council"},{"$f":"[1]Sheet1!D121","v":0}]
[{"$f":"[1]Sheet1!A122","v":"Short Shorts 30"},{"$f":"[1]Sheet1!B122","v":"Ad Council"},{"$f":"[1]Sheet1!D122","v":0}]
[{"$f":"[1]Sheet1!A123","v":"Short Shorts 60"},{"$f":"[1]Sheet1!B123","v":"Ad Council"},{"$f":"[1]Sheet1!D123","v":0}]
[{"$f":"[1]Sheet1!A124","v":"Show and Tell 30"},{"$f":"[1]Sheet1!B124","v":"Ad Council"},{"$f":"[1]Sheet1!D124","v":0}]
[{"$f":"[1]Sheet1!A125","v":"Show and Tell 60"},{"$f":"[1]Sheet1!B125","v":"Ad Council"},{"$f":"[1]Sheet1!D125","v":0}]
[{"$f":"[1]Sheet1!A126","v":"Slo-Mo 30"},{"$f":"[1]Sheet1!B126","v":"Ad Council"},{"$f":"[1]Sheet1!D126","v":0}]
[{"$f":"[1]Sheet1!A127","v":"Smiles 30"},{"$f":"[1]Sheet1!B127","v":"Ad Council"},{"$f":"[1]Sheet1!D127","v":0}]
[{"$f":"[1]Sheet1!A128","v":"Smiles 60"},{"$f":"[1]Sheet1!B128","v":"Ad Council"},{"$f":"[1]Sheet1!D128","v":0}]
[{"$f":"[1]Sheet1!A129","v":"Stuntman 30"},{"$f":"[1]Sheet1!B129","v":"Ad Council"},{"$f":"[1]Sheet1!D129","v":0}]
[{"$f":"[1]Sheet1!A130","v":"Stuntman 60"},{"$f":"[1]Sheet1!B130","v":"Ad Council"},{"$f":"[1]Sheet1!D130","v":0}]
[{"$f":"[1]Sheet1!A131","v":"Super Buddies Experience 30"},{"$f":"[1]Sheet1!B131","v":"Ad Council"},{"$f":"[1]Sheet1!D131","v":0}]
[{"$f":"[1]Sheet1!A132","v":"Surprise You 30"},{"$f":"[1]Sheet1!B132","v":"Ad Council"},{"$f":"[1]Sheet1!D132","v":0}]
[{"$f":"[1]Sheet1!A133","v":"Taxi 30"},{"$f":"[1]Sheet1!B133","v":"Ad Council"},{"$f":"[1]Sheet1!D133","v":0}]
[{"$f":"[1]Sheet1!A134","v":"Taxi 60"},{"$f":"[1]Sheet1!B134","v":"Ad Council"},{"$f":"[1]Sheet1!D134","v":0}]
[{"$f":"[1]Sheet1!A135","v":"Tea Pot-Moment 30"},{"$f":"[1]Sheet1!B135","v":"Ad Council"},{"$f":"[1]Sheet1!D135","v":0}]
[{"$f":"[1]Sheet1!A136","v":"The Probablys 60"},{"$f":"[1]Sheet1!B136","v":"Ad Council"},{"$f":"[1]Sheet1!D136","v":0}]
[{"$f":"[1]Sheet1!A137","v":"There Yet 30"},{"$f":"[1]Sheet1!B137","v":"Ad Council"},{"$f":"[1]Sheet1!D137","v":0}]
[{"$f":"[1]Sheet1!A138","v":"There Yet 60"},{"$f":"[1]Sheet1!B138","v":"Ad Council"},{"$f":"[1]Sheet1!D138","v":0}]
[{"$f":"[1]Sheet1!A139","v":"Tickle Fight 30"},{"$f":"[1]Sheet1!B139","v":"Ad Council"},{"$f":"[1]Sheet1!D139","v":0}]
[{"$f":"[1]Sheet1!A140","v":"Toast 30"},{"$f":"[1]Sheet1!B140","v":"Ad Council"},{"$f":"[1]Sheet1!D140","v":0}]
[{"$f":"[1]Sheet1!A141","v":"Tougher than Tough 30"},{"$f":"[1]Sheet1!B141","v":"Ad Council"},{"$f":"[1]Sheet1!D141","v":0}]
[{"$f":"[1]Sheet1!A142","v":"Tougher than Tough 60"},{"$f":"[1]Sheet1!B142","v":"Ad Council"},{"$f":"[1]Sheet1!D142","v":0}]
[{"$f":"[1]Sheet1!A143","v":"Toys 30"},{"$f":"[1]Sheet1!B143","v":"Ad Council"},{"$f":"[1]Sheet1!D143","v":0}]
[{"$f":"[1]Sheet1!A144","v":"Tune Out 30"},{"$f":"[1]Sheet1!B144","v":"Ad Council"},{"$f":"[1]Sheet1!D144","v":0}]
[{"$f":"[1]Sheet1!A145","v":"Wed Do Anything 30"},{"$f":"[1]Sheet1!B145","v":"Ad Council"},{"$f":"[1]Sheet1!D145","v":0}]
[{"$f":"[1]Sheet1!A146","v":"Wed Do Anything 60"},{"$f":"[1]Sheet1!B146","v":"Ad Council"},{"$f":"[1]Sheet1!D146","v":0}]
[{"$f":"[1]Sheet1!A147","v":"You Do So Much 30"},{"$f":"[1]Sheet1!B147","v":"Ad Council"},{"$f":"[1]Sheet1!D147","v":0}]
[{"$f":"[1]Sheet1!A148","v":"You Do So Much 60"},{"$f":"[1]Sheet1!B148","v":"Ad Council"},{"$f":"[1]Sheet1!D148","v":0}]
[{"$f":"[1]Sheet1!A149","v":"Alcohol Sexual Assault"},{"$f":"[1]Sheet1!B149","v":"Ascertainment"},{"$f":"[1]Sheet1!D149","v":0}]
[{"$f":"[1]Sheet1!A150","v":"Band Ascertainment"},{"$f":"[1]Sheet1!B150","v":"Ascertainment"},{"$f":"[1]Sheet1!D150","v":0}]
[{"$f":"[1]Sheet1!A151","v":"Bowling"},{"$f":"[1]Sheet1!B151","v":"Ascertainment"},{"$f":"[1]Sheet1!D151","v":0}]
[{"$f":"[1]Sheet1!A152","v":"Climbing Club"},{"$f":"[1]Sheet1!B152","v":"Ascertainment"},{"$f":"[1]Sheet1!D152","v":0}]
[{"$f":"[1]Sheet1!A153","v":"Condoms-ASC"},{"$f":"[1]Sheet1!B153","v":"Ascertainment"},{"$f":"[1]Sheet1!D153","v":0}]
[{"$f":"[1]Sheet1!A154","v":"Curbside Recycling I"},{"$f":"[1]Sheet1!B154","v":"Ascertainment"},{"$f":"[1]Sheet1!D154","v":0}]
[{"$f":"[1]Sheet1!A155","v":"Curbside Recycling II"},{"$f":"[1]Sheet1!B155","v":"Ascertainment"},{"$f":"[1]Sheet1!D155","v":0}]
[{"$f":"[1]Sheet1!A156","v":"Dags"},{"$f":"[1]Sheet1!B156","v":"Ascertainment"},{"$f":"[1]Sheet1!D156","v":0}]
[{"$f":"[1]Sheet1!A157","v":"Dont Be A Stalker"},{"$f":"[1]Sheet1!B157","v":"Ascertainment"},{"$f":"[1]Sheet1!D157","v":0}]
[{"$f":"[1]Sheet1!A158","v":"Earthquake Safety"},{"$f":"[1]Sheet1!B158","v":"Ascertainment"},{"$f":"[1]Sheet1!D158","v":0}]
[{"$f":"[1]Sheet1!A159","v":"Electric Car"},{"$f":"[1]Sheet1!B159","v":"Ascertainment"},{"$f":"[1]Sheet1!D159","v":0}]
[{"$f":"[1]Sheet1!A160","v":"Freshman 50"},{"$f":"[1]Sheet1!B160","v":"Ascertainment"},{"$f":"[1]Sheet1!D160","v":0}]
[{"$f":"[1]Sheet1!A161","v":"Freshmen Homesickness"},{"$f":"[1]Sheet1!B161","v":"Ascertainment"},{"$f":"[1]Sheet1!D161","v":0}]
[{"$f":"[1]Sheet1!A162","v":"Frisbeegolf"},{"$f":"[1]Sheet1!B162","v":"Ascertainment"},{"$f":"[1]Sheet1!D162","v":0}]
[{"$f":"[1]Sheet1!A163","v":"FSAE Racing Team"},{"$f":"[1]Sheet1!B163","v":"Ascertainment"},{"$f":"[1]Sheet1!D163","v":0}]
[{"$f":"[1]Sheet1!A164","v":"Go Outside"},{"$f":"[1]Sheet1!B164","v":"Ascertainment"},{"$f":"[1]Sheet1!D164","v":0}]
[{"$f":"[1]Sheet1!A165","v":"Habitat for Humanity I"},{"$f":"[1]Sheet1!B165","v":"Ascertainment"},{"$f":"[1]Sheet1!D165","v":0}]
[{"$f":"[1]Sheet1!A166","v":"Habitat for Humanity II"},{"$f":"[1]Sheet1!B166","v":"Ascertainment"},{"$f":"[1]Sheet1!D166","v":0}]
[{"$f":"[1]Sheet1!A167","v":"Info On International Students"},{"$f":"[1]Sheet1!B167","v":"Ascertainment"},{"$f":"[1]Sheet1!D167","v":0}]
[{"$f":"[1]Sheet1!A168","v":"International Student Perspective"},{"$f":"[1]Sheet1!B168","v":"Ascertainment"},{"$f":"[1]Sheet1!D168","v":0}]
[{"$f":"[1]Sheet1!A169","v":"LEAD"},{"$f":"[1]Sheet1!B169","v":"Ascertainment"},{"$f":"[1]Sheet1!D169","v":0}]
[{"$f":"[1]Sheet1!A170","v":"Loitering"},{"$f":"[1]Sheet1!B170","v":"Ascertainment"},{"$f":"[1]Sheet1!D170","v":0}]
[{"$f":"[1]Sheet1!A171","v":"Lyme Disease"},{"$f":"[1]Sheet1!B171","v":"Ascertainment"},{"$f":"[1]Sheet1!D171","v":0}]
[{"$f":"[1]Sheet1!A172","v":"Mailbox Decapitation"},{"$f":"[1]Sheet1!B172","v":"Ascertainment"},{"$f":"[1]Sheet1!D172","v":0}]
[{"$f":"[1]Sheet1!A173","v":"Marijuana"},{"$f":"[1]Sheet1!B173","v":"Ascertainment"},{"$f":"[1]Sheet1!D173","v":0}]
[{"$f":"[1]Sheet1!A174","v":"Miners In Space"},{"$f":"[1]Sheet1!B174","v":"Ascertainment"},{"$f":"[1]Sheet1!D174","v":0}]
[{"$f":"[1]Sheet1!A175","v":"Missouri caves"},{"$f":"[1]Sheet1!B175","v":"Ascertainment"},{"$f":"[1]Sheet1!D175","v":0}]
[{"$f":"[1]Sheet1!A176","v":"MST Music"},{"$f":"[1]Sheet1!B176","v":"Ascertainment"},{"$f":"[1]Sheet1!D176","v":0}]
[{"$f":"[1]Sheet1!A177","v":"MSTRecCenter"},{"$f":"[1]Sheet1!B177","v":"Ascertainment"},{"$f":"[1]Sheet1!D177","v":0}]
[{"$f":"[1]Sheet1!A178","v":"Nature Conservation"},{"$f":"[1]Sheet1!B178","v":"Ascertainment"},{"$f":"[1]Sheet1!D178","v":0}]
[{"$f":"[1]Sheet1!A179","v":"Open Container Law"},{"$f":"[1]Sheet1!B179","v":"Ascertainment"},{"$f":"[1]Sheet1!D179","v":0}]
[{"$f":"[1]Sheet1!A180","v":"Recycling"},{"$f":"[1]Sheet1!B180","v":"Ascertainment"},{"$f":"[1]Sheet1!D180","v":0}]
[{"$f":"[1]Sheet1!A181","v":"Rolla Animal Shelter I"},{"$f":"[1]Sheet1!B181","v":"Ascertainment"},{"$f":"[1]Sheet1!D181","v":0}]
[{"$f":"[1]Sheet1!A182","v":"Rolla Animal Shelter II"},{"$f":"[1]Sheet1!B182","v":"Ascertainment"},{"$f":"[1]Sheet1!D182","v":0}]
[{"$f":"[1]Sheet1!A183","v":"Rolla Leash Laws"},{"$f":"[1]Sheet1!B183","v":"Ascertainment"},{"$f":"[1]Sheet1!D183","v":0}]
[{"$f":"[1]Sheet1!A184","v":"Rolla Parks"},{"$f":"[1]Sheet1!B184","v":"Ascertainment"},{"$f":"[1]Sheet1!D184","v":0}]
[{"$f":"[1]Sheet1!A185","v":"Rolla Public Library I"},{"$f":"[1]Sheet1!B185","v":"Ascertainment"},{"$f":"[1]Sheet1!D185","v":0}]
[{"$f":"[1]Sheet1!A186","v":"Rolla Public Library II"},{"$f":"[1]Sheet1!B186","v":"Ascertainment"},{"$f":"[1]Sheet1!D186","v":0}]
[{"$f":"[1]Sheet1!A187","v":"Rolla Rural Fire"},{"$f":"[1]Sheet1!B187","v":"Ascertainment"},{"$f":"[1]Sheet1!D187","v":0}]
[{"$f":"[1]Sheet1!A188","v":"Rollanet"},{"$f":"[1]Sheet1!B188","v":"Ascertainment"},{"$f":"[1]Sheet1!D188","v":0}]
[{"$f":"[1]Sheet1!A189","v":"Rotary Club"},{"$f":"[1]Sheet1!B189","v":"Ascertainment"},{"$f":"[1]Sheet1!D189","v":0}]
[{"$f":"[1]Sheet1!A190","v":"Russell House"},{"$f":"[1]Sheet1!B190","v":"Ascertainment"},{"$f":"[1]Sheet1!D190","v":0}]
[{"$f":"[1]Sheet1!A191","v":"S&T Golf Course"},{"$f":"[1]Sheet1!B191","v":"Ascertainment"},{"$f":"[1]Sheet1!D191","v":0}]
[{"$f":"[1]Sheet1!A192","v":"senior companions"},{"$f":"[1]Sheet1!B192","v":"Ascertainment"},{"$f":"[1]Sheet1!D192","v":0}]
[{"$f":"[1]Sheet1!A193","v":"Severe Weather Safety Tips"},{"$f":"[1]Sheet1!B193","v":"Ascertainment"},{"$f":"[1]Sheet1!D193","v":0}]
[{"$f":"[1]Sheet1!A194","v":"Skatepark"},{"$f":"[1]Sheet1!B194","v":"Ascertainment"},{"$f":"[1]Sheet1!D194","v":0}]
[{"$f":"[1]Sheet1!A195","v":"Sports Programs"},{"$f":"[1]Sheet1!B195","v":"Ascertainment"},{"$f":"[1]Sheet1!D195","v":0}]
[{"$f":"[1]Sheet1!A196","v":"St. Pats advice"},{"$f":"[1]Sheet1!B196","v":"Ascertainment"},{"$f":"[1]Sheet1!D196","v":0}]
[{"$f":"[1]Sheet1!A197","v":"Staph Infections"},{"$f":"[1]Sheet1!B197","v":"Ascertainment"},{"$f":"[1]Sheet1!D197","v":0}]
[{"$f":"[1]Sheet1!A198","v":"Stressless Room"},{"$f":"[1]Sheet1!B198","v":"Ascertainment"},{"$f":"[1]Sheet1!D198","v":0}]
[{"$f":"[1]Sheet1!A199","v":"Student Success Center"},{"$f":"[1]Sheet1!B199","v":"Ascertainment"},{"$f":"[1]Sheet1!D199","v":0}]
[{"$f":"[1]Sheet1!A200","v":"Trail Usage"},{"$f":"[1]Sheet1!B200","v":"Ascertainment"},{"$f":"[1]Sheet1!D200","v":0}]
[{"$f":"[1]Sheet1!A201","v":"Turn Down Your Ding Dang Speakers"},{"$f":"[1]Sheet1!B201","v":"Ascertainment"},{"$f":"[1]Sheet1!D201","v":0}]
[{"$f":"[1]Sheet1!A202","v":"University Police"},{"$f":"[1]Sheet1!B202","v":"Ascertainment"},{"$f":"[1]Sheet1!D202","v":0}]
[{"$f":"[1]Sheet1!A203","v":"Video Game Addiction"},{"$f":"[1]Sheet1!B203","v":"Ascertainment"},{"$f":"[1]Sheet1!D203","v":0}]
[{"$f":"[1]Sheet1!A204","v":"Vote With Elton John"},{"$f":"[1]Sheet1!B204","v":"Ascertainment"},{"$f":"[1]Sheet1!D204","v":0}]
[{"$f":"[1]Sheet1!A205","v":"writing center"},{"$f":"[1]Sheet1!B205","v":"Ascertainment"},{"$f":"[1]Sheet1!D205","v":0}]
[{"$f":"[1]Sheet1!A206","v":"20 20 20 Vision Rule"},{"$f":"[1]Sheet1!B206","v":"PSA"},{"$f":"[1]Sheet1!D206","v":0}]
[{"$f":"[1]Sheet1!A207","v":"Absentee Voting"},{"$f":"[1]Sheet1!B207","v":"PSA"},{"$f":"[1]Sheet1!D207","v":0}]
[{"$f":"[1]Sheet1!A208","v":"ALIENS"},{"$f":"[1]Sheet1!B208","v":"PSA"},{"$f":"[1]Sheet1!D208","v":0}]
[{"$f":"[1]Sheet1!A209","v":"Always With Me Sub Disorder"},{"$f":"[1]Sheet1!B209","v":"PSA"},{"$f":"[1]Sheet1!D209","v":0}]
[{"$f":"[1]Sheet1!A210","v":"Autocorrect"},{"$f":"[1]Sheet1!B210","v":"PSA"},{"$f":"[1]Sheet1!D210","v":0}]
[{"$f":"[1]Sheet1!A211","v":"Autoerotic Asphyxiation"},{"$f":"[1]Sheet1!B211","v":"PSA"},{"$f":"[1]Sheet1!D211","v":0}]
[{"$f":"[1]Sheet1!A212","v":"Bacterial Vaginosis"},{"$f":"[1]Sheet1!B212","v":"PSA"},{"$f":"[1]Sheet1!D212","v":0}]
[{"$f":"[1]Sheet1!A213","v":"Be Child Care Aware"},{"$f":"[1]Sheet1!B213","v":"PSA"},{"$f":"[1]Sheet1!D213","v":0}]
[{"$f":"[1]Sheet1!A214","v":"Bear Selfie"},{"$f":"[1]Sheet1!B214","v":"PSA"},{"$f":"[1]Sheet1!D214","v":0}]
[{"$f":"[1]Sheet1!A215","v":"Bee Swarm"},{"$f":"[1]Sheet1!B215","v":"PSA"},{"$f":"[1]Sheet1!D215","v":0}]
[{"$f":"[1]Sheet1!A216","v":"Beezin"},{"$f":"[1]Sheet1!B216","v":"PSA"},{"$f":"[1]Sheet1!D216","v":0}]
[{"$f":"[1]Sheet1!A217","v":"Best Buddies"},{"$f":"[1]Sheet1!B217","v":"PSA"},{"$f":"[1]Sheet1!D217","v":0}]
[{"$f":"[1]Sheet1!A218","v":"Bird Collisions"},{"$f":"[1]Sheet1!B218","v":"PSA"},{"$f":"[1]Sheet1!D218","v":0}]
[{"$f":"[1]Sheet1!A219","v":"Black Ice"},{"$f":"[1]Sheet1!B219","v":"PSA"},{"$f":"[1]Sheet1!D219","v":0}]
[{"$f":"[1]Sheet1!A220","v":"Black Rhinos"},{"$f":"[1]Sheet1!B220","v":"PSA"},{"$f":"[1]Sheet1!D220","v":0}]
[{"$f":"[1]Sheet1!A221","v":"boardz n bikes n thangs"},{"$f":"[1]Sheet1!B221","v":"PSA"},{"$f":"[1]Sheet1!D221","v":0}]
[{"$f":"[1]Sheet1!A222","v":"Body Dysmorphia"},{"$f":"[1]Sheet1!B222","v":"PSA"},{"$f":"[1]Sheet1!D222","v":0}]
[{"$f":"[1]Sheet1!A223","v":"Body Odor"},{"$f":"[1]Sheet1!B223","v":"PSA"},{"$f":"[1]Sheet1!D223","v":0}]
[{"$f":"[1]Sheet1!A224","v":"Breastfeeding"},{"$f":"[1]Sheet1!B224","v":"PSA"},{"$f":"[1]Sheet1!D224","v":0}]
[{"$f":"[1]Sheet1!A225","v":"Brush Your Teeth"},{"$f":"[1]Sheet1!B225","v":"PSA"},{"$f":"[1]Sheet1!D225","v":0}]
[{"$f":"[1]Sheet1!A226","v":"Buddy system"},{"$f":"[1]Sheet1!B226","v":"PSA"},{"$f":"[1]Sheet1!D226","v":0}]
[{"$f":"[1]Sheet1!A227","v":"Butt Chug"},{"$f":"[1]Sheet1!B227","v":"PSA"},{"$f":"[1]Sheet1!D227","v":0}]
[{"$f":"[1]Sheet1!A228","v":"Caffeine Addiction and You"},{"$f":"[1]Sheet1!B228","v":"PSA"},{"$f":"[1]Sheet1!D228","v":0}]
[{"$f":"[1]Sheet1!A229","v":"Call Your Mom"},{"$f":"[1]Sheet1!B229","v":"PSA"},{"$f":"[1]Sheet1!D229","v":0}]
[{"$f":"[1]Sheet1!A230","v":"Campground Etiquette"},{"$f":"[1]Sheet1!B230","v":"PSA"},{"$f":"[1]Sheet1!D230","v":0}]
[{"$f":"[1]Sheet1!A231","v":"CAT HERPES"},{"$f":"[1]Sheet1!B231","v":"PSA"},{"$f":"[1]Sheet1!D231","v":0}]
[{"$f":"[1]Sheet1!A232","v":"Celiac"},{"$f":"[1]Sheet1!B232","v":"PSA"},{"$f":"[1]Sheet1!D232","v":0}]
[{"$f":"[1]Sheet1!A233","v":"Cellphones at Concerts"},{"$f":"[1]Sheet1!B233","v":"PSA"},{"$f":"[1]Sheet1!D233","v":0}]
[{"$f":"[1]Sheet1!A234","v":"Check Your Boots"},{"$f":"[1]Sheet1!B234","v":"PSA"},{"$f":"[1]Sheet1!D234","v":0}]
[{"$f":"[1]Sheet1!A235","v":"chili"},{"$f":"[1]Sheet1!B235","v":"PSA"},{"$f":"[1]Sheet1!D235","v":0}]
[{"$f":"[1]Sheet1!A236","v":"circumcision"},{"$f":"[1]Sheet1!B236","v":"PSA"},{"$f":"[1]Sheet1!D236","v":0}]
[{"$f":"[1]Sheet1!A237","v":"Clean Towels"},{"$f":"[1]Sheet1!B237","v":"PSA"},{"$f":"[1]Sheet1!D237","v":0}]
[{"$f":"[1]Sheet1!A238","v":"College Campus Squirrels"},{"$f":"[1]Sheet1!B238","v":"PSA"},{"$f":"[1]Sheet1!D238","v":0}]
[{"$f":"[1]Sheet1!A239","v":"Condoms"},{"$f":"[1]Sheet1!B239","v":"PSA"},{"$f":"[1]Sheet1!D239","v":0}]
[{"$f":"[1]Sheet1!A240","v":"Crossing streets safely"},{"$f":"[1]Sheet1!B240","v":"PSA"},{"$f":"[1]Sheet1!D240","v":0}]
[{"$f":"[1]Sheet1!A241","v":"Data Due Diligence"},{"$f":"[1]Sheet1!B241","v":"PSA"},{"$f":"[1]Sheet1!D241","v":0}]
[{"$f":"[1]Sheet1!A242","v":"Doggie Depression"},{"$f":"[1]Sheet1!B242","v":"PSA"},{"$f":"[1]Sheet1!D242","v":0}]
[{"$f":"[1]Sheet1!A243","v":"Donate Your Eyes"},{"$f":"[1]Sheet1!B243","v":"PSA"},{"$f":"[1]Sheet1!D243","v":0}]
[{"$f":"[1]Sheet1!A244","v":"Dont be a D"},{"$f":"[1]Sheet1!B244","v":"PSA"},{"$f":"[1]Sheet1!D244","v":0}]
[{"$f":"[1]Sheet1!A245","v":"Dont Die From The cold"},{"$f":"[1]Sheet1!B245","v":"PSA"},{"$f":"[1]Sheet1!D245","v":0}]
[{"$f":"[1]Sheet1!A246","v":"Dont Reuse Condoms"},{"$f":"[1]Sheet1!B246","v":"PSA"},{"$f":"[1]Sheet1!D246","v":0}]
[{"$f":"[1]Sheet1!A247","v":"Dont Smother Your Children"},{"$f":"[1]Sheet1!B247","v":"PSA"},{"$f":"[1]Sheet1!D247","v":0}]
[{"$f":"[1]Sheet1!A248","v":"Dont Steal Wireless"},{"$f":"[1]Sheet1!B248","v":"PSA"},{"$f":"[1]Sheet1!D248","v":0}]
[{"$f":"[1]Sheet1!A249","v":"Dont Swear In Front Of The Children"},{"$f":"[1]Sheet1!B249","v":"PSA"},{"$f":"[1]Sheet1!D249","v":0}]
[{"$f":"[1]Sheet1!A250","v":"Dont Text and Drive"},{"$f":"[1]Sheet1!B250","v":"PSA"},{"$f":"[1]Sheet1!D250","v":0}]
[{"$f":"[1]Sheet1!A251","v":"Drink Milk"},{"$f":"[1]Sheet1!B251","v":"PSA"},{"$f":"[1]Sheet1!D251","v":0}]
[{"$f":"[1]Sheet1!A252","v":"Drowsy Driving"},{"$f":"[1]Sheet1!B252","v":"PSA"},{"$f":"[1]Sheet1!D252","v":0}]
[{"$f":"[1]Sheet1!A253","v":"Drug Free"},{"$f":"[1]Sheet1!B253","v":"PSA"},{"$f":"[1]Sheet1!D253","v":0}]
[{"$f":"[1]Sheet1!A254","v":"dumpster diving"},{"$f":"[1]Sheet1!B254","v":"PSA"},{"$f":"[1]Sheet1!D254","v":0}]
[{"$f":"[1]Sheet1!A255","v":"Duster"},{"$f":"[1]Sheet1!B255","v":"PSA"},{"$f":"[1]Sheet1!D255","v":0}]
[{"$f":"[1]Sheet1!A256","v":"Electrocution"},{"$f":"[1]Sheet1!B256","v":"PSA"},{"$f":"[1]Sheet1!D256","v":0}]
[{"$f":"[1]Sheet1!A257","v":"Epistemology"},{"$f":"[1]Sheet1!B257","v":"PSA"},{"$f":"[1]Sheet1!D257","v":0}]
[{"$f":"[1]Sheet1!A258","v":"Ethics"},{"$f":"[1]Sheet1!B258","v":"PSA"},{"$f":"[1]Sheet1!D258","v":0}]
[{"$f":"[1]Sheet1!A259","v":"Evolution vs. Creationism"},{"$f":"[1]Sheet1!B259","v":"PSA"},{"$f":"[1]Sheet1!D259","v":0}]
[{"$f":"[1]Sheet1!A260","v":"Fake News"},{"$f":"[1]Sheet1!B260","v":"PSA"},{"$f":"[1]Sheet1!D260","v":0}]
[{"$f":"[1]Sheet1!A261","v":"Falling Coconuts"},{"$f":"[1]Sheet1!B261","v":"PSA"},{"$f":"[1]Sheet1!D261","v":0}]
[{"$f":"[1]Sheet1!A262","v":"Family Mental Illness"},{"$f":"[1]Sheet1!B262","v":"PSA"},{"$f":"[1]Sheet1!D262","v":0}]
[{"$f":"[1]Sheet1!A263","v":"Flat Earth"},{"$f":"[1]Sheet1!B263","v":"PSA"},{"$f":"[1]Sheet1!D263","v":0}]
[{"$f":"[1]Sheet1!A264","v":"Floaters"},{"$f":"[1]Sheet1!B264","v":"PSA"},{"$f":"[1]Sheet1!D264","v":0}]
[{"$f":"[1]Sheet1!A265","v":"Floss Yo Teef"},{"$f":"[1]Sheet1!B265","v":"PSA"},{"$f":"[1]Sheet1!D265","v":0}]
[{"$f":"[1]Sheet1!A266","v":"Folic Acid Information"},{"$f":"[1]Sheet1!B266","v":"PSA"},{"$f":"[1]Sheet1!D266","v":0}]
[{"$f":"[1]Sheet1!A267","v":"Food Safety-Is It Done Yet"},{"$f":"[1]Sheet1!B267","v":"PSA"},{"$f":"[1]Sheet1!D267","v":0}]
[{"$f":"[1]Sheet1!A268","v":"Furnace Filters"},{"$f":"[1]Sheet1!B268","v":"PSA"},{"$f":"[1]Sheet1!D268","v":0}]
[{"$f":"[1]Sheet1!A269","v":"GO TO CLASS"},{"$f":"[1]Sheet1!B269","v":"PSA"},{"$f":"[1]Sheet1!D269","v":0}]
[{"$f":"[1]Sheet1!A270","v":"Graffiti"},{"$f":"[1]Sheet1!B270","v":"PSA"},{"$f":"[1]Sheet1!D270","v":0}]
[{"$f":"[1]Sheet1!A271","v":"Gun safety"},{"$f":"[1]Sheet1!B271","v":"PSA"},{"$f":"[1]Sheet1!D271","v":0}]
[{"$f":"[1]Sheet1!A272","v":"Handicapped Parking"},{"$f":"[1]Sheet1!B272","v":"PSA"},{"$f":"[1]Sheet1!D272","v":0}]
[{"$f":"[1]Sheet1!A273","v":"Health and Fast Food"},{"$f":"[1]Sheet1!B273","v":"PSA"},{"$f":"[1]Sheet1!D273","v":0}]
[{"$f":"[1]Sheet1!A274","v":"Healthy Eating"},{"$f":"[1]Sheet1!B274","v":"PSA"},{"$f":"[1]Sheet1!D274","v":0}]
[{"$f":"[1]Sheet1!A275","v":"Hearing Loss"},{"$f":"[1]Sheet1!B275","v":"PSA"},{"$f":"[1]Sheet1!D275","v":0}]
[{"$f":"[1]Sheet1!A276","v":"Heart Disease"},{"$f":"[1]Sheet1!B276","v":"PSA"},{"$f":"[1]Sheet1!D276","v":0}]
[{"$f":"[1]Sheet1!A277","v":"Highway Accidents"},{"$f":"[1]Sheet1!B277","v":"PSA"},{"$f":"[1]Sheet1!D277","v":0}]
[{"$f":"[1]Sheet1!A278","v":"Home Mental Illness"},{"$f":"[1]Sheet1!B278","v":"PSA"},{"$f":"[1]Sheet1!D278","v":0}]
[{"$f":"[1]Sheet1!A279","v":"Homophones"},{"$f":"[1]Sheet1!B279","v":"PSA"},{"$f":"[1]Sheet1!D279","v":0}]
[{"$f":"[1]Sheet1!A280","v":"Hotel Fire Safety"},{"$f":"[1]Sheet1!B280","v":"PSA"},{"$f":"[1]Sheet1!D280","v":0}]
[{"$f":"[1]Sheet1!A281","v":"IBS"},{"$f":"[1]Sheet1!B281","v":"PSA"},{"$f":"[1]Sheet1!D281","v":0}]
[{"$f":"[1]Sheet1!A282","v":"In the Trash"},{"$f":"[1]Sheet1!B282","v":"PSA"},{"$f":"[1]Sheet1!D282","v":0}]
[{"$f":"[1]Sheet1!A283","v":"Incredible egg"},{"$f":"[1]Sheet1!B283","v":"PSA"},{"$f":"[1]Sheet1!D283","v":0}]
[{"$f":"[1]Sheet1!A284","v":"Inhalants I"},{"$f":"[1]Sheet1!B284","v":"PSA"},{"$f":"[1]Sheet1!D284","v":0}]
[{"$f":"[1]Sheet1!A285","v":"Inhalents II"},{"$f":"[1]Sheet1!B285","v":"PSA"},{"$f":"[1]Sheet1!D285","v":0}]
[{"$f":"[1]Sheet1!A286","v":"Inline Skating Safety"},{"$f":"[1]Sheet1!B286","v":"PSA"},{"$f":"[1]Sheet1!D286","v":0}]
[{"$f":"[1]Sheet1!A287","v":"Internet Predators"},{"$f":"[1]Sheet1!B287","v":"PSA"},{"$f":"[1]Sheet1!D287","v":0}]
[{"$f":"[1]Sheet1!A288","v":"Islamic Beliefs"},{"$f":"[1]Sheet1!B288","v":"PSA"},{"$f":"[1]Sheet1!D288","v":0}]
[{"$f":"[1]Sheet1!A289","v":"Jay Walking"},{"$f":"[1]Sheet1!B289","v":"PSA"},{"$f":"[1]Sheet1!D289","v":0}]
[{"$f":"[1]Sheet1!A290","v":"Jenkem "},{"$f":"[1]Sheet1!B290","v":"PSA"},{"$f":"[1]Sheet1!D290","v":0}]
[{"$f":"[1]Sheet1!A291","v":"Lead Poisoning"},{"$f":"[1]Sheet1!B291","v":"PSA"},{"$f":"[1]Sheet1!D291","v":0}]
[{"$f":"[1]Sheet1!A292","v":"Libido"},{"$f":"[1]Sheet1!B292","v":"PSA"},{"$f":"[1]Sheet1!D292","v":0}]
[{"$f":"[1]Sheet1!A293","v":"Lightning Facts"},{"$f":"[1]Sheet1!B293","v":"PSA"},{"$f":"[1]Sheet1!D293","v":0}]
[{"$f":"[1]Sheet1!A294","v":"Local Awareness"},{"$f":"[1]Sheet1!B294","v":"PSA"},{"$f":"[1]Sheet1!D294","v":0}]
[{"$f":"[1]Sheet1!A295","v":"Local Music"},{"$f":"[1]Sheet1!B295","v":"PSA"},{"$f":"[1]Sheet1!D295","v":0}]
[{"$f":"[1]Sheet1!A296","v":"lock doors"},{"$f":"[1]Sheet1!B296","v":"PSA"},{"$f":"[1]Sheet1!D296","v":0}]
[{"$f":"[1]Sheet1!A297","v":"Lock Your Doors"},{"$f":"[1]Sheet1!B297","v":"PSA"},{"$f":"[1]Sheet1!D297","v":0}]
[{"$f":"[1]Sheet1!A298","v":"London Exchange"},{"$f":"[1]Sheet1!B298","v":"PSA"},{"$f":"[1]Sheet1!D298","v":0}]
[{"$f":"[1]Sheet1!A299","v":"Loud Music"},{"$f":"[1]Sheet1!B299","v":"PSA"},{"$f":"[1]Sheet1!D299","v":0}]
[{"$f":"[1]Sheet1!A300","v":"Maggots"},{"$f":"[1]Sheet1!B300","v":"PSA"},{"$f":"[1]Sheet1!D300","v":0}]
[{"$f":"[1]Sheet1!A301","v":"Make Beer"},{"$f":"[1]Sheet1!B301","v":"PSA"},{"$f":"[1]Sheet1!D301","v":0}]
[{"$f":"[1]Sheet1!A302","v":"Marijuana I"},{"$f":"[1]Sheet1!B302","v":"PSA"},{"$f":"[1]Sheet1!D302","v":0}]
[{"$f":"[1]Sheet1!A303","v":"Marijuana II"},{"$f":"[1]Sheet1!B303","v":"PSA"},{"$f":"[1]Sheet1!D303","v":0}]
[{"$f":"[1]Sheet1!A304","v":"Marijuana Reform"},{"$f":"[1]Sheet1!B304","v":"PSA"},{"$f":"[1]Sheet1!D304","v":0}]
[{"$f":"[1]Sheet1!A305","v":"Memory Loss"},{"$f":"[1]Sheet1!B305","v":"PSA"},{"$f":"[1]Sheet1!D305","v":0}]
[{"$f":"[1]Sheet1!A306","v":"Migraines"},{"$f":"[1]Sheet1!B306","v":"PSA"},{"$f":"[1]Sheet1!D306","v":0}]
[{"$f":"[1]Sheet1!A307","v":"Mono"},{"$f":"[1]Sheet1!B307","v":"PSA"},{"$f":"[1]Sheet1!D307","v":0}]
[{"$f":"[1]Sheet1!A308","v":"Monobola"},{"$f":"[1]Sheet1!B308","v":"PSA"},{"$f":"[1]Sheet1!D308","v":0}]
[{"$f":"[1]Sheet1!A309","v":"Mononucleosis"},{"$f":"[1]Sheet1!B309","v":"PSA"},{"$f":"[1]Sheet1!D309","v":0}]
[{"$f":"[1]Sheet1!A310","v":"Moshing"},{"$f":"[1]Sheet1!B310","v":"PSA"},{"$f":"[1]Sheet1!D310","v":0}]
[{"$f":"[1]Sheet1!A311","v":"Moshpit Safety"},{"$f":"[1]Sheet1!B311","v":"PSA"},{"$f":"[1]Sheet1!D311","v":0}]
[{"$f":"[1]Sheet1!A312","v":"Mosquitoes"},{"$f":"[1]Sheet1!B312","v":"PSA"},{"$f":"[1]Sheet1!D312","v":0}]
[{"$f":"[1]Sheet1!A313","v":"Motorcycle Safety I"},{"$f":"[1]Sheet1!B313","v":"PSA"},{"$f":"[1]Sheet1!D313","v":0}]
[{"$f":"[1]Sheet1!A314","v":"Motorcycle Safety II"},{"$f":"[1]Sheet1!B314","v":"PSA"},{"$f":"[1]Sheet1!D314","v":0}]
[{"$f":"[1]Sheet1!A315","v":"Motorcycles"},{"$f":"[1]Sheet1!B315","v":"PSA"},{"$f":"[1]Sheet1!D315","v":0}]
[{"$f":"[1]Sheet1!A316","v":"Music Festivals"},{"$f":"[1]Sheet1!B316","v":"PSA"},{"$f":"[1]Sheet1!D316","v":0}]
[{"$f":"[1]Sheet1!A317","v":"My Story Is Yours"},{"$f":"[1]Sheet1!B317","v":"PSA"},{"$f":"[1]Sheet1!D317","v":0}]
[{"$f":"[1]Sheet1!A318","v":"Net Neutrality"},{"$f":"[1]Sheet1!B318","v":"PSA"},{"$f":"[1]Sheet1!D318","v":0}]
[{"$f":"[1]Sheet1!A319","v":"No Metal In The Microwave"},{"$f":"[1]Sheet1!B319","v":"PSA"},{"$f":"[1]Sheet1!D319","v":0}]
[{"$f":"[1]Sheet1!A320","v":"Nuclear Attack"},{"$f":"[1]Sheet1!B320","v":"PSA"},{"$f":"[1]Sheet1!D320","v":0}]
[{"$f":"[1]Sheet1!A321","v":"Nuclear Power"},{"$f":"[1]Sheet1!B321","v":"PSA"},{"$f":"[1]Sheet1!D321","v":0}]
[{"$f":"[1]Sheet1!A322","v":"Obsession Vs. Affection"},{"$f":"[1]Sheet1!B322","v":"PSA"},{"$f":"[1]Sheet1!D322","v":0}]
[{"$f":"[1]Sheet1!A323","v":"Ocelots"},{"$f":"[1]Sheet1!B323","v":"PSA"},{"$f":"[1]Sheet1!D323","v":0}]
[{"$f":"[1]Sheet1!A324","v":"Old Guys On Trash"},{"$f":"[1]Sheet1!B324","v":"PSA"},{"$f":"[1]Sheet1!D324","v":0}]
[{"$f":"[1]Sheet1!A325","v":"Organ Donation"},{"$f":"[1]Sheet1!B325","v":"PSA"},{"$f":"[1]Sheet1!D325","v":0}]
[{"$f":"[1]Sheet1!A326","v":"P2P Privacy"},{"$f":"[1]Sheet1!B326","v":"PSA"},{"$f":"[1]Sheet1!D326","v":0}]
[{"$f":"[1]Sheet1!A327","v":"Painkiller Abuse"},{"$f":"[1]Sheet1!B327","v":"PSA"},{"$f":"[1]Sheet1!D327","v":0}]
[{"$f":"[1]Sheet1!A328","v":"Paintball Safety"},{"$f":"[1]Sheet1!B328","v":"PSA"},{"$f":"[1]Sheet1!D328","v":0}]
[{"$f":"[1]Sheet1!A329","v":"Parking"},{"$f":"[1]Sheet1!B329","v":"PSA"},{"$f":"[1]Sheet1!D329","v":0}]
[{"$f":"[1]Sheet1!A330","v":"Parking etiquette"},{"$f":"[1]Sheet1!B330","v":"PSA"},{"$f":"[1]Sheet1!D330","v":0}]
[{"$f":"[1]Sheet1!A331","v":"Passive Aggressiveness"},{"$f":"[1]Sheet1!B331","v":"PSA"},{"$f":"[1]Sheet1!D331","v":0}]
[{"$f":"[1]Sheet1!A332","v":"Peanutbutter and Jelly"},{"$f":"[1]Sheet1!B332","v":"PSA"},{"$f":"[1]Sheet1!D332","v":0}]
[{"$f":"[1]Sheet1!A333","v":"Pedestrian Crossing"},{"$f":"[1]Sheet1!B333","v":"PSA"},{"$f":"[1]Sheet1!D333","v":0}]
[{"$f":"[1]Sheet1!A334","v":"Pedigree vs. The Pound"},{"$f":"[1]Sheet1!B334","v":"PSA"},{"$f":"[1]Sheet1!D334","v":0}]
[{"$f":"[1]Sheet1!A335","v":"Pet Diseases"},{"$f":"[1]Sheet1!B335","v":"PSA"},{"$f":"[1]Sheet1!D335","v":0}]
[{"$f":"[1]Sheet1!A336","v":"Pets In Cars"},{"$f":"[1]Sheet1!B336","v":"PSA"},{"$f":"[1]Sheet1!D336","v":0}]
[{"$f":"[1]Sheet1!A337","v":"Phobias"},{"$f":"[1]Sheet1!B337","v":"PSA"},{"$f":"[1]Sheet1!D337","v":0}]
[{"$f":"[1]Sheet1!A338","v":"Piercing Safety"},{"$f":"[1]Sheet1!B338","v":"PSA"},{"$f":"[1]Sheet1!D338","v":0}]
[{"$f":"[1]Sheet1!A339","v":"Pink Elephant"},{"$f":"[1]Sheet1!B339","v":"PSA"},{"$f":"[1]Sheet1!D339","v":0}]
[{"$f":"[1]Sheet1!A340","v":"Plagiarism"},{"$f":"[1]Sheet1!B340","v":"PSA"},{"$f":"[1]Sheet1!D340","v":0}]
[{"$f":"[1]Sheet1!A341","v":"Poly-Drug Abuse"},{"$f":"[1]Sheet1!B341","v":"PSA"},{"$f":"[1]Sheet1!D341","v":0}]
[{"$f":"[1]Sheet1!A342","v":"Power in Space"},{"$f":"[1]Sheet1!B342","v":"PSA"},{"$f":"[1]Sheet1!D342","v":0}]
[{"$f":"[1]Sheet1!A343","v":"Prairie Dogs"},{"$f":"[1]Sheet1!B343","v":"PSA"},{"$f":"[1]Sheet1!D343","v":0}]
[{"$f":"[1]Sheet1!A344","v":"Proper Suncare"},{"$f":"[1]Sheet1!B344","v":"PSA"},{"$f":"[1]Sheet1!D344","v":0}]
[{"$f":"[1]Sheet1!A345","v":"Prostate Cancer"},{"$f":"[1]Sheet1!B345","v":"PSA"},{"$f":"[1]Sheet1!D345","v":0}]
[{"$f":"[1]Sheet1!A346","v":"Prostate Health"},{"$f":"[1]Sheet1!B346","v":"PSA"},{"$f":"[1]Sheet1!D346","v":0}]
[{"$f":"[1]Sheet1!A347","v":"Public Urination"},{"$f":"[1]Sheet1!B347","v":"PSA"},{"$f":"[1]Sheet1!D347","v":0}]
[{"$f":"[1]Sheet1!A348","v":"RADD (Recording artists Against Drunk Driving)"},{"$f":"[1]Sheet1!B348","v":"PSA"},{"$f":"[1]Sheet1!D348","v":0}]
[{"$f":"[1]Sheet1!A349","v":"Radiation Facts"},{"$f":"[1]Sheet1!B349","v":"PSA"},{"$f":"[1]Sheet1!D349","v":0}]
[{"$f":"[1]Sheet1!A350","v":"RecoveryPosition"},{"$f":"[1]Sheet1!B350","v":"PSA"},{"$f":"[1]Sheet1!D350","v":0}]
[{"$f":"[1]Sheet1!A351","v":"Refridgerated Foods"},{"$f":"[1]Sheet1!B351","v":"PSA"},{"$f":"[1]Sheet1!D351","v":0}]
[{"$f":"[1]Sheet1!A352","v":"Renters Rights"},{"$f":"[1]Sheet1!B352","v":"PSA"},{"$f":"[1]Sheet1!D352","v":0}]
[{"$f":"[1]Sheet1!A353","v":"Reporting Crimes"},{"$f":"[1]Sheet1!B353","v":"PSA"},{"$f":"[1]Sheet1!D353","v":0}]
[{"$f":"[1]Sheet1!A354","v":"Road Rage I"},{"$f":"[1]Sheet1!B354","v":"PSA"},{"$f":"[1]Sheet1!D354","v":0}]
[{"$f":"[1]Sheet1!A355","v":"Road Rage II"},{"$f":"[1]Sheet1!B355","v":"PSA"},{"$f":"[1]Sheet1!D355","v":0}]
[{"$f":"[1]Sheet1!A356","v":"Robotripping"},{"$f":"[1]Sheet1!B356","v":"PSA"},{"$f":"[1]Sheet1!D356","v":0}]
[{"$f":"[1]Sheet1!A357","v":"Route 666"},{"$f":"[1]Sheet1!B357","v":"PSA"},{"$f":"[1]Sheet1!D357","v":0}]
[{"$f":"[1]Sheet1!A358","v":"Running Red Lights"},{"$f":"[1]Sheet1!B358","v":"PSA"},{"$f":"[1]Sheet1!D358","v":0}]
[{"$f":"[1]Sheet1!A359","v":"Rural Roads"},{"$f":"[1]Sheet1!B359","v":"PSA"},{"$f":"[1]Sheet1!D359","v":0}]
[{"$f":"[1]Sheet1!A360","v":"Saving Matters"},{"$f":"[1]Sheet1!B360","v":"PSA"},{"$f":"[1]Sheet1!D360","v":0}]
[{"$f":"[1]Sheet1!A361","v":"Seat Belts"},{"$f":"[1]Sheet1!B361","v":"PSA"},{"$f":"[1]Sheet1!D361","v":0}]
[{"$f":"[1]Sheet1!A362","v":"Seatbelt Law"},{"$f":"[1]Sheet1!B362","v":"PSA"},{"$f":"[1]Sheet1!D362","v":0}]
[{"$f":"[1]Sheet1!A363","v":"Self-Assertiveness"},{"$f":"[1]Sheet1!B363","v":"PSA"},{"$f":"[1]Sheet1!D363","v":0}]
[{"$f":"[1]Sheet1!A364","v":"Serotonin Syndrome"},{"$f":"[1]Sheet1!B364","v":"PSA"},{"$f":"[1]Sheet1!D364","v":0}]
[{"$f":"[1]Sheet1!A365","v":"Sharks"},{"$f":"[1]Sheet1!B365","v":"PSA"},{"$f":"[1]Sheet1!D365","v":0}]
[{"$f":"[1]Sheet1!A366","v":"Shoplifting"},{"$f":"[1]Sheet1!B366","v":"PSA"},{"$f":"[1]Sheet1!D366","v":0}]
[{"$f":"[1]Sheet1!A367","v":"Single Serve Coffee"},{"$f":"[1]Sheet1!B367","v":"PSA"},{"$f":"[1]Sheet1!D367","v":0}]
[{"$f":"[1]Sheet1!A368","v":"Sink Hole"},{"$f":"[1]Sheet1!B368","v":"PSA"},{"$f":"[1]Sheet1!D368","v":0}]
[{"$f":"[1]Sheet1!A369","v":"Skin Cancer"},{"$f":"[1]Sheet1!B369","v":"PSA"},{"$f":"[1]Sheet1!D369","v":0}]
[{"$f":"[1]Sheet1!A370","v":"Skin Cancer and Tanning Salons"},{"$f":"[1]Sheet1!B370","v":"PSA"},{"$f":"[1]Sheet1!D370","v":0}]
[{"$f":"[1]Sheet1!A371","v":"Sleep"},{"$f":"[1]Sheet1!B371","v":"PSA"},{"$f":"[1]Sheet1!D371","v":0}]
[{"$f":"[1]Sheet1!A372","v":"Snakes"},{"$f":"[1]Sheet1!B372","v":"PSA"},{"$f":"[1]Sheet1!D372","v":0}]
[{"$f":"[1]Sheet1!A373","v":"Software Piracy"},{"$f":"[1]Sheet1!B373","v":"PSA"},{"$f":"[1]Sheet1!D373","v":0}]
[{"$f":"[1]Sheet1!A374","v":"Spay or Neuter"},{"$f":"[1]Sheet1!B374","v":"PSA"},{"$f":"[1]Sheet1!D374","v":0}]
[{"$f":"[1]Sheet1!A375","v":"Spinal Meningitis"},{"$f":"[1]Sheet1!B375","v":"PSA"},{"$f":"[1]Sheet1!D375","v":0}]
[{"$f":"[1]Sheet1!A376","v":"Stealing Food"},{"$f":"[1]Sheet1!B376","v":"PSA"},{"$f":"[1]Sheet1!D376","v":0}]
[{"$f":"[1]Sheet1!A377","v":"Stress Relief"},{"$f":"[1]Sheet1!B377","v":"PSA"},{"$f":"[1]Sheet1!D377","v":0}]
[{"$f":"[1]Sheet1!A378","v":"Sun Cancer Protection"},{"$f":"[1]Sheet1!B378","v":"PSA"},{"$f":"[1]Sheet1!D378","v":0}]
[{"$f":"[1]Sheet1!A379","v":"Sunburn Advice"},{"$f":"[1]Sheet1!B379","v":"PSA"},{"$f":"[1]Sheet1!D379","v":0}]
[{"$f":"[1]Sheet1!A380","v":"Supporting local Musicians"},{"$f":"[1]Sheet1!B380","v":"PSA"},{"$f":"[1]Sheet1!D380","v":0}]
[{"$f":"[1]Sheet1!A381","v":"Surviving a Traffic Stop"},{"$f":"[1]Sheet1!B381","v":"PSA"},{"$f":"[1]Sheet1!D381","v":0}]
[{"$f":"[1]Sheet1!A382","v":"SUV Problems"},{"$f":"[1]Sheet1!B382","v":"PSA"},{"$f":"[1]Sheet1!D382","v":0}]
[{"$f":"[1]Sheet1!A383","v":"Syphilis"},{"$f":"[1]Sheet1!B383","v":"PSA"},{"$f":"[1]Sheet1!D383","v":0}]
[{"$f":"[1]Sheet1!A384","v":"Tar Wars"},{"$f":"[1]Sheet1!B384","v":"PSA"},{"$f":"[1]Sheet1!D384","v":0}]
[{"$f":"[1]Sheet1!A385","v":"Tattoo Health"},{"$f":"[1]Sheet1!B385","v":"PSA"},{"$f":"[1]Sheet1!D385","v":0}]
[{"$f":"[1]Sheet1!A386","v":"Teen Obesity"},{"$f":"[1]Sheet1!B386","v":"PSA"},{"$f":"[1]Sheet1!D386","v":0}]
[{"$f":"[1]Sheet1!A387","v":"Test Anxiety"},{"$f":"[1]Sheet1!B387","v":"PSA"},{"$f":"[1]Sheet1!D387","v":0}]
[{"$f":"[1]Sheet1!A388","v":"Testicular Cancer"},{"$f":"[1]Sheet1!B388","v":"PSA"},{"$f":"[1]Sheet1!D388","v":0}]
[{"$f":"[1]Sheet1!A389","v":"Tetnus"},{"$f":"[1]Sheet1!B389","v":"PSA"},{"$f":"[1]Sheet1!D389","v":0}]
[{"$f":"[1]Sheet1!A390","v":"The Dangers of Social Media"},{"$f":"[1]Sheet1!B390","v":"PSA"},{"$f":"[1]Sheet1!D390","v":0}]
[{"$f":"[1]Sheet1!A391","v":"Theft Prevention"},{"$f":"[1]Sheet1!B391","v":"PSA"},{"$f":"[1]Sheet1!D391","v":0}]
[{"$f":"[1]Sheet1!A392","v":"Tinnitus"},{"$f":"[1]Sheet1!B392","v":"PSA"},{"$f":"[1]Sheet1!D392","v":0}]
[{"$f":"[1]Sheet1!A393","v":"Tip Your Delivery Driver"},{"$f":"[1]Sheet1!B393","v":"PSA"},{"$f":"[1]Sheet1!D393","v":0}]
[{"$f":"[1]Sheet1!A394","v":"Toad Licking"},{"$f":"[1]Sheet1!B394","v":"PSA"},{"$f":"[1]Sheet1!D394","v":0}]
[{"$f":"[1]Sheet1!A395","v":"Toilet Paper"},{"$f":"[1]Sheet1!B395","v":"PSA"},{"$f":"[1]Sheet1!D395","v":0}]
[{"$f":"[1]Sheet1!A396","v":"Too Many Cooks"},{"$f":"[1]Sheet1!B396","v":"PSA"},{"$f":"[1]Sheet1!D396","v":0}]
[{"$f":"[1]Sheet1!A397","v":"Tornado Safety"},{"$f":"[1]Sheet1!B397","v":"PSA"},{"$f":"[1]Sheet1!D397","v":0}]
[{"$f":"[1]Sheet1!A398","v":"Tread Wear"},{"$f":"[1]Sheet1!B398","v":"PSA"},{"$f":"[1]Sheet1!D398","v":0}]
[{"$f":"[1]Sheet1!A399","v":"Tresspassing I"},{"$f":"[1]Sheet1!B399","v":"PSA"},{"$f":"[1]Sheet1!D399","v":0}]
[{"$f":"[1]Sheet1!A400","v":"Tresspassing II"},{"$f":"[1]Sheet1!B400","v":"PSA"},{"$f":"[1]Sheet1!D400","v":0}]
[{"$f":"[1]Sheet1!A401","v":"Tropical Rain Forest"},{"$f":"[1]Sheet1!B401","v":"PSA"},{"$f":"[1]Sheet1!D401","v":0}]
[{"$f":"[1]Sheet1!A402","v":"Turn down the jams"},{"$f":"[1]Sheet1!B402","v":"PSA"},{"$f":"[1]Sheet1!D402","v":0}]
[{"$f":"[1]Sheet1!A403","v":"Turn Signals"},{"$f":"[1]Sheet1!B403","v":"PSA"},{"$f":"[1]Sheet1!D403","v":0}]
[{"$f":"[1]Sheet1!A404","v":"Ultrabra"},{"$f":"[1]Sheet1!B404","v":"PSA"},{"$f":"[1]Sheet1!D404","v":0}]
[{"$f":"[1]Sheet1!A405","v":"Underaged Drinking"},{"$f":"[1]Sheet1!B405","v":"PSA"},{"$f":"[1]Sheet1!D405","v":0}]
[{"$f":"[1]Sheet1!A406","v":"Vaccines"},{"$f":"[1]Sheet1!B406","v":"PSA"},{"$f":"[1]Sheet1!D406","v":0}]
[{"$f":"[1]Sheet1!A407","v":"Veggies"},{"$f":"[1]Sheet1!B407","v":"PSA"},{"$f":"[1]Sheet1!D407","v":0}]
[{"$f":"[1]Sheet1!A408","v":"Vending machines the violent killer"},{"$f":"[1]Sheet1!B408","v":"PSA"},{"$f":"[1]Sheet1!D408","v":0}]
[{"$f":"[1]Sheet1!A409","v":"Video Game Ratings"},{"$f":"[1]Sheet1!B409","v":"PSA"},{"$f":"[1]Sheet1!D409","v":0}]
[{"$f":"[1]Sheet1!A410","v":"voicemail"},{"$f":"[1]Sheet1!B410","v":"PSA"},{"$f":"[1]Sheet1!D410","v":0}]
[{"$f":"[1]Sheet1!A411","v":"Voter Turnout"},{"$f":"[1]Sheet1!B411","v":"PSA"},{"$f":"[1]Sheet1!D411","v":0}]
[{"$f":"[1]Sheet1!A412","v":"Wash Ur Hands"},{"$f":"[1]Sheet1!B412","v":"PSA"},{"$f":"[1]Sheet1!D412","v":0}]
[{"$f":"[1]Sheet1!A413","v":"Wash Your Hands"},{"$f":"[1]Sheet1!B413","v":"PSA"},{"$f":"[1]Sheet1!D413","v":0}]
[{"$f":"[1]Sheet1!A414","v":"Water Bottles"},{"$f":"[1]Sheet1!B414","v":"PSA"},{"$f":"[1]Sheet1!D414","v":0}]
[{"$f":"[1]Sheet1!A415","v":"Weight Lifting"},{"$f":"[1]Sheet1!B415","v":"PSA"},{"$f":"[1]Sheet1!D415","v":0}]
[{"$f":"[1]Sheet1!A416","v":"When You are Pulled Over"},{"$f":"[1]Sheet1!B416","v":"PSA"},{"$f":"[1]Sheet1!D416","v":0}]
[{"$f":"[1]Sheet1!A417","v":"Wine And A Chocolate"},{"$f":"[1]Sheet1!B417","v":"PSA"},{"$f":"[1]Sheet1!D417","v":0}]
[{"$f":"[1]Sheet1!A418","v":"Winter Holiday Safety"},{"$f":"[1]Sheet1!B418","v":"PSA"},{"$f":"[1]Sheet1!D418","v":0}]
[{"$f":"[1]Sheet1!A419","v":"WNS in Bats"},{"$f":"[1]Sheet1!B419","v":"PSA"},{"$f":"[1]Sheet1!D419","v":0}]
[{"$f":"[1]Sheet1!A420","v":"Zoophilia"},{"$f":"[1]Sheet1!B420","v":"PSA"},{"$f":"[1]Sheet1!D420","v":0}]

{"sheet":"Sheet4","index":2,"n_rows":10,"n_cols":11,"rows_kept":10,"cut":false,"hidden":true,"merged":[]}
["Air Time 60","21:04:00",{"$f":"B1","v":"21:04:00"},{"$f":"VLOOKUP(A1,[2]Sheet1!$A$2:$D$1000,3,TRUE)","v":"00:00:60"},{"$f":"B1+D1","v":"21:05:00"},{"$f":"E1","v":"21:05:00"},null,null,null,"00:00:00",":"]
["Karim 30","15:34:00",{"$f":"B2","v":"15:34:00"},{"$f":"VLOOKUP(A2,[2]Sheet1!$A$2:$D$1000,3,TRUE)","v":"00:00:60"},{"$f":"B2+D2","v":"15:35:00"},{"$f":"E2","v":"15:35:00"}]
["Tougher Than Tough 30","18:55:00",{"$f":"B3","v":"18:55:00"},{"$f":"VLOOKUP(A3,[2]Sheet1!$A$2:$D$1000,3,TRUE)","v":"00:01:00"},{"$f":"B3+D3","v":"18:56:00"},{"$f":"E3","v":"18:56:00"}]
["Rebekkah 30","01:33:00",{"$f":"B4","v":"01:33:00"},{"$f":"VLOOKUP(A4,[2]Sheet1!$A$2:$D$1000,3,TRUE)","v":"00:01:02"},{"$f":"B4+D4","v":"01:34:02"},{"$f":"E4","v":"01:34:02"}]
["Mailbox Decapitation","03:28:00",{"$f":"B5","v":"03:28:00"},{"$f":"VLOOKUP(A5,[2]Sheet1!$A$2:$D$1000,3,TRUE)","v":"00:00:30"},{"$f":"B5+D5","v":"03:28:30"},{"$f":"E5","v":"03:28:30"}]
["My Story Is Yours","13:55:00",{"$f":"B6","v":"13:55:00"},{"$f":"VLOOKUP(A6,[2]Sheet1!$A$2:$D$1000,3,TRUE)","v":"00:00:60"},{"$f":"B6+D6","v":"13:56:00"},{"$f":"E6","v":"13:56:00"}]
[null,null,{"$f":"B7","v":"00:00:00"},{"$f":"VLOOKUP(A7,[2]Sheet1!$A$2:$D$1000,3,TRUE)","v":{"$error":"#N/A"}},{"$f":"B7+D7","v":{"$error":"#N/A"}},{"$f":"E7","v":{"$error":"#N/A"}}]
[null,null,{"$f":"B8","v":"00:00:00"},{"$f":"VLOOKUP(A8,[2]Sheet1!$A$2:$D$1000,3,TRUE)","v":{"$error":"#N/A"}},{"$f":"B8+D8","v":{"$error":"#N/A"}},{"$f":"E8","v":{"$error":"#N/A"}}]
[null,null,{"$f":"B9","v":"00:00:00"},{"$f":"VLOOKUP(A9,[2]Sheet1!$A$2:$D$1000,3,TRUE)","v":{"$error":"#N/A"}},{"$f":"B9+D9","v":{"$error":"#N/A"}},{"$f":"E9","v":{"$error":"#N/A"}}]
[null,null,{"$f":"B10","v":"00:00:00"},{"$f":"VLOOKUP(A10,[2]Sheet1!$A$2:$D$1000,3,TRUE)","v":{"$error":"#N/A"}},{"$f":"B10+D10","v":{"$error":"#N/A"}},{"$f":"E10","v":{"$error":"#N/A"}}]

{"sheet":"Indivigual Program Log","index":3,"n_rows":273,"n_cols":3,"rows_kept":273,"cut":false,"hidden":false,"merged":[[0,0,0,2]]}
["Program Log"]
["Date","Program Type","Title (Start Time, End Time)"]
["1 Jan 2019","PSA",""]
["1 Jan 2019","Ascertainment",""]
["1 Jan 2019","Ad Council",""]
["2 Jan 2019","PSA",""]
["2 Jan 2019","Ascertainment",""]
["2 Jan 2019","Ad Council",""]
["3 Jan 2019","PSA",""]
["3 Jan 2019","Ascertainment",""]
["3 Jan 2019","Ad Council",""]
["4 Jan 2019","PSA",""]
["4 Jan 2019","Ascertainment",""]
["4 Jan 2019","Ad Council",""]
["5 Jan 2019","PSA",""]
["5 Jan 2019","Ascertainment",""]
["5 Jan 2019","Ad Council",""]
["6 Jan 2019","PSA",""]
["6 Jan 2019","Ascertainment",""]
["6 Jan 2019","Ad Council",""]
["7 Jan 2019","PSA",""]
["7 Jan 2019","Ascertainment",""]
["7 Jan 2019","Ad Council",""]
["8 Jan 2019","PSA",""]
["8 Jan 2019","Ascertainment",""]
["8 Jan 2019","Ad Council",""]
["9 Jan 2019","PSA",""]
["9 Jan 2019","Ascertainment",""]
["9 Jan 2019","Ad Council",""]
["10 Jan 2019","PSA",""]
["10 Jan 2019","Ascertainment",""]
["10 Jan 2019","Ad Council",""]
["11 Jan 2019","PSA",""]
["11 Jan 2019","Ascertainment",""]
["11 Jan 2019","Ad Council",""]
["12 Jan 2019","PSA",""]
["12 Jan 2019","Ascertainment",""]
["12 Jan 2019","Ad Council",""]
["13 Jan 2019","PSA",""]
["13 Jan 2019","Ascertainment",""]
["13 Jan 2019","Ad Council",""]
["14 Jan 2019","PSA",""]
["14 Jan 2019","Ascertainment",""]
["14 Jan 2019","Ad Council",""]
["15 Jan 2019","PSA",""]
["15 Jan 2019","Ascertainment",""]
["15 Jan 2019","Ad Council",""]
["16 Jan 2019","PSA",""]
["16 Jan 2019","Ascertainment",""]
["16 Jan 2019","Ad Council",""]
["17 Jan 2019","PSA",""]
["17 Jan 2019","Ascertainment",""]
["17 Jan 2019","Ad Council",""]
["18 Jan 2019","PSA",""]
["18 Jan 2019","Ascertainment",""]
["18 Jan 2019","Ad Council",""]
["19 Jan 2019","PSA",""]
["19 Jan 2019","Ascertainment",""]
["19 Jan 2019","Ad Council",""]
["20 Jan 2019","PSA",""]
["20 Jan 2019","Ascertainment",""]
["20 Jan 2019","Ad Council",""]
["21 Jan 2019","PSA",""]
["21 Jan 2019","Ascertainment",""]
["21 Jan 2019","Ad Council",""]
["22 Jan 2019","PSA",""]
["22 Jan 2019","Ascertainment",""]
["22 Jan 2019","Ad Council",""]
["23 Jan 2019","PSA",""]
["23 Jan 2019","Ascertainment",""]
["23 Jan 2019","Ad Council",""]
["24 Jan 2019","PSA",""]
["24 Jan 2019","Ascertainment",""]
["24 Jan 2019","Ad Council",""]
["25 Jan 2019","PSA",""]
["25 Jan 2019","Ascertainment",""]
["25 Jan 2019","Ad Council",""]
["26 Jan 2019","PSA",""]
["26 Jan 2019","Ascertainment",""]
["26 Jan 2019","Ad Council",""]
["27 Jan 2019","PSA",""]
["27 Jan 2019","Ascertainment",""]
["27 Jan 2019","Ad Council",""]
["28 Jan 2019","PSA",""]
["28 Jan 2019","Ascertainment",""]
["28 Jan 2019","Ad Council",""]
["29 Jan 2019","PSA",""]
["29 Jan 2019","Ascertainment",""]
["29 Jan 2019","Ad Council",""]
["30 Jan 2019","PSA",""]
["30 Jan 2019","Ascertainment",""]
["30 Jan 2019","Ad Council",""]
["31 Jan 2019","PSA",""]
["31 Jan 2019","Ascertainment",""]
["31 Jan 2019","Ad Council",""]
["1 Feb 2019","PSA",""]
["1 Feb 2019","Ascertainment",""]
["1 Feb 2019","Ad Council",""]
["2 Feb 2019","PSA",""]
["2 Feb 2019","Ascertainment",""]
["2 Feb 2019","Ad Council",""]
["3 Feb 2019","PSA",""]
["3 Feb 2019","Ascertainment",""]
["3 Feb 2019","Ad Council",""]
["4 Feb 2019","PSA",""]
["4 Feb 2019","Ascertainment",""]
["4 Feb 2019","Ad Council",""]
["5 Feb 2019","PSA",""]
["5 Feb 2019","Ascertainment",""]
["5 Feb 2019","Ad Council",""]
["6 Feb 2019","PSA",""]
["6 Feb 2019","Ascertainment",""]
["6 Feb 2019","Ad Council",""]
["7 Feb 2019","PSA",""]
["7 Feb 2019","Ascertainment",""]
["7 Feb 2019","Ad Council",""]
["8 Feb 2019","PSA",""]
["8 Feb 2019","Ascertainment",""]
["8 Feb 2019","Ad Council",""]
["9 Feb 2019","PSA",""]
["9 Feb 2019","Ascertainment",""]
["9 Feb 2019","Ad Council",""]
["10 Feb 2019","PSA",""]
["10 Feb 2019","Ascertainment",""]
["10 Feb 2019","Ad Council",""]
["11 Feb 2019","PSA",""]
["11 Feb 2019","Ascertainment",""]
["11 Feb 2019","Ad Council",""]
["12 Feb 2019","PSA",""]
["12 Feb 2019","Ascertainment",""]
["12 Feb 2019","Ad Council",""]
["13 Feb 2019","PSA",""]
["13 Feb 2019","Ascertainment",""]
["13 Feb 2019","Ad Council",""]
["14 Feb 2019","PSA",""]
["14 Feb 2019","Ascertainment",""]
["14 Feb 2019","Ad Council",""]
["15 Feb 2019","PSA",""]
["15 Feb 2019","Ascertainment",""]
["15 Feb 2019","Ad Council",""]
["16 Feb 2019","PSA",""]
["16 Feb 2019","Ascertainment",""]
["16 Feb 2019","Ad Council",""]
["17 Feb 2019","PSA","Winter Holiday Safety (5:29:00 PM, 5:30:42 PM), "]
["17 Feb 2019","Ascertainment","Lead (11:16:00 AM, 11:17:00 AM), Mailbox Decapitation (3:55:00 PM, 3:55:30 PM), "]
["17 Feb 2019","Ad Council","Driving Sounds 30 (3:20:00 PM, 3:20:30 PM), Don'T Wait 60 (11:34:00 AM, 11:35:00 AM), "]
["18 Feb 2019","PSA","Printing Papers (10:22:00 PM, 10:22:48 PM), Phobias (7:43:00 PM, 7:43:56 PM), Loud Music Ii (5:03:00 PM, 5:03:30 PM), Anti-Smoking (11:38:00 PM, 11:38:30 PM), "]
["18 Feb 2019","Ascertainment","Video Game Addiction (9:39:00 PM, 9:40:04 PM), Mstreccenter (3:27:00 PM, 3:28:00 PM), "]
["18 Feb 2019","Ad Council","Don'T Wait 60 (6:54:00 PM, 6:55:00 PM), Heroes 30 (3:12:00 PM, 3:12:30 PM), People You Know-Wordplay 60 (9:21:00 PM, 9:21:53 PM), "]
["19 Feb 2019","PSA","My Story Is Yours (12:48:00 AM, 12:49:00 AM), Seat Belts (1:25:00 PM, 1:28:01 PM), Passive Aggressiveness (9:15:00 AM, 9:15:53 AM), Put Dat Toilet Seat Down (7:51:00 PM, 7:52:02 PM), "]
["19 Feb 2019","Ascertainment","Moshpit Safety (3:02:00 AM, 3:03:00 AM), University Police (11:41:00 AM, 11:42:16 AM), Curbside Recycling Ii (3:35:00 PM, 3:36:00 PM), Frisbeegolf (9:53:00 PM, 9:54:00 PM), "]
["19 Feb 2019","Ad Council","Text And Whatever 15 (1:21:00 AM, 1:23:56 AM), Forest Trail (9:46:00 PM, 9:47:00 PM), 8 Kids A Day 30 (11:58:00 AM, 11:59:00 AM), Hurricane Relief 30 (3:26:00 PM, 3:27:00 PM), Rock T Shirt 30 (6:48:00 PM, 6:49:59 PM), "]
["20 Feb 2019","PSA","Furnace Filters (1:29:00 PM, 1:30:00 PM), Always With Me Sub Disorder (11:30:00 PM, 11:30:30 PM), Vin Check (5:16:00 PM, 5:17:10 PM), Tinnitus (7:46:00 PM, 7:47:06 PM), Home Mental Illness (10:32:00 PM, 10:32:30 PM), "]
["20 Feb 2019","Ascertainment","Band Ascertainment (3:49:00 PM, 3:50:00 PM), Senior Companions (11:33:00 AM, 11:36:01 AM), "]
["20 Feb 2019","Ad Council","Redwoods 30 (11:20:00 AM, 11:21:02 AM), 8 Kids A Day 30 (3:32:00 PM, 3:33:00 PM), Hot Cross Buns 30 (6:44:00 PM, 6:44:30 PM), "]
["21 Feb 2019","PSA","Bring A Pencil (5:31:00 AM, 5:32:00 AM), Anti-Smoking (10:45:00 PM, 10:45:30 PM), Route 666 (8:52:00 PM, 8:53:52 PM), Saving Matters (5:30:00 PM, 5:31:28 PM), Highway Driving Safety Tips (12:40:00 AM, 12:40:30 AM), Multi Level Marketing Scheme (11:46:00 PM, 11:47:00 PM), "]
["21 Feb 2019","Ascertainment","Mental Health Norwood (3:35:00 PM, 3:35:30 PM), "]
["21 Feb 2019","Ad Council","Fatherhood Involvement (1:44:00 AM, 1:45:00 AM), Dont Wait (12:00:00 PM, 12:01:00 PM), Earrings 60 (9:57:00 PM, 9:57:30 PM), Olivia Munn - Adopt Pure Love 30 (3:15:00 PM, 3:16:40 PM), House Ace 30 (4:27:00 AM, 4:27:30 AM), Questions 60 (6:55:00 PM, 6:56:02 PM), "]
["22 Feb 2019","PSA","Tinnitus (12:20:00 AM, 12:21:06 AM), Anti-Smoking (11:13:00 PM, 11:13:30 PM), Vaccines (1:05:00 PM, 1:08:24 PM), "]
["22 Feb 2019","Ascertainment","Epistemology (6:58:00 AM, 6:58:30 AM), University Police (3:46:00 PM, 3:47:16 PM), Don'T Be A Stalker (3:34:00 AM, 3:35:00 AM), "]
["22 Feb 2019","Ad Council","Guys Night Out - Moment 30 (7:23:00 AM, 7:24:00 AM), Save Your Life 30 (1:02:00 AM, 1:03:19 AM), Imagine 30 (9:52:00 PM, 9:53:00 PM), Sleep 15 (3:45:00 PM, 3:46:04 PM), "]
["23 Feb 2019","PSA","Wash Ur Hands (12:55:00 AM, 12:55:52 AM), Best Buddies (5:10:00 PM, 5:10:30 PM), Check Your Boots (7:20:00 PM, 7:20:30 PM), Drunk Driving (11:38:00 PM, 11:38:30 PM), Drink Milk (10:18:00 PM, 10:19:00 PM), "]
["23 Feb 2019","Ascertainment","Rolla Winter Activities (9:49:00 PM, 9:50:59 PM), Mailbox Decapitation (3:40:00 AM, 3:40:30 AM), "]
["23 Feb 2019","Ad Council","Marco 60 (6:39:00 PM, 6:39:30 PM), Know Your Girls 60 (12:54:00 AM, 12:55:00 AM), Olivia Munn - Adopt Pure Love 30 (9:16:00 PM, 9:17:40 PM), "]
["24 Feb 2019","PSA","Dont Die From The Cold (7:57:00 PM, 7:58:00 PM), Be Aware Of What You Say (11:22:00 PM, 11:23:00 PM), Loud Music Ii (10:56:00 PM, 10:56:30 PM), Tinnitus (5:10:00 PM, 5:11:06 PM), Go To Class (12:45:00 AM, 12:46:00 AM), "]
["24 Feb 2019","Ascertainment","Senior Companions (3:45:00 PM, 3:48:01 PM), Electric Car (9:52:00 PM, 9:52:30 PM), "]
["24 Feb 2019","Ad Council","Redwoods 30 (3:31:00 PM, 3:32:02 PM), Prediabetes Test 60 (9:51:00 PM, 9:52:04 PM), Jackie 60 (1:41:00 AM, 1:42:00 AM), Hbp Numbers 30 (6:49:00 PM, 6:49:30 PM), "]
["25 Feb 2019","PSA","Vin Check (10:03:00 PM, 10:04:10 PM), Rural Ro (12:49:00 AM, 12:50:30 AM), Rural Roads (7:32:00 PM, 7:33:19 PM), Be Aware Of What You Say (5:01:00 PM, 5:02:00 PM), Tektite 1 (10:09:00 AM, 10:11:56 AM), Texting And Driving (11:35:00 PM, 11:35:54 PM), "]
["25 Feb 2019","Ascertainment","Rolla Farmers Market (7:24:00 AM, 7:25:59 AM), Missouri Caves (3:29:00 PM, 3:30:00 PM), Electric Car (9:51:00 PM, 9:51:30 PM), Mailbox Decapitation (11:13:00 AM, 11:13:30 AM), "]
["25 Feb 2019","Ad Council","The Probablys 60 (7:40:00 AM, 7:40:56 AM), Change Of Plans - Flood 30 (7:11:00 PM, 7:12:00 PM), Power Suit 60 (1:24:00 AM, 1:25:04 AM), Marco 60 (9:23:00 PM, 9:23:30 PM), Redwoods 60 (3:14:00 PM, 3:15:02 PM), Rebekkah 30 (11:29:00 AM, 11:30:02 AM), "]
["26 Feb 2019","PSA","Vaccines (5:03:00 PM, 5:06:24 PM), Loud Music Ii (12:42:00 AM, 12:42:30 AM), Route 666 (9:12:00 AM, 9:13:52 AM), "]
["26 Feb 2019","Ascertainment","Don'T Be A Stalker (9:42:00 PM, 9:43:00 PM), Habitat For Humanity Ii (11:35:00 AM, 11:35:30 AM), Drunk Driving (3:34:00 AM, 3:34:30 AM), Go Outside (3:37:00 PM, 3:38:00 PM), "]
["26 Feb 2019","Ad Council","Olivia Munn - Adopt Pure Love 30 (3:15:00 PM, 3:16:40 PM), Questions 60 (9:33:00 PM, 9:34:02 PM), Moments 30 (6:41:00 PM, 6:41:30 PM), Pool Party 30 (11:26:00 AM, 11:27:04 AM), Air Time 30 (1:51:00 AM, 1:52:00 AM), "]
["27 Feb 2019","PSA","Too Many Cooks (12:45:00 AM, 12:46:00 AM), No Metal In The Microwave (9:25:00 AM, 9:26:40 AM), Local Awareness (7:08:00 PM, 7:09:00 PM), Tattoo Health (1:41:00 PM, 1:43:56 PM), Vaccines (10:16:00 PM, 10:19:24 PM), Seat Belts (11:01:00 PM, 11:04:01 PM), "]
["27 Feb 2019","Ascertainment","Student Success Center (11:26:00 AM, 11:26:56 AM), Mstreccenter (3:49:00 PM, 3:50:00 PM), Lead (9:57:00 PM, 9:58:00 PM), Frisbeegolf (8:43:00 AM, 8:44:00 AM), "]
["27 Feb 2019","Ad Council","Redwoods 30 (1:25:00 AM, 1:26:02 AM), Hbp Numbers 60 (3:27:00 PM, 3:27:30 PM), Bear Hug - Campfire 60 (6:36:00 PM, 6:37:00 PM), Jackie 60 (11:42:00 AM, 11:43:00 AM), Bear Hug - Campfire 30 (9:57:00 PM, 9:58:00 PM), "]
["28 Feb 2019","PSA","Shoplifting (11:50:00 PM, 11:51:35 PM), Moshing (1:40:00 PM, 1:41:00 PM), Moshipit Safety (10:37:00 PM, 10:38:00 PM), Healthy Eating (5:29:00 PM, 5:29:30 PM), Always With Me Sub Disorder (12:20:00 AM, 12:20:30 AM), Inline Skating Safety (7:45:00 PM, 7:45:30 PM), "]
["28 Feb 2019","Ascertainment","National Audubon Society (11:05:00 AM, 11:06:00 AM), St. Pats Advice (9:54:00 PM, 9:55:04 PM), Rolla Winter Activities (3:37:00 PM, 3:38:59 PM), "]
["28 Feb 2019","Ad Council","Save Your Life 30 (6:41:00 PM, 6:42:19 PM), Forest Trail 15 (1:03:00 AM, 1:04:00 AM), Know Your Girls 30 (9:53:00 PM, 9:54:00 PM), Bear Hug - Campfire 60 (4:31:00 AM, 4:32:00 AM), Short Drive 15 (11:05:00 AM, 11:06:35 AM), Pavlov Purpose 60 (3:13:00 PM, 3:13:53 PM), "]
["1 Mar 2019","PSA","Pets In Cars (5:35:00 PM, 5:35:34 PM), "]
["1 Mar 2019","Ascertainment","Skatepark (9:57:00 PM, 9:58:41 PM), Bowling (3:31:00 PM, 3:31:30 PM), Rolla Animal Shelter I (11:44:00 AM, 11:45:59 AM), Mailbox Decapitation (3:02:00 AM, 3:02:30 AM), "]
["1 Mar 2019","Ad Council","Olivia Munn - Adopt Pure Love 15 (11:46:00 AM, 11:47:40 AM), Olivia Munn - Adopt Pure Love 30 (1:24:00 AM, 1:25:40 AM), Imagine 30 (6:59:00 PM, 7:00:00 PM), Rachael Ray 2 60 (3:31:00 PM, 3:32:02 PM), Carissa 30 (9:53:00 PM, 9:54:00 PM), "]
["2 Mar 2019","PSA","Mono (9:52:00 AM, 9:53:00 AM), Home Mental Illness (7:48:00 PM, 7:48:30 PM), Single Serve Coffee (1:17:00 PM, 1:18:02 PM), Call Your Mom (12:55:00 AM, 12:56:00 AM), Best Buddies (11:31:00 PM, 11:31:30 PM), Go To Class (10:27:00 PM, 10:28:00 PM), "]
["2 Mar 2019","Ascertainment","Don'T Be A Stalker (3:33:00 AM, 3:34:00 AM), "]
["2 Mar 2019","Ad Council","Short Drive 30 (9:24:00 PM, 9:25:35 PM), 8 Kids A Day 30 (11:53:00 AM, 11:54:00 AM), Kiddie Music 30 (6:25:00 PM, 6:26:00 PM), Rebekkah 30 (1:53:00 AM, 1:54:02 AM), "]
["3 Mar 2019","PSA","Route 666 (1:30:00 PM, 1:31:52 PM), Vaccines (5:43:00 PM, 5:46:24 PM), Go To Class (10:42:00 PM, 10:43:00 PM), No Metal In The Microwave (7:21:00 PM, 7:22:40 PM), Fake News (11:13:00 PM, 11:14:00 PM), "]
["3 Mar 2019","Ascertainment","Rolla Farmers Market (3:11:00 PM, 3:12:59 PM), St. Pats Advice (9:55:00 PM, 9:56:04 PM), "]
["3 Mar 2019","Ad Council","The Probablys 60 (9:56:00 PM, 9:56:56 PM), Pavlov Purpose 60 (3:07:00 PM, 3:07:53 PM), Passengers 30 (1:36:00 AM, 1:36:44 AM), Rebekkah 30 (6:57:00 PM, 6:58:02 PM), "]
["4 Mar 2019","PSA","Dont Die From The Cold (7:53:00 PM, 7:54:00 PM), Drug Free (5:01:00 PM, 5:01:30 PM), Bring A Pencil (9:41:00 AM, 9:42:00 AM), Single Serve Coffee (1:16:00 PM, 1:17:02 PM), Call Your Mom (10:57:00 PM, 10:58:00 PM), Be Aware Of What You Say (10:04:00 PM, 10:05:00 PM), "]
["4 Mar 2019","Ascertainment","National Audubon Society (3:38:00 PM, 3:39:00 PM), Rolla Farmers Market (9:49:00 PM, 9:50:59 PM), Lead Tutor (11:16:00 AM, 11:17:00 AM), Electric Car (7:25:00 AM, 7:25:30 AM), "]
["4 Mar 2019","Ad Council","Best Vs Standard 30 (3:23:00 PM, 3:23:30 PM), Redwoods 30 (7:41:00 AM, 7:42:02 AM), Danica Patrick 30 (6:45:00 PM, 6:46:00 PM), Missed Opportunity 60 (9:14:00 PM, 9:15:00 PM), Driving Sounds 30 (11:22:00 AM, 11:22:30 AM), "]
["5 Mar 2019","PSA","Winter Holiday Safety (12:42:00 AM, 12:43:42 AM), Parking Etiquette (5:15:00 PM, 5:15:44 PM), Passive Aggressiveness (9:16:00 AM, 9:16:53 AM), Vaccines (1:58:00 PM, 2:01:24 PM), Don'T Be A D (10:52:00 PM, 10:53:00 PM), Put Dat Toilet Seat Down (11:56:00 PM, 11:57:02 PM), "]
["5 Mar 2019","Ascertainment","Skatepark (9:41:00 PM, 9:42:41 PM), Rolla Winter Activities (11:30:00 AM, 11:31:59 AM), Lead (3:34:00 PM, 3:35:00 PM), Turn Down Your Ding Dang Speakers (3:34:00 AM, 3:35:06 AM), "]
["5 Mar 2019","Ad Council","Tickle Fight 30 (9:41:00 PM, 9:41:56 PM), Laila Ali 60 (3:05:00 PM, 3:06:00 PM), Short Drive 60 (6:44:00 PM, 6:45:35 PM), Indoor Baseball 30 (11:49:00 AM, 11:49:30 AM), One More 30 (1:30:00 AM, 1:31:40 AM), "]
["6 Mar 2019","PSA","Vaccines (11:29:00 PM, 11:32:24 PM), Too Many Cooks (7:44:00 PM, 7:45:00 PM), Underaged Drinking (12:18:00 AM, 12:19:16 AM), Single Serve Coffee (5:17:00 PM, 5:18:02 PM), Call Your Mom (1:43:00 PM, 1:44:00 PM), Go To Class (9:36:00 AM, 9:37:00 AM), "]
["6 Mar 2019","Ascertainment","Student Success Center (9:25:00 PM, 9:25:56 PM), Alcohol Sexual Assault (3:47:00 PM, 3:48:00 PM), Mailbox Decapitation (7:24:00 AM, 7:24:30 AM), "]
["6 Mar 2019","Ad Council","Short Drive 30 (7:44:00 AM, 7:45:35 AM), Dancia Patrick  (9:24:00 PM, 9:25:00 PM), Text And Whatever 60 (6:58:00 PM, 7:00:56 PM), One More 30 (1:30:00 AM, 1:31:40 AM), "]
["7 Mar 2019","PSA","Too Many Cooks (9:37:00 AM, 9:38:00 AM), No Metal In The Microwave (7:47:00 PM, 7:48:40 PM), Moshing (5:31:00 AM, 5:32:00 AM), Net Neutrality (5:25:00 PM, 5:27:20 PM), Printing Papers (1:41:00 PM, 1:41:48 PM), Drunk Driving (12:29:00 AM, 12:29:30 AM), "]
["7 Mar 2019","Ascertainment","Recycling (9:51:00 PM, 9:52:02 PM), Go Outside (3:34:00 PM, 3:35:00 PM), Missouri Caves (11:28:00 AM, 11:29:00 AM), "]
["7 Mar 2019","Ad Council","Buzzed Driving Prevention (1:39:00 AM, 1:40:00 AM), Indoor Baseball 30 (3:15:00 PM, 3:15:30 PM), Imagine 30 (11:41:00 AM, 11:42:00 AM), Preparedness Hero - Karen 30 (9:51:00 PM, 9:52:04 PM), Rebekkah 30 (4:26:00 AM, 4:27:02 AM), Indoor Baseball 15 (6:49:00 PM, 6:50:00 PM), "]
["8 Mar 2019","PSA","Homophones (7:35:00 PM, 7:35:30 PM), Parking Etiquette (5:24:00 PM, 5:24:44 PM), Home Mental Illness (11:19:00 PM, 11:19:30 PM), Bee Swarm (11:21:00 PM, 11:22:00 PM), Dont Swear In Front Of The Children (12:20:00 AM, 12:21:00 AM), Flat Earth (5:32:00 AM, 5:32:30 AM), "]
["8 Mar 2019","Ascertainment","Rolla Leash Laws (11:33:00 AM, 11:34:59 AM), Renaissance Man Scholarship (3:34:00 PM, 3:35:39 PM), Recycling (3:40:00 AM, 3:41:02 AM), Mstreccenter (10:01:00 PM, 10:02:00 PM), London Exchange (7:17:00 AM, 7:18:00 AM), "]
["8 Mar 2019","Ad Council","Rachel Ray 30 (3:15:00 PM, 3:16:02 PM), They'Ll Find It 30 (9:58:00 PM, 9:58:56 PM), Bear Hug - Campfire 60 (11:57:00 AM, 11:58:00 AM), Best In Show - Dog 60 (1:10:00 AM, 1:10:30 AM), Adc_Aut_Smiles_Eng_60 (7:31:00 AM, 7:31:30 AM), One More 30 (6:56:00 PM, 6:57:40 PM), "]
["9 Mar 2019","PSA","Running Red Lights (11:34:00 PM, 11:35:30 PM), "]
["9 Mar 2019","Ascertainment","University Police (9:35:00 PM, 9:36:16 PM), Bowling (11:46:00 AM, 11:46:30 AM), "]
["9 Mar 2019","Ad Council","Hurricane Relief 30 (11:46:00 AM, 11:47:00 AM), Rebekkah 30 (6:18:00 PM, 6:19:02 PM), Pool Party 30 (9:03:00 PM, 9:04:04 PM), "]
["10 Mar 2019","PSA","Vin Check (1:30:00 PM, 1:31:10 PM), Loud Music Ii (5:05:00 PM, 5:05:30 PM), Texting And Driving (11:06:00 PM, 11:06:54 PM), Drunk Driving (7:55:00 PM, 7:55:30 PM), Drowsy Driving (11:45:00 PM, 11:45:30 PM), "]
["10 Mar 2019","Ascertainment","Mst Music (9:42:00 PM, 9:43:00 PM), St. Pats Advice (3:50:00 PM, 3:51:04 PM), "]
["10 Mar 2019","Ad Council","Pool Party (3:25:00 PM, 3:26:04 PM), The Probablys 60 (6:57:00 PM, 6:57:56 PM), Indoor Baseball 30 (9:39:00 PM, 9:39:30 PM), "]
["11 Mar 2019","PSA","Drunk Driving (11:10:00 PM, 11:10:30 PM), Drive Carefully Or Pay Deerly (5:01:00 PM, 5:02:00 PM), Campground Etiquette (10:21:00 PM, 10:22:00 PM), Tinnitus (7:44:00 PM, 7:45:06 PM), Underaged Drinking (12:19:00 AM, 12:20:16 AM), "]
["11 Mar 2019","Ascertainment","St. Pats Advice (7:23:00 AM, 7:24:04 AM), "]
["11 Mar 2019","Ad Council","Look Down 30 (11:37:00 AM, 11:37:30 AM), Pool Party 30 (7:55:00 AM, 7:56:04 AM), "]
["12 Mar 2019","PSA","Shoplifting (11:47:00 PM, 11:48:35 PM), Brush Your Teeth (12:36:00 AM, 12:37:00 AM), "]
["12 Mar 2019","Ascertainment","Rolla Public Library (9:51:00 PM, 9:52:59 PM), Earthquake Safety (11:37:00 AM, 11:37:30 AM), Turn Down Your Ding Dang Speakers (4:13:00 AM, 4:14:06 AM), "]
["12 Mar 2019","Ad Council","Lgbt Acceptance (11:47:00 AM, 11:47:30 AM), Probably 60 (9:51:00 PM, 9:51:48 PM), Hbp Numbers 30 (1:26:00 AM, 1:26:30 AM), "]
["13 Mar 2019","PSA","Vaccines (9:46:00 AM, 9:49:24 AM), "]
["13 Mar 2019","Ascertainment","Climbing Club (3:40:00 PM, 3:41:00 PM), Mailbox Decapitation (9:42:00 PM, 9:42:30 PM), "]
["13 Mar 2019","Ad Council","One More 30 (9:23:00 PM, 9:24:40 PM), In Their Own Words 60 (6:51:00 PM, 6:52:00 PM), Heroes 60 (3:09:00 PM, 3:09:30 PM), "]
["14 Mar 2019","PSA","Don'T Be A D (7:20:00 PM, 7:21:00 PM), Loud Music Ii (1:36:00 PM, 1:36:30 PM), Drink Milk (5:01:00 PM, 5:02:00 PM), "]
["14 Mar 2019","Ascertainment","Video Game Addiction (7:18:00 AM, 7:19:04 AM), Mental Health (11:26:00 AM, 11:26:30 AM), "]
["14 Mar 2019","Ad Council","Hbp Numbers 15 (7:42:00 AM, 7:42:30 AM), The Probablys 60 (6:22:00 PM, 6:22:56 PM), Imagine-30 (11:49:00 AM, 11:50:00 AM), "]
["15 Mar 2019","PSA","Don'T Die From The Cold (10:33:00 PM, 10:34:00 PM), Cellphones At Concerts (5:29:00 PM, 5:29:30 PM), Drunk Driving (12:59:00 PM, 12:59:30 PM), Autoerotic Asphyxiation (11:33:00 PM, 11:34:00 PM), "]
["15 Mar 2019","Ascertainment","Turn Down Your Ding Dang Speakers (9:28:00 PM, 9:29:06 PM), "]
["15 Mar 2019","Ad Council","Lgbt Acceptance (6:43:00 PM, 6:43:30 PM), Indoor Baseball 30 (9:28:00 PM, 9:28:30 PM), "]
["16 Mar 2019","PSA","Sharks  (10:53:00 PM, 10:54:01 PM), Loud Music Ii (11:46:00 PM, 11:46:30 PM), Drunk Driving (5:12:00 PM, 5:12:30 PM), Be Aware Of What You Say (12:30:00 AM, 12:31:00 AM), Don'T Swear In Front Of The Children (7:25:00 PM, 7:26:00 PM), "]
["16 Mar 2019","Ascertainment",""]
["16 Mar 2019","Ad Council","8 Kids A Day 30 (6:43:00 PM, 6:44:00 PM), Goo Goo Dolls 60 (1:08:00 AM, 1:09:00 AM), "]
["17 Mar 2019","PSA","Wash Ur Hands (1:35:00 PM, 1:35:52 PM), My Story Is Yours (7:29:00 PM, 7:30:00 PM), Autoerotic Asphyxiation (11:39:00 PM, 11:40:00 PM), Sleep (10:57:00 PM, 10:58:04 PM), Home Mental Illness (5:51:00 PM, 5:51:30 PM), "]
["17 Mar 2019","Ascertainment","Freshman 50 (9:32:00 PM, 9:33:00 PM), "]
["17 Mar 2019","Ad Council","Karim 30 (6:00:00 PM, 6:01:00 PM), Don'T Wait 60 (9:33:00 PM, 9:34:00 PM), "]
["18 Mar 2019","PSA","Stealing Food (7:49:00 PM, 7:49:56 PM), Parking Etiquette (12:27:00 AM, 12:27:44 AM), Anti-Smoking (5:00:00 PM, 5:00:30 PM), Be Aware Of What You Say (10:57:00 PM, 10:58:00 PM), Call Your Mom (1:22:00 PM, 1:23:00 PM), "]
["18 Mar 2019","Ascertainment","Don'T Be A Stalker (9:41:00 PM, 9:42:00 PM), Frisbeegolf (10:59:00 AM, 11:00:00 AM), "]
["18 Mar 2019","Ad Council","Best In Show - Dog 30 (6:35:00 PM, 6:35:30 PM), Forest Trail 30 (3:12:00 PM, 3:13:00 PM), Text And Whatever 60 (1:19:00 AM, 1:21:56 AM), "]
["19 Mar 2019","PSA","Pets In Cars (7:14:00 PM, 7:14:34 PM), Drug Free (11:42:00 PM, 11:42:30 PM), Bring A Pencil (9:23:00 AM, 9:24:00 AM), Printing Papers (10:48:00 PM, 10:48:48 PM), Loud Music I (12:47:00 AM, 12:47:30 AM), Be Aware Of What You Say (1:41:00 PM, 1:42:00 PM), "]
["19 Mar 2019","Ascertainment","Recycle (3:50:00 AM, 3:51:02 AM), Lead (9:27:00 PM, 9:28:00 PM), International Student Perspective (3:56:00 PM, 3:57:00 PM), Rolla Animal Shelter I (11:39:00 AM, 11:40:59 AM), "]
["19 Mar 2019","Ad Council","Look Down 30 (11:46:00 AM, 11:46:30 AM), Lgbt Acceptance (9:14:00 PM, 9:14:30 PM), Heroes 30 (1:26:00 AM, 1:26:30 AM), Indoor Baseball 15 (6:55:00 PM, 6:56:00 PM), Rising Ashes - Chains 60 (3:14:00 PM, 3:15:39 PM), "]
["20 Mar 2019","PSA","Tinnitus (7:29:00 PM, 7:30:06 PM), Parking Etiquette (9:26:00 AM, 9:26:44 AM), Loud Music Ii (11:24:00 PM, 11:24:30 PM), Anti-Smoking (1:24:00 PM, 1:24:30 PM), Vaccines (5:15:00 PM, 5:18:24 PM), Furnace Filters (12:20:00 AM, 12:21:00 AM), "]
["20 Mar 2019","Ascertainment","Renissance Man Scholarship (7:32:00 AM, 7:33:39 AM), Missouri Caves (9:16:00 PM, 9:17:00 PM), International Student Perspective (3:51:00 PM, 3:52:00 PM), Freshmen Homesickness (11:23:00 AM, 11:24:00 AM), "]
["20 Mar 2019","Ad Council","People You Know Wordplay-60 (7:48:00 AM, 7:48:53 AM), Rock T Shirt 30 (6:06:00 PM, 6:07:59 PM), Gun Safety They'Ll Find It (9:15:00 PM, 9:16:00 PM), Bear Hug - Campfire 60 (11:41:00 AM, 11:42:00 AM), Tea Pot - Moment 30 (1:11:00 AM, 1:13:56 AM), Rebekkah 30 (3:20:00 PM, 3:21:02 PM), "]
["21 Mar 2019","PSA","Highway Accidents (5:38:00 AM, 5:38:30 AM), Monobola (9:48:00 AM, 9:49:00 AM), Route 666 (5:21:00 PM, 5:22:52 PM), Go To Class (12:49:00 AM, 12:50:00 AM), Seatbelt Law (8:51:00 PM, 8:54:01 PM), "]
["21 Mar 2019","Ascertainment","Student Success Center (3:41:00 PM, 3:41:56 PM), Freshman Homesickness (9:54:00 PM, 9:55:00 PM), Don'T Be A Stalker (11:21:00 AM, 11:22:00 AM), "]
["21 Mar 2019","Ad Council","Pavlov Purpose 60 (6:58:00 PM, 6:58:53 PM), Save Your Life 30 (1:54:00 AM, 1:55:19 AM), Don'T Wait 60 (3:17:00 PM, 3:18:00 PM), Text And Whatever 30 (11:43:00 AM, 11:45:56 AM), Rising Ashes - Chains 60 (4:40:00 AM, 4:41:39 AM), "]
["22 Mar 2019","PSA","Multi Level Marketing Scheme (12:18:00 AM, 12:19:00 AM), Vending Machines The Violent Killer (1:20:00 PM, 1:21:04 PM), Breast Cancer (7:23:00 PM, 7:24:00 PM), Dumpster Diving (11:29:00 PM, 11:29:30 PM), Turn Signals (10:57:00 PM, 10:58:33 PM), "]
["22 Mar 2019","Ascertainment","Rolla Public Library (3:28:00 PM, 3:29:59 PM), Mental Health Norwood (4:10:00 AM, 4:10:30 AM), Rolla Animal Shelter I (9:47:00 PM, 9:48:59 PM), "]
["22 Mar 2019","Ad Council","Bear Hug - Campfire 30 (6:06:00 PM, 6:07:00 PM), In Their Own Words 30 (9:47:00 PM, 9:47:30 PM), Rebekkah 30 (1:11:00 AM, 1:12:02 AM), Air Time 30 (3:16:00 PM, 3:17:00 PM), "]
["23 Mar 2019","PSA","Family Mental Illness (12:51:00 AM, 12:52:00 AM), "]
["23 Mar 2019","Ascertainment","Turn Down Your Ding Dang Speakers (11:57:00 AM, 11:58:06 AM), "]
["23 Mar 2019","Ad Council","8 Kids A Day 30 (11:45:00 AM, 11:46:00 AM), Mstreccenter (2:03:00 AM, 2:04:00 AM), "]
["24 Mar 2019","PSA","Fake News (12:59:00 AM, 1:00:00 AM), No Metal In The Microwave (5:38:00 PM, 5:39:40 PM), Rural Roads (11:06:00 PM, 11:07:19 PM), Vending Machines The Violent Killer (10:16:00 PM, 10:17:04 PM), Monobola (9:32:00 AM, 9:33:00 AM), My Story Is Yours (1:55:00 PM, 1:56:00 PM), "]
["24 Mar 2019","Ascertainment","Student Success Center (9:12:00 PM, 9:12:56 PM), Turn Down Your Ding Dang Speakers (3:04:00 PM, 3:05:06 PM), Go Outside (11:27:00 AM, 11:28:00 AM), International Student Perspective (7:09:00 AM, 7:10:00 AM), Mailbox Decapitation (3:28:00 AM, 3:28:30 AM), "]
["24 Mar 2019","Ad Council","Hundo P 30 (4:16:00 AM, 4:17:00 AM), Redwoods 60 (11:27:00 AM, 11:28:02 AM), Jackie 60 (9:12:00 PM, 9:13:00 PM), Hurricane Relief 30 (3:03:00 PM, 3:04:00 PM), "]
["25 Mar 2019","PSA","Bear Selfie (12:36:00 AM, 12:37:00 AM), "]
["25 Mar 2019","Ascertainment",""]
["25 Mar 2019","Ad Council","Bear Hug - Campfire 60 (1:36:00 AM, 1:37:00 AM), "]
["26 Mar 2019","PSA","Sleep (11:17:00 PM, 11:18:04 PM), No Metal In The Microwave (10:09:00 PM, 10:10:40 PM), "]
["26 Mar 2019","Ascertainment","Video Game Addiction (9:25:00 PM, 9:26:04 PM), "]
["26 Mar 2019","Ad Council","Jelly 30 (9:09:00 PM, 9:10:00 PM), "]
["27 Mar 2019","PSA","Wash Ur Hands (12:03:00 AM, 12:03:52 AM), "]
["27 Mar 2019","Ascertainment",""]
["27 Mar 2019","Ad Council","Marco 60 (1:29:00 AM, 1:29:30 AM), "]
["28 Mar 2019","PSA","Don'T Be A D (7:24:00 PM, 7:25:00 PM), "]
["28 Mar 2019","Ascertainment","University Police (3:28:00 PM, 3:29:16 PM), "]
["28 Mar 2019","Ad Council","Hurricane Relief 30 (3:29:00 PM, 3:30:00 PM), Jackie 60 (6:42:00 PM, 6:43:00 PM), "]
["29 Mar 2019","PSA","Vaccines (7:31:00 PM, 7:34:24 PM), Drug Free (11:39:00 PM, 11:39:30 PM), Call Your Mom? (I Bar, #VALUE!), "]
["29 Mar 2019","Ascertainment",""]
["29 Mar 2019","Ad Council","Forest Trail 30 (6:44:00 PM, 6:45:00 PM), "]
["30 Mar 2019","PSA","Ibs (5:15:00 PM, 5:16:00 PM), Campground Etiquette (1:35:00 PM, 1:36:00 PM), "]
["30 Mar 2019","Ascertainment","Mailbox Decapitation (3:33:00 PM, 3:33:30 PM), "]
["30 Mar 2019","Ad Council","People You Know-Wordplay 15 (3:04:00 PM, 3:04:53 PM), "]
["31 Mar 2019","PSA","Bee Swarm (7:35:00 PM, 7:36:00 PM), Pink Elephant (1:20:00 PM, 1:21:04 PM), College Campus Squirrels (1:33:00 AM, 1:34:00 AM), Home Mental Illness (5:08:00 PM, 5:08:30 PM), "]
["31 Mar 2019","Ascertainment","High School (3:56:00 PM, 3:56:30 PM), Stressless Room (9:03:00 PM, 9:03:56 PM), "]
["31 Mar 2019","Ad Council","Air Time 60 (9:04:00 PM, 9:05:00 PM), Karim 30 (3:34:00 PM, 3:35:00 PM), Tougher Than Tough 30 (6:55:00 PM, 6:56:00 PM), Rebekkah 30 (1:33:00 AM, 1:34:02 AM), "]
[null,null,""]