{"text_format":"1","workbook":"xlsx","n_sheets":4,"sheets":["Daily Programs","Indivigual Programs","Sheet4","Indivigual Program Log"],"not_rendered":{"charts":0,"images":0,"macros":1,"external_links":1,"defined_names":0,"comments":0,"pivot_tables":0},"unopened":[],"bounds":{"document_bytes":16777216,"sheet_cells":100000,"rows_first":2000,"rows_last":500,"rows_between":2000,"halvings":0,"cell_chars":16384,"cell_head_chars":4096},"cells_cut":0,"cells_raw":0,"read":"whole","date_system":"1900"}

{"sheet":"Daily Programs","index":0,"n_rows":10,"n_cols":3,"rows_kept":10,"cut":false,"hidden":false,"merged":[[0,0,0,2]]}
["Daily Programs"]
["Program","Air Times","Description"]
["News & Weather","8:00 AM, 12:00 PM, 4:00 PM, 8:00 PM","Local Weather Forcast and reading of current news"]
["PSA","12:00 AM, 5:00AM, 9:00 AM, 1:00 PM, 5:00 PM, 7:00 PM","Public Service Announcements produced by KMNR DJs that cover a variety of topics"]
["Ad Council","1:00 AM, 7:00 AM, 11:00 AM, 3:00 PM, 6:00 PM, 9:00 PM","Public Service Announcements produced by the Ad Council that cover a variety of topics"]
["Profile America","2:00 AM, 6:00 AM, 10:00 AM, 2:00 PM, 11:00 PM","Daily vignettes about events, commemerations, or observences for that day"]
["Ascertainment","3:00 AM, 7:00 AM, 11:00 AM, 3:00 PM, 9:00 PM","Programs produced by KMNR DJs about services and activities in the Rolla area"]
["Town and Campus","6:00 AM, 10:00 AM, 2:00 PM, 6:00 PM, 10:00 PM","Listener submited announcements of activites and events in the Rolla area"]
["Science and the Sea","8:00 AM, 12:00 PM, 4:00 PM, 8:00 PM","A presentation of marine science topics produced by the University of Texas Marine Sceince Institute"]
["Concert News","9:00 AM, 1:00 PM, 5:00 PM, 7:00 PM","Announcements of nearby concerts"]

{"sheet":"Indivigual Programs","index":1,"n_rows":421,"n_cols":3,"rows_kept":421,"cut":false,"hidden":false,"merged":[[0,0,0,2]]}
["Indivigual Program Descriptions"]
["Title","Type","Description"]
[{"$f":"[1]Sheet1!A2","v":"2 Sides 30"},{"$f":"[1]Sheet1!B2","v":"Ad Council"},{"$f":"[1]Sheet1!D2","v":0}]
[{"$f":"[1]Sheet1!A3","v":"2 Sides 60"},{"$f":"[1]Sheet1!B3","v":"Ad Council"},{"$f":"[1]Sheet1!D3","v":0}]
[{"$f":"[1]Sheet1!A4","v":"A seccond Chance 30"},{"$f":"[1]Sheet1!B4","v":"Ad Council"},{"$f":"[1]Sheet1!D4","v":0}]
[{"$f":"[1]Sheet1!A5","v":"Age Means Everything 30"},{"$f":"[1]Sheet1!B5","v":"Ad Council"},{"$f":"[1]Sheet1!D5","v":0}]
[{"$f":"[1]Sheet1!A6","v":"Age Means Everything 60"},{"$f":"[1]Sheet1!B6","v":"Ad Council"},{"$f":"[1]Sheet1!D6","v":0}]
[{"$f":"[1]Sheet1!A7","v":"Airtime 30"},{"$f":"[1]Sheet1!B7","v":"Ad Council"},{"$f":"[1]Sheet1!D7","v":0}]
[{"$f":"[1]Sheet1!A8","v":"Airtime 60"},{"$f":"[1]Sheet1!B8","v":"Ad Council"},{"$f":"[1]Sheet1!D8","v":0}]
[{"$f":"[1]Sheet1!A9","v":"Allison 30"},{"$f":"[1]Sheet1!B9","v":"Ad Council"},{"$f":"[1]Sheet1!D9","v":0}]
[{"$f":"[1]Sheet1!A10","v":"Attention Men 60"},{"$f":"[1]Sheet1!B10","v":"Ad Council"},{"$f":"[1]Sheet1!D10","v":0}]
[{"$f":"[1]Sheet1!A11","v":"Battlefield 30"},{"$f":"[1]Sheet1!B11","v":"Ad Council"},{"$f":"[1]Sheet1!D11","v":0}]
[{"$f":"[1]Sheet1!A12","v":"Battlefield 60"},{"$f":"[1]Sheet1!B12","v":"Ad Council"},{"$f":"[1]Sheet1!D12","v":0}]
[{"$f":"[1]Sheet1!A13","v":"Bear Hug Campfire 30"},{"$f":"[1]Sheet1!B13","v":"Ad Council"},{"$f":"[1]Sheet1!D13","v":0}]
[{"$f":"[1]Sheet1!A14","v":"Bear Hug Campfire 60"},{"$f":"[1]Sheet1!B14","v":"Ad Council"},{"$f":"[1]Sheet1!D14","v":0}]
[{"$f":"[1]Sheet1!A15","v":"Bento 30"},{"$f":"[1]Sheet1!B15","v":"Ad Council"},{"$f":"[1]Sheet1!D15","v":0}]
[{"$f":"[1]Sheet1!A16","v":"Best In Show Cat 30"},{"$f":"[1]Sheet1!B16","v":"Ad Council"},{"$f":"[1]Sheet1!D16","v":0}]
[{"$f":"[1]Sheet1!A17","v":"Best In Show Cat 60"},{"$f":"[1]Sheet1!B17","v":"Ad Council"},{"$f":"[1]Sheet1!D17","v":0}]
[{"$f":"[1]Sheet1!A18","v":"Best In Show Dog 30"},{"$f":"[1]Sheet1!B18","v":"Ad Council"},{"$f":"[1]Sheet1!D18","v":0}]
[{"$f":"[1]Sheet1!A19","v":"Best In Show Dog 60"},{"$f":"[1]Sheet1!B19","v":"Ad Council"},{"$f":"[1]Sheet1!D19","v":0}]
[{"$f":"[1]Sheet1!A20","v":"Best vs Standard 30"},{"$f":"[1]Sheet1!B20","v":"Ad Council"},{"$f":"[1]Sheet1!D20","v":0}]
[{"$f":"[1]Sheet1!A21","v":"Boss Baby 30"},{"$f":"[1]Sheet1!B21","v":"Ad Council"},{"$f":"[1]Sheet1!D21","v":0}]
[{"$f":"[1]Sheet1!A22","v":"Breakup 60"},{"$f":"[1]Sheet1!B22","v":"Ad Council"},{"$f":"[1]Sheet1!D22","v":0}]
[{"$f":"[1]Sheet1!A23","v":"CarAce 30"},{"$f":"[1]Sheet1!B23","v":"Ad Council"},{"$f":"[1]Sheet1!D23","v":0}]
[{"$f":"[1]Sheet1!A24","v":"Caregiver to Mom 30"},{"$f":"[1]Sheet1!B24","v":"Ad Council"},{"$f":"[1]Sheet1!D24","v":0}]
[{"$f":"[1]Sheet1!A25","v":"Caregiver to Mom 60"},{"$f":"[1]Sheet1!B25","v":"Ad Council"},{"$f":"[1]Sheet1!D25","v":0}]
[{"$f":"[1]Sheet1!A26","v":"Cellphone 30"},{"$f":"[1]Sheet1!B26","v":"Ad Council"},{"$f":"[1]Sheet1!D26","v":0}]
[{"$f":"[1]Sheet1!A27","v":"Chance 60"},{"$f":"[1]Sheet1!B27","v":"Ad Council"},{"$f":"[1]Sheet1!D27","v":0}]
[{"$f":"[1]Sheet1!A28","v":"Chang eof Plans 30"},{"$f":"[1]Sheet1!B28","v":"Ad Council"},{"$f":"[1]Sheet1!D28","v":0}]
[{"$f":"[1]Sheet1!A29","v":"Click 30"},{"$f":"[1]Sheet1!B29","v":"Ad Council"},{"$f":"[1]Sheet1!D29","v":0}]
[{"$f":"[1]Sheet1!A30","v":"Click 60"},{"$f":"[1]Sheet1!B30","v":"Ad Council"},{"$f":"[1]Sheet1!D30","v":0}]
[{"$f":"[1]Sheet1!A31","v":"Concert 30"},{"$f":"[1]Sheet1!B31","v":"Ad Council"},{"$f":"[1]Sheet1!D31","v":0}]
[{"$f":"[1]Sheet1!A32","v":"Concert 60"},{"$f":"[1]Sheet1!B32","v":"Ad Council"},{"$f":"[1]Sheet1!D32","v":0}]
[{"$f":"[1]Sheet1!A33","v":"DanicaPatrick 30"},{"$f":"[1]Sheet1!B33","v":"Ad Council"},{"$f":"[1]Sheet1!D33","v":0}]
[{"$f":"[1]Sheet1!A34","v":"DanicaPatrick 60"},{"$f":"[1]Sheet1!B34","v":"Ad Council"},{"$f":"[1]Sheet1!D34","v":0}]
[{"$f":"[1]Sheet1!A35","v":"Designer Jeans 30"},{"$f":"[1]Sheet1!B35","v":"Ad Council"},{"$f":"[1]Sheet1!D35","v":0}]
[{"$f":"[1]Sheet1!A36","v":"Designer Jeans 60"},{"$f":"[1]Sheet1!B36","v":"Ad Council"},{"$f":"[1]Sheet1!D36","v":0}]
[{"$f":"[1]Sheet1!A37","v":"Dont Wait-Earthquake 30"},{"$f":"[1]Sheet1!B37","v":"Ad Council"},{"$f":"[1]Sheet1!D37","v":0}]
[{"$f":"[1]Sheet1!A38","v":"Dont Wait-Tornado 30"},{"$f":"[1]Sheet1!B38","v":"Ad Council"},{"$f":"[1]Sheet1!D38","v":0}]
[{"$f":"[1]Sheet1!A39","v":"Dont Wait-Wildfire 30"},{"$f":"[1]Sheet1!B39","v":"Ad Council"},{"$f":"[1]Sheet1!D39","v":0}]
[{"$f":"[1]Sheet1!A40","v":"Dont Wait 30"},{"$f":"[1]Sheet1!B40","v":"Ad Council"},{"$f":"[1]Sheet1!D40","v":0}]
[{"$f":"[1]Sheet1!A41","v":"Dont Wait 60"},{"$f":"[1]Sheet1!B41","v":"Ad Council"},{"$f":"[1]Sheet1!D41","v":0}]
[{"$f":"[1]Sheet1!A42","v":"Dr Phil 30"},{"$f":"[1]Sheet1!B42","v":"Ad Council"},{"$f":"[1]Sheet1!D42","v":0}]
[{"$f":"[1]Sheet1!A43","v":"Dr Phil 60"},{"$f":"[1]Sheet1!B43","v":"Ad Council"},{"$f":"[1]Sheet1!D43","v":0}]
[{"$f":"[1]Sheet1!A44","v":"Driving Blind 30"},{"$f":"[1]Sheet1!B44","v":"Ad Council"},{"$f":"[1]Sheet1!D44","v":0}]
[{"$f":"[1]Sheet1!A45","v":"Driving Means 30"},{"$f":"[1]Sheet1!B45","v":"Ad Council"},{"$f":"[1]Sheet1!D45","v":0}]
[{"$f":"[1]Sheet1!A46","v":"Driving Sounds 30"},{"$f":"[1]Sheet1!B46","v":"Ad Council"},{"$f":"[1]Sheet1!D46","v":0}]
[{"$f":"[1]Sheet1!A47","v":"Expensive Night 60"},{"$f":"[1]Sheet1!B47","v":"Ad Council"},{"$f":"[1]Sheet1!D47","v":0}]
[{"$f":"[1]Sheet1!A48","v":"Feather 30"},{"$f":"[1]Sheet1!B48","v":"Ad Council"},{"$f":"[1]Sheet1!D48","v":0}]
[{"$f":"[1]Sheet1!A49","v":"Forest Animals 30"},{"$f":"[1]Sheet1!B49","v":"Ad Council"},{"$f":"[1]Sheet1!D49","v":0}]
[{"$f":"[1]Sheet1!A50","v":"Forest Animals 60"},{"$f":"[1]Sheet1!B50","v":"Ad Council"},{"$f":"[1]Sheet1!D50","v":0}]
[{"$f":"[1]Sheet1!A51","v":"Forest Benefits 30"},{"$f":"[1]Sheet1!B51","v":"Ad Council"},{"$f":"[1]Sheet1!D51","v":0}]
[{"$f":"[1]Sheet1!A52","v":"Forest Benefits 60"},{"$f":"[1]Sheet1!B52","v":"Ad Council"},{"$f":"[1]Sheet1!D52","v":0}]
[{"$f":"[1]Sheet1!A53","v":"Full Circle 30"},{"$f":"[1]Sheet1!B53","v":"Ad Council"},{"$f":"[1]Sheet1!D53","v":0}]
[{"$f":"[1]Sheet1!A54","v":"Full Circle 60"},{"$f":"[1]Sheet1!B54","v":"Ad Council"},{"$f":"[1]Sheet1!D54","v":0}]
[{"$f":"[1]Sheet1!A55","v":"Gift to Future Me 60"},{"$f":"[1]Sheet1!B55","v":"Ad Council"},{"$f":"[1]Sheet1!D55","v":0}]
[{"$f":"[1]Sheet1!A56","v":"GPS 30"},{"$f":"[1]Sheet1!B56","v":"Ad Council"},{"$f":"[1]Sheet1!D56","v":0}]
[{"$f":"[1]Sheet1!A57","v":"Groan 30"},{"$f":"[1]Sheet1!B57","v":"Ad Council"},{"$f":"[1]Sheet1!D57","v":0}]
[{"$f":"[1]Sheet1!A58","v":"Groan 60"},{"$f":"[1]Sheet1!B58","v":"Ad Council"},{"$f":"[1]Sheet1!D58","v":0}]
[{"$f":"[1]Sheet1!A59","v":"Grown Up 30"},{"$f":"[1]Sheet1!B59","v":"Ad Council"},{"$f":"[1]Sheet1!D59","v":0}]
[{"$f":"[1]Sheet1!A60","v":"Grown Up 60"},{"$f":"[1]Sheet1!B60","v":"Ad Council"},{"$f":"[1]Sheet1!D60","v":0}]
[{"$f":"[1]Sheet1!A61","v":"Guys Night Out-Moment 30"},{"$f":"[1]Sheet1!B61","v":"Ad Council"},{"$f":"[1]Sheet1!D61","v":0}]
[{"$f":"[1]Sheet1!A62","v":"Haircut 30"},{"$f":"[1]Sheet1!B62","v":"Ad Council"},{"$f":"[1]Sheet1!D62","v":0}]
[{"$f":"[1]Sheet1!A63","v":"Haircut 60"},{"$f":"[1]Sheet1!B63","v":"Ad Council"},{"$f":"[1]Sheet1!D63","v":0}]
[{"$f":"[1]Sheet1!A64","v":"Hamilton 30"},{"$f":"[1]Sheet1!B64","v":"Ad Council"},{"$f":"[1]Sheet1!D64","v":0}]
[{"$f":"[1]Sheet1!A65","v":"HouseAce 30"},{"$f":"[1]Sheet1!B65","v":"Ad Council"},{"$f":"[1]Sheet1!D65","v":0}]
[{"$f":"[1]Sheet1!A66","v":"How We Do It 60"},{"$f":"[1]Sheet1!B66","v":"Ad Council"},{"$f":"[1]Sheet1!D66","v":0}]
[{"$f":"[1]Sheet1!A67","v":"I know 30"},{"$f":"[1]Sheet1!B67","v":"Ad Council"},{"$f":"[1]Sheet1!D67","v":0}]
[{"$f":"[1]Sheet1!A68","v":"I want to be 30"},{"$f":"[1]Sheet1!B68","v":"Ad Council"},{"$f":"[1]Sheet1!D68","v":0}]
[{"$f":"[1]Sheet1!A69","v":"I want to be 60"},{"$f":"[1]Sheet1!B69","v":"Ad Council"},{"$f":"[1]Sheet1!D69","v":0}]
[{"$f":"[1]Sheet1!A70","v":"In Their Own Words 30"},{"$f":"[1]Sheet1!B70","v":"Ad Council"},{"$f":"[1]Sheet1!D70","v":0}]
[{"$f":"[1]Sheet1!A71","v":"In Their Own Words 60"},{"$f":"[1]Sheet1!B71","v":"Ad Council"},{"$f":"[1]Sheet1!D71","v":0}]
[{"$f":"[1]Sheet1!A72","v":"Indoor Baseball 30"},{"$f":"[1]Sheet1!B72","v":"Ad Council"},{"$f":"[1]Sheet1!D72","v":0}]
[{"$f":"[1]Sheet1!A73","v":"Inside the Mind 30"},{"$f":"[1]Sheet1!B73","v":"Ad Council"},{"$f":"[1]Sheet1!D73","v":0}]
[{"$f":"[1]Sheet1!A74","v":"Inside the Mind 60"},{"$f":"[1]Sheet1!B74","v":"Ad Council"},{"$f":"[1]Sheet1!D74","v":0}]
[{"$f":"[1]Sheet1!A75","v":"Josh Groban 30"},{"$f":"[1]Sheet1!B75","v":"Ad Council"},{"$f":"[1]Sheet1!D75","v":0}]
[{"$f":"[1]Sheet1!A76","v":"Josh Groban 60"},{"$f":"[1]Sheet1!B76","v":"Ad Council"},{"$f":"[1]Sheet1!D76","v":0}]
[{"$f":"[1]Sheet1!A77","v":"Julius Randle Reverse 60"},{"$f":"[1]Sheet1!B77","v":"Ad Council"},{"$f":"[1]Sheet1!D77","v":0}]
[{"$f":"[1]Sheet1!A78","v":"Leash 30"},{"$f":"[1]Sheet1!B78","v":"Ad Council"},{"$f":"[1]Sheet1!D78","v":0}]
[{"$f":"[1]Sheet1!A79","v":"Let Me Ask You 30"},{"$f":"[1]Sheet1!B79","v":"Ad Council"},{"$f":"[1]Sheet1!D79","v":0}]
[{"$f":"[1]Sheet1!A80","v":"Listen 30"},{"$f":"[1]Sheet1!B80","v":"Ad Council"},{"$f":"[1]Sheet1!D80","v":0}]
[{"$f":"[1]Sheet1!A81","v":"Listen 60"},{"$f":"[1]Sheet1!B81","v":"Ad Council"},{"$f":"[1]Sheet1!D81","v":0}]
[{"$f":"[1]Sheet1!A82","v":"Long Haul 30"},{"$f":"[1]Sheet1!B82","v":"Ad Council"},{"$f":"[1]Sheet1!D82","v":0}]
[{"$f":"[1]Sheet1!A83","v":"Look Down 30"},{"$f":"[1]Sheet1!B83","v":"Ad Council"},{"$f":"[1]Sheet1!D83","v":0}]
[{"$f":"[1]Sheet1!A84","v":"Luck 60"},{"$f":"[1]Sheet1!B84","v":"Ad Council"},{"$f":"[1]Sheet1!D84","v":0}]
[{"$f":"[1]Sheet1!A85","v":"Lucky 30"},{"$f":"[1]Sheet1!B85","v":"Ad Council"},{"$f":"[1]Sheet1!D85","v":0}]
[{"$f":"[1]Sheet1!A86","v":"Missed Opportunity 60"},{"$f":"[1]Sheet1!B86","v":"Ad Council"},{"$f":"[1]Sheet1!D86","v":0}]
[{"$f":"[1]Sheet1!A87","v":"Moments 30"},{"$f":"[1]Sheet1!B87","v":"Ad Council"},{"$f":"[1]Sheet1!D87","v":0}]
[{"$f":"[1]Sheet1!A88","v":"Moments 60"},{"$f":"[1]Sheet1!B88","v":"Ad Council"},{"$f":"[1]Sheet1!D88","v":0}]
[{"$f":"[1]Sheet1!A89","v":"One More 30"},{"$f":"[1]Sheet1!B89","v":"Ad Council"},{"$f":"[1]Sheet1!D89","v":0}]
[{"$f":"[1]Sheet1!A90","v":"Online Dating 30"},{"$f":"[1]Sheet1!B90","v":"Ad Council"},{"$f":"[1]Sheet1!D90","v":0}]
[{"$f":"[1]Sheet1!A91","v":"Only in the forest 60"},{"$f":"[1]Sheet1!B91","v":"Ad Council"},{"$f":"[1]Sheet1!D91","v":0}]
[{"$f":"[1]Sheet1!A92","v":"Overconfidence 30"},{"$f":"[1]Sheet1!B92","v":"Ad Council"},{"$f":"[1]Sheet1!D92","v":0}]
[{"$f":"[1]Sheet1!A93","v":"Overconfidence 60"},{"$f":"[1]Sheet1!B93","v":"Ad Council"},{"$f":"[1]Sheet1!D93","v":0}]
[{"$f":"[1]Sheet1!A94","v":"Passengers 30"},{"$f":"[1]Sheet1!B94","v":"Ad Council"},{"$f":"[1]Sheet1!D94","v":0}]
[{"$f":"[1]Sheet1!A95","v":"Pavlov Purpose 30"},{"$f":"[1]Sheet1!B95","v":"Ad Council"},{"$f":"[1]Sheet1!D95","v":0}]
[{"$f":"[1]Sheet1!A96","v":"Pavlov Purpose 60"},{"$f":"[1]Sheet1!B96","v":"Ad Council"},{"$f":"[1]Sheet1!D96","v":0}]
[{"$f":"[1]Sheet1!A97","v":"Pets Anthem 30"},{"$f":"[1]Sheet1!B97","v":"Ad Council"},{"$f":"[1]Sheet1!D97","v":0}]
[{"$f":"[1]Sheet1!A98","v":"Pets Anthem 60"},{"$f":"[1]Sheet1!B98","v":"Ad Council"},{"$f":"[1]Sheet1!D98","v":0}]
[{"$f":"[1]Sheet1!A99","v":"Pool Party 30"},{"$f":"[1]Sheet1!B99","v":"Ad Council"},{"$f":"[1]Sheet1!D99","v":0}]
[{"$f":"[1]Sheet1!A100","v":"Power Suit 60"},{"$f":"[1]Sheet1!B100","v":"Ad Council"},{"$f":"[1]Sheet1!D100","v":0}]
[{"$f":"[1]Sheet1!A101","v":"Prediabetes Test 30"},{"$f":"[1]Sheet1!B101","v":"Ad Council"},{"$f":"[1]Sheet1!D101","v":0}]
[{"$f":"[1]Sheet1!A102","v":"Prediabetes Test 60"},{"$f":"[1]Sheet1!B102","v":"Ad Council"},{"$f":"[1]Sheet1!D102","v":0}]
[{"$f":"[1]Sheet1!A103","v":"Prom 60"},{"$f":"[1]Sheet1!B103","v":"Ad Council"},{"$f":"[1]Sheet1!D103","v":0}]
[{"$f":"[1]Sheet1!A104","v":"Rachael Ray 30"},{"$f":"[1]Sheet1!B104","v":"Ad Council"},{"$f":"[1]Sheet1!D104","v":0}]
[{"$f":"[1]Sheet1!A105","v":"Rachael Ray 60"},{"$f":"[1]Sheet1!B105","v":"Ad Council"},{"$f":"[1]Sheet1!D105","v":0}]
[{"$f":"[1]Sheet1!A106","v":"Reba McEntire 30"},{"$f":"[1]Sheet1!B106","v":"Ad Council"},{"$f":"[1]Sheet1!D106","v":0}]
[{"$f":"[1]Sheet1!A107","v":"Reba McEntire 60"},{"$f":"[1]Sheet1!B107","v":"Ad Council"},{"$f":"[1]Sheet1!D107","v":0}]
[{"$f":"[1]Sheet1!A108","v":"Redwoods 30"},{"$f":"[1]Sheet1!B108","v":"Ad Council"},{"$f":"[1]Sheet1!D108","v":0}]
[{"$f":"[1]Sheet1!A109","v":"Redwoods 60"},{"$f":"[1]Sheet1!B109","v":"Ad Council"},{"$f":"[1]Sheet1!D109","v":0}]
[{"$f":"[1]Sheet1!A110","v":"Rich 60"},{"$f":"[1]Sheet1!B110","v":"Ad Council"},{"$f":"[1]Sheet1!D110","v":0}]
[{"$f":"[1]Sheet1!A111","v":"Rich Uncle 60"},{"$f":"[1]Sheet1!B111","v":"Ad Council"},{"$f":"[1]Sheet1!D111","v":0}]
[{"$f":"[1]Sheet1!A112","v":"Rising Ashes-Chains 30"},{"$f":"[1]Sheet1!B112","v":"Ad Council"},{"$f":"[1]Sheet1!D112","v":0}]
[{"$f":"[1]Sheet1!A113","v":"Rising Ashes-Chains 60"},{"$f":"[1]Sheet1!B113","v":"Ad Council"},{"$f":"[1]Sheet1!D113","v":0}]
[{"$f":"[1]Sheet1!A114","v":"Rising Ashes-Fire Pit 30"},{"$f":"[1]Sheet1!B114","v":"Ad Council"},{"$f":"[1]Sheet1!D114","v":0}]
[{"$f":"[1]Sheet1!A115","v":"Rising Ashes-Fire Pit 60"},{"$f":"[1]Sheet1!B115","v":"Ad Council"},{"$f":"[1]Sheet1!D115","v":0}]
[{"$f":"[1]Sheet1!A116","v":"Rock Tshirt 30"},{"$f":"[1]Sheet1!B116","v":"Ad Council"},{"$f":"[1]Sheet1!D116","v":0}]
[{"$f":"[1]Sheet1!A117","v":"Rockstar 60"},{"$f":"[1]Sheet1!B117","v":"Ad Council"},{"$f":"[1]Sheet1!D117","v":0}]
[{"$f":"[1]Sheet1!A118","v":"Sense of Adventure 30"},{"$f":"[1]Sheet1!B118","v":"Ad Council"},{"$f":"[1]Sheet1!D118","v":0}]
[{"$f":"[1]Sheet1!A119","v":"Sense of Adventure 60"},{"$f":"[1]Sheet1!B119","v":"Ad Council"},{"$f":"[1]Sheet1!D119","v":0}]
[{"$f":"[1]Sheet1!A120","v":"Short Drive 30"},{"$f":"[1]Sheet1!B120","v":"Ad Council"},{"$f":"[1]Sheet1!D120","v":0}]
[{"$f":"[1]Sheet1!A121","v":"Short Drive 60"},{"$f":"[1]Sheet1!B121","v":"Ad Council"},{"$f":"[1]Sheet1!D121","v":0}]
[{"$f":"[1]Sheet1!A122","v":"Short Shorts 30"},{"$f":"[1]Sheet1!B122","v":"Ad Council"},{"$f":"[1]Sheet1!D122","v":0}]
[{"$f":"[1]Sheet1!A123","v":"Short Shorts 60"},{"$f":"[1]Sheet1!B123","v":"Ad Council"},{"$f":"[1]Sheet1!D123","v":0}]
[{"$f":"[1]Sheet1!A124","v":"Show and Tell 30"},{"$f":"[1]Sheet1!B124","v":"Ad Council"},{"$f":"[1]Sheet1!D124","v":0}]
[{"$f":"[1]Sheet1!A125","v":"Show and Tell 60"},{"$f":"[1]Sheet1!B125","v":"Ad Council"},{"$f":"[1]Sheet1!D125","v":0}]
[{"$f":"[1]Sheet1!A126","v":"Slo-Mo 30"},{"$f":"[1]Sheet1!B126","v":"Ad Council"},{"$f":"[1]Sheet1!D126","v":0}]
[{"$f":"[1]Sheet1!A127","v":"Smiles 30"},{"$f":"[1]Sheet1!B127","v":"Ad Council"},{"$f":"[1]Sheet1!D127","v":0}]
[{"$f":"[1]Sheet1!A128","v":"Smiles 60"},{"$f":"[1]Sheet1!B128","v":"Ad Council"},{"$f":"[1]Sheet1!D128","v":0}]
[{"$f":"[1]Sheet1!A129","v":"Stuntman 30"},{"$f":"[1]Sheet1!B129","v":"Ad Council"},{"$f":"[1]Sheet1!D129","v":0}]
[{"$f":"[1]Sheet1!A130","v":"Stuntman 60"},{"$f":"[1]Sheet1!B130","v":"Ad Council"},{"$f":"[1]Sheet1!D130","v":0}]
[{"$f":"[1]Sheet1!A131","v":"Super Buddies Experience 30"},{"$f":"[1]Sheet1!B131","v":"Ad Council"},{"$f":"[1]Sheet1!D131","v":0}]
[{"$f":"[1]Sheet1!A132","v":"Surprise You 30"},{"$f":"[1]Sheet1!B132","v":"Ad Council"},{"$f":"[1]Sheet1!D132","v":0}]
[{"$f":"[1]Sheet1!A133","v":"Taxi 30"},{"$f":"[1]Sheet1!B133","v":"Ad Council"},{"$f":"[1]Sheet1!D133","v":0}]
[{"$f":"[1]Sheet1!A134","v":"Taxi 60"},{"$f":"[1]Sheet1!B134","v":"Ad Council"},{"$f":"[1]Sheet1!D134","v":0}]
[{"$f":"[1]Sheet1!A135","v":"Tea Pot-Moment 30"},{"$f":"[1]Sheet1!B135","v":"Ad Council"},{"$f":"[1]Sheet1!D135","v":0}]
[{"$f":"[1]Sheet1!A136","v":"The Probablys 60"},{"$f":"[1]Sheet1!B136","v":"Ad Council"},{"$f":"[1]Sheet1!D136","v":0}]
[{"$f":"[1]Sheet1!A137","v":"There Yet 30"},{"$f":"[1]Sheet1!B137","v":"Ad Council"},{"$f":"[1]Sheet1!D137","v":0}]
[{"$f":"[1]Sheet1!A138","v":"There Yet 60"},{"$f":"[1]Sheet1!B138","v":"Ad Council"},{"$f":"[1]Sheet1!D138","v":0}]
[{"$f":"[1]Sheet1!A139","v":"Tickle Fight 30"},{"$f":"[1]Sheet1!B139","v":"Ad Council"},{"$f":"[1]Sheet1!D139","v":0}]
[{"$f":"[1]Sheet1!A140","v":"Toast 30"},{"$f":"[1]Sheet1!B140","v":"Ad Council"},{"$f":"[1]Sheet1!D140","v":0}]
[{"$f":"[1]Sheet1!A141","v":"Tougher than Tough 30"},{"$f":"[1]Sheet1!B141","v":"Ad Council"},{"$f":"[1]Sheet1!D141","v":0}]
[{"$f":"[1]Sheet1!A142","v":"Tougher than Tough 60"},{"$f":"[1]Sheet1!B142","v":"Ad Council"},{"$f":"[1]Sheet1!D142","v":0}]
[{"$f":"[1]Sheet1!A143","v":"Toys 30"},{"$f":"[1]Sheet1!B143","v":"Ad Council"},{"$f":"[1]Sheet1!D143","v":0}]
[{"$f":"[1]Sheet1!A144","v":"Tune Out 30"},{"$f":"[1]Sheet1!B144","v":"Ad Council"},{"$f":"[1]Sheet1!D144","v":0}]
[{"$f":"[1]Sheet1!A145","v":"Wed Do Anything 30"},{"$f":"[1]Sheet1!B145","v":"Ad Council"},{"$f":"[1]Sheet1!D145","v":0}]
[{"$f":"[1]Sheet1!A146","v":"Wed Do Anything 60"},{"$f":"[1]Sheet1!B146","v":"Ad Council"},{"$f":"[1]Sheet1!D146","v":0}]
[{"$f":"[1]Sheet1!A147","v":"You Do So Much 30"},{"$f":"[1]Sheet1!B147","v":"Ad Council"},{"$f":"[1]Sheet1!D147","v":0}]
[{"$f":"[1]Sheet1!A148","v":"You Do So Much 60"},{"$f":"[1]Sheet1!B148","v":"Ad Council"},{"$f":"[1]Sheet1!D148","v":0}]
[{"$f":"[1]Sheet1!A149","v":"Alcohol Sexual Assault"},{"$f":"[1]Sheet1!B149","v":"Ascertainment"},{"$f":"[1]Sheet1!D149","v":0}]
[{"$f":"[1]Sheet1!A150","v":"Band Ascertainment"},{"$f":"[1]Sheet1!B150","v":"Ascertainment"},{"$f":"[1]Sheet1!D150","v":0}]
[{"$f":"[1]Sheet1!A151","v":"Bowling"},{"$f":"[1]Sheet1!B151","v":"Ascertainment"},{"$f":"[1]Sheet1!D151","v":0}]
[{"$f":"[1]Sheet1!A152","v":"Climbing Club"},{"$f":"[1]Sheet1!B152","v":"Ascertainment"},{"$f":"[1]Sheet1!D152","v":0}]
[{"$f":"[1]Sheet1!A153","v":"Condoms-ASC"},{"$f":"[1]Sheet1!B153","v":"Ascertainment"},{"$f":"[1]Sheet1!D153","v":0}]
[{"$f":"[1]Sheet1!A154","v":"Curbside Recycling I"},{"$f":"[1]Sheet1!B154","v":"Ascertainment"},{"$f":"[1]Sheet1!D154","v":0}]
[{"$f":"[1]Sheet1!A155","v":"Curbside Recycling II"},{"$f":"[1]Sheet1!B155","v":"Ascertainment"},{"$f":"[1]Sheet1!D155","v":0}]
[{"$f":"[1]Sheet1!A156","v":"Dags"},{"$f":"[1]Sheet1!B156","v":"Ascertainment"},{"$f":"[1]Sheet1!D156","v":0}]
[{"$f":"[1]Sheet1!A157","v":"Dont Be A Stalker"},{"$f":"[1]Sheet1!B157","v":"Ascertainment"},{"$f":"[1]Sheet1!D157","v":0}]
[{"$f":"[1]Sheet1!A158","v":"Earthquake Safety"},{"$f":"[1]Sheet1!B158","v":"Ascertainment"},{"$f":"[1]Sheet1!D158","v":0}]
[{"$f":"[1]Sheet1!A159","v":"Electric Car"},{"$f":"[1]Sheet1!B159","v":"Ascertainment"},{"$f":"[1]Sheet1!D159","v":0}]
[{"$f":"[1]Sheet1!A160","v":"Freshman 50"},{"$f":"[1]Sheet1!B160","v":"Ascertainment"},{"$f":"[1]Sheet1!D160","v":0}]
[{"$f":"[1]Sheet1!A161","v":"Freshmen Homesickness"},{"$f":"[1]Sheet1!B161","v":"Ascertainment"},{"$f":"[1]Sheet1!D161","v":0}]
[{"$f":"[1]Sheet1!A162","v":"Frisbeegolf"},{"$f":"[1]Sheet1!B162","v":"Ascertainment"},{"$f":"[1]Sheet1!D162","v":0}]
[{"$f":"[1]Sheet1!A163","v":"FSAE Racing Team"},{"$f":"[1]Sheet1!B163","v":"Ascertainment"},{"$f":"[1]Sheet1!D163","v":0}]
[{"$f":"[1]Sheet1!A164","v":"Go Outside"},{"$f":"[1]Sheet1!B164","v":"Ascertainment"},{"$f":"[1]Sheet1!D164","v":0}]
[{"$f":"[1]Sheet1!A165","v":"Habitat for Humanity I"},{"$f":"[1]Sheet1!B165","v":"Ascertainment"},{"$f":"[1]Sheet1!D165","v":0}]
[{"$f":"[1]Sheet1!A166","v":"Habitat for Humanity II"},{"$f":"[1]Sheet1!B166","v":"Ascertainment"},{"$f":"[1]Sheet1!D166","v":0}]
[{"$f":"[1]Sheet1!A167","v":"Info On International Students"},{"$f":"[1]Sheet1!B167","v":"Ascertainment"},{"$f":"[1]Sheet1!D167","v":0}]
[{"$f":"[1]Sheet1!A168","v":"International Student Perspective"},{"$f":"[1]Sheet1!B168","v":"Ascertainment"},{"$f":"[1]Sheet1!D168","v":0}]
[{"$f":"[1]Sheet1!A169","v":"LEAD"},{"$f":"[1]Sheet1!B169","v":"Ascertainment"},{"$f":"[1]Sheet1!D169","v":0}]
[{"$f":"[1]Sheet1!A170","v":"Loitering"},{"$f":"[1]Sheet1!B170","v":"Ascertainment"},{"$f":"[1]Sheet1!D170","v":0}]
[{"$f":"[1]Sheet1!A171","v":"Lyme Disease"},{"$f":"[1]Sheet1!B171","v":"Ascertainment"},{"$f":"[1]Sheet1!D171","v":0}]
[{"$f":"[1]Sheet1!A172","v":"Mailbox Decapitation"},{"$f":"[1]Sheet1!B172","v":"Ascertainment"},{"$f":"[1]Sheet1!D172","v":0}]
[{"$f":"[1]Sheet1!A173","v":"Marijuana"},{"$f":"[1]Sheet1!B173","v":"Ascertainment"},{"$f":"[1]Sheet1!D173","v":0}]
[{"$f":"[1]Sheet1!A174","v":"Miners In Space"},{"$f":"[1]Sheet1!B174","v":"Ascertainment"},{"$f":"[1]Sheet1!D174","v":0}]
[{"$f":"[1]Sheet1!A175","v":"Missouri caves"},{"$f":"[1]Sheet1!B175","v":"Ascertainment"},{"$f":"[1]Sheet1!D175","v":0}]
[{"$f":"[1]Sheet1!A176","v":"MST Music"},{"$f":"[1]Sheet1!B176","v":"Ascertainment"},{"$f":"[1]Sheet1!D176","v":0}]
[{"$f":"[1]Sheet1!A177","v":"MSTRecCenter"},{"$f":"[1]Sheet1!B177","v":"Ascertainment"},{"$f":"[1]Sheet1!D177","v":0}]
[{"$f":"[1]Sheet1!A178","v":"Nature Conservation"},{"$f":"[1]Sheet1!B178","v":"Ascertainment"},{"$f":"[1]Sheet1!D178","v":0}]
[{"$f":"[1]Sheet1!A179","v":"Open Container Law"},{"$f":"[1]Sheet1!B179","v":"Ascertainment"},{"$f":"[1]Sheet1!D179","v":0}]
[{"$f":"[1]Sheet1!A180","v":"Recycling"},{"$f":"[1]Sheet1!B180","v":"Ascertainment"},{"$f":"[1]Sheet1!D180","v":0}]
[{"$f":"[1]Sheet1!A181","v":"Rolla Animal Shelter I"},{"$f":"[1]Sheet1!B181","v":"Ascertainment"},{"$f":"[1]Sheet1!D181","v":0}]
[{"$f":"[1]Sheet1!A182","v":"Rolla Animal Shelter II"},{"$f":"[1]Sheet1!B182","v":"Ascertainment"},{"$f":"[1]Sheet1!D182","v":0}]
[{"$f":"[1]Sheet1!A183","v":"Rolla Leash Laws"},{"$f":"[1]Sheet1!B183","v":"Ascertainment"},{"$f":"[1]Sheet1!D183","v":0}]
[{"$f":"[1]Sheet1!A184","v":"Rolla Parks"},{"$f":"[1]Sheet1!B184","v":"Ascertainment"},{"$f":"[1]Sheet1!D184","v":0}]
[{"$f":"[1]Sheet1!A185","v":"Rolla Public Library I"},{"$f":"[1]Sheet1!B185","v":"Ascertainment"},{"$f":"[1]Sheet1!D185","v":0}]
[{"$f":"[1]Sheet1!A186","v":"Rolla Public Library II"},{"$f":"[1]Sheet1!B186","v":"Ascertainment"},{"$f":"[1]Sheet1!D186","v":0}]
[{"$f":"[1]Sheet1!A187","v":"Rolla Rural Fire"},{"$f":"[1]Sheet1!B187","v":"Ascertainment"},{"$f":"[1]Sheet1!D187","v":0}]
[{"$f":"[1]Sheet1!A188","v":"Rollanet"},{"$f":"[1]Sheet1!B188","v":"Ascertainment"},{"$f":"[1]Sheet1!D188","v":0}]
[{"$f":"[1]Sheet1!A189","v":"Rotary Club"},{"$f":"[1]Sheet1!B189","v":"Ascertainment"},{"$f":"[1]Sheet1!D189","v":0}]
[{"$f":"[1]Sheet1!A190","v":"Russell House"},{"$f":"[1]Sheet1!B190","v":"Ascertainment"},{"$f":"[1]Sheet1!D190","v":0}]
[{"$f":"[1]Sheet1!A191","v":"S&T Golf Course"},{"$f":"[1]Sheet1!B191","v":"Ascertainment"},{"$f":"[1]Sheet1!D191","v":0}]
[{"$f":"[1]Sheet1!A192","v":"senior companions"},{"$f":"[1]Sheet1!B192","v":"Ascertainment"},{"$f":"[1]Sheet1!D192","v":0}]
[{"$f":"[1]Sheet1!A193","v":"Severe Weather Safety Tips"},{"$f":"[1]Sheet1!B193","v":"Ascertainment"},{"$f":"[1]Sheet1!D193","v":0}]
[{"$f":"[1]Sheet1!A194","v":"Skatepark"},{"$f":"[1]Sheet1!B194","v":"Ascertainment"},{"$f":"[1]Sheet1!D194","v":0}]
[{"$f":"[1]Sheet1!A195","v":"Sports Programs"},{"$f":"[1]Sheet1!B195","v":"Ascertainment"},{"$f":"[1]Sheet1!D195","v":0}]
[{"$f":"[1]Sheet1!A196","v":"St. Pats advice"},{"$f":"[1]Sheet1!B196","v":"Ascertainment"},{"$f":"[1]Sheet1!D196","v":0}]
[{"$f":"[1]Sheet1!A197","v":"Staph Infections"},{"$f":"[1]Sheet1!B197","v":"Ascertainment"},{"$f":"[1]Sheet1!D197","v":0}]
[{"$f":"[1]Sheet1!A198","v":"Stressless Room"},{"$f":"[1]Sheet1!B198","v":"Ascertainment"},{"$f":"[1]Sheet1!D198","v":0}]
[{"$f":"[1]Sheet1!A199","v":"Student Success Center"},{"$f":"[1]Sheet1!B199","v":"Ascertainment"},{"$f":"[1]Sheet1!D199","v":0}]
[{"$f":"[1]Sheet1!A200","v":"Trail Usage"},{"$f":"[1]Sheet1!B200","v":"Ascertainment"},{"$f":"[1]Sheet1!D200","v":0}]
[{"$f":"[1]Sheet1!A201","v":"Turn Down Your Ding Dang Speakers"},{"$f":"[1]Sheet1!B201","v":"Ascertainment"},{"$f":"[1]Sheet1!D201","v":0}]
[{"$f":"[1]Sheet1!A202","v":"University Police"},{"$f":"[1]Sheet1!B202","v":"Ascertainment"},{"$f":"[1]Sheet1!D202","v":0}]
[{"$f":"[1]Sheet1!A203","v":"Video Game Addiction"},{"$f":"[1]Sheet1!B203","v":"Ascertainment"},{"$f":"[1]Sheet1!D203","v":0}]
[{"$f":"[1]Sheet1!A204","v":"Vote With Elton John"},{"$f":"[1]Sheet1!B204","v":"Ascertainment"},{"$f":"[1]Sheet1!D204","v":0}]
[{"$f":"[1]Sheet1!A205","v":"writing center"},{"$f":"[1]Sheet1!B205","v":"Ascertainment"},{"$f":"[1]Sheet1!D205","v":0}]
[{"$f":"[1]Sheet1!A206","v":"20 20 20 Vision Rule"},{"$f":"[1]Sheet1!B206","v":"PSA"},{"$f":"[1]Sheet1!D206","v":0}]
[{"$f":"[1]Sheet1!A207","v":"Absentee Voting"},{"$f":"[1]Sheet1!B207","v":"PSA"},{"$f":"[1]Sheet1!D207","v":0}]
[{"$f":"[1]Sheet1!A208","v":"ALIENS"},{"$f":"[1]Sheet1!B208","v":"PSA"},{"$f":"[1]Sheet1!D208","v":0}]
[{"$f":"[1]Sheet1!A209","v":"Always With Me Sub Disorder"},{"$f":"[1]Sheet1!B209","v":"PSA"},{"$f":"[1]Sheet1!D209","v":0}]
[{"$f":"[1]Sheet1!A210","v":"Autocorrect"},{"$f":"[1]Sheet1!B210","v":"PSA"},{"$f":"[1]Sheet1!D210","v":0}]
[{"$f":"[1]Sheet1!A211","v":"Autoerotic Asphyxiation"},{"$f":"[1]Sheet1!B211","v":"PSA"},{"$f":"[1]Sheet1!D211","v":0}]
[{"$f":"[1]Sheet1!A212","v":"Bacterial Vaginosis"},{"$f":"[1]Sheet1!B212","v":"PSA"},{"$f":"[1]Sheet1!D212","v":0}]
[{"$f":"[1]Sheet1!A213","v":"Be Child Care Aware"},{"$f":"[1]Sheet1!B213","v":"PSA"},{"$f":"[1]Sheet1!D213","v":0}]
[{"$f":"[1]Sheet1!A214","v":"Bear Selfie"},{"$f":"[1]Sheet1!B214","v":"PSA"},{"$f":"[1]Sheet1!D214","v":0}]
[{"$f":"[1]Sheet1!A215","v":"Bee Swarm"},{"$f":"[1]Sheet1!B215","v":"PSA"},{"$f":"[1]Sheet1!D215","v":0}]
[{"$f":"[1]Sheet1!A216","v":"Beezin"},{"$f":"[1]Sheet1!B216","v":"PSA"},{"$f":"[1]Sheet1!D216","v":0}]
[{"$f":"[1]Sheet1!A217","v":"Best Buddies"},{"$f":"[1]Sheet1!B217","v":"PSA"},{"$f":"[1]Sheet1!D217","v":0}]
[{"$f":"[1]Sheet1!A218","v":"Bird Collisions"},{"$f":"[1]Sheet1!B218","v":"PSA"},{"$f":"[1]Sheet1!D218","v":0}]
[{"$f":"[1]Sheet1!A219","v":"Black Ice"},{"$f":"[1]Sheet1!B219","v":"PSA"},{"$f":"[1]Sheet1!D219","v":0}]
[{"$f":"[1]Sheet1!A220","v":"Black Rhinos"},{"$f":"[1]Sheet1!B220","v":"PSA"},{"$f":"[1]Sheet1!D220","v":0}]
[{"$f":"[1]Sheet1!A221","v":"boardz n bikes n thangs"},{"$f":"[1]Sheet1!B221","v":"PSA"},{"$f":"[1]Sheet1!D221","v":0}]
[{"$f":"[1]Sheet1!A222","v":"Body Dysmorphia"},{"$f":"[1]Sheet1!B222","v":"PSA"},{"$f":"[1]Sheet1!D222","v":0}]
[{"$f":"[1]Sheet1!A223","v":"Body Odor"},{"$f":"[1]Sheet1!B223","v":"PSA"},{"$f":"[1]Sheet1!D223","v":0}]
[{"$f":"[1]Sheet1!A224","v":"Breastfeeding"},{"$f":"[1]Sheet1!B224","v":"PSA"},{"$f":"[1]Sheet1!D224","v":0}]
[{"$f":"[1]Sheet1!A225","v":"Brush Your Teeth"},{"$f":"[1]Sheet1!B225","v":"PSA"},{"$f":"[1]Sheet1!D225","v":0}]
[{"$f":"[1]Sheet1!A226","v":"Buddy system"},{"$f":"[1]Sheet1!B226","v":"PSA"},{"$f":"[1]Sheet1!D226","v":0}]
[{"$f":"[1]Sheet1!A227","v":"Butt Chug"},{"$f":"[1]Sheet1!B227","v":"PSA"},{"$f":"[1]Sheet1!D227","v":0}]
[{"$f":"[1]Sheet1!A228","v":"Caffeine Addiction and You"},{"$f":"[1]Sheet1!B228","v":"PSA"},{"$f":"[1]Sheet1!D228","v":0}]
[{"$f":"[1]Sheet1!A229","v":"Call Your Mom"},{"$f":"[1]Sheet1!B229","v":"PSA"},{"$f":"[1]Sheet1!D229","v":0}]
[{"$f":"[1]Sheet1!A230","v":"Campground Etiquette"},{"$f":"[1]Sheet1!B230","v":"PSA"},{"$f":"[1]Sheet1!D230","v":0}]
[{"$f":"[1]Sheet1!A231","v":"CAT HERPES"},{"$f":"[1]Sheet1!B231","v":"PSA"},{"$f":"[1]Sheet1!D231","v":0}]
[{"$f":"[1]Sheet1!A232","v":"Celiac"},{"$f":"[1]Sheet1!B232","v":"PSA"},{"$f":"[1]Sheet1!D232","v":0}]
[{"$f":"[1]Sheet1!A233","v":"Cellphones at Concerts"},{"$f":"[1]Sheet1!B233","v":"PSA"},{"$f":"[1]Sheet1!D233","v":0}]
[{"$f":"[1]Sheet1!A234","v":"Check Your Boots"},{"$f":"[1]Sheet1!B234","v":"PSA"},{"$f":"[1]Sheet1!D234","v":0}]
[{"$f":"[1]Sheet1!A235","v":"chili"},{"$f":"[1]Sheet1!B235","v":"PSA"},{"$f":"[1]Sheet1!D235","v":0}]
[{"$f":"[1]Sheet1!A236","v":"circumcision"},{"$f":"[1]Sheet1!B236","v":"PSA"},{"$f":"[1]Sheet1!D236","v":0}]
[{"$f":"[1]Sheet1!A237","v":"Clean Towels"},{"$f":"[1]Sheet1!B237","v":"PSA"},{"$f":"[1]Sheet1!D237","v":0}]
[{"$f":"[1]Sheet1!A238","v":"College Campus Squirrels"},{"$f":"[1]Sheet1!B238","v":"PSA"},{"$f":"[1]Sheet1!D238","v":0}]
[{"$f":"[1]Sheet1!A239","v":"Condoms"},{"$f":"[1]Sheet1!B239","v":"PSA"},{"$f":"[1]Sheet1!D239","v":0}]
[{"$f":"[1]Sheet1!A240","v":"Crossing streets safely"},{"$f":"[1]Sheet1!B240","v":"PSA"},{"$f":"[1]Sheet1!D240","v":0}]
[{"$f":"[1]Sheet1!A241","v":"Data Due Diligence"},{"$f":"[1]Sheet1!B241","v":"PSA"},{"$f":"[1]Sheet1!D241","v":0}]
[{"$f":"[1]Sheet1!A242","v":"Doggie Depression"},{"$f":"[1]Sheet1!B242","v":"PSA"},{"$f":"[1]Sheet1!D242","v":0}]
[{"$f":"[1]Sheet1!A243","v":"Donate Your Eyes"},{"$f":"[1]Sheet1!B243","v":"PSA"},{"$f":"[1]Sheet1!D243","v":0}]
[{"$f":"[1]Sheet1!A244","v":"Dont be a D"},{"$f":"[1]Sheet1!B244","v":"PSA"},{"$f":"[1]Sheet1!D244","v":0}]
[{"$f":"[1]Sheet1!A245","v":"Dont Die From The cold"},{"$f":"[1]Sheet1!B245","v":"PSA"},{"$f":"[1]Sheet1!D245","v":0}]
[{"$f":"[1]Sheet1!A246","v":"Dont Reuse Condoms"},{"$f":"[1]Sheet1!B246","v":"PSA"},{"$f":"[1]Sheet1!D246","v":0}]
[{"$f":"[1]Sheet1!A247","v":"Dont Smother Your Children"},{"$f":"[1]Sheet1!B247","v":"PSA"},{"$f":"[1]Sheet1!D247","v":0}]
[{"$f":"[1]Sheet1!A248","v":"Dont Steal Wireless"},{"$f":"[1]Sheet1!B248","v":"PSA"},{"$f":"[1]Sheet1!D248","v":0}]
[{"$f":"[1]Sheet1!A249","v":"Dont Swear In Front Of The Children"},{"$f":"[1]Sheet1!B249","v":"PSA"},{"$f":"[1]Sheet1!D249","v":0}]
[{"$f":"[1]Sheet1!A250","v":"Dont Text and Drive"},{"$f":"[1]Sheet1!B250","v":"PSA"},{"$f":"[1]Sheet1!D250","v":0}]
[{"$f":"[1]Sheet1!A251","v":"Drink Milk"},{"$f":"[1]Sheet1!B251","v":"PSA"},{"$f":"[1]Sheet1!D251","v":0}]
[{"$f":"[1]Sheet1!A252","v":"Drowsy Driving"},{"$f":"[1]Sheet1!B252","v":"PSA"},{"$f":"[1]Sheet1!D252","v":0}]
[{"$f":"[1]Sheet1!A253","v":"Drug Free"},{"$f":"[1]Sheet1!B253","v":"PSA"},{"$f":"[1]Sheet1!D253","v":0}]
[{"$f":"[1]Sheet1!A254","v":"dumpster diving"},{"$f":"[1]Sheet1!B254","v":"PSA"},{"$f":"[1]Sheet1!D254","v":0}]
[{"$f":"[1]Sheet1!A255","v":"Duster"},{"$f":"[1]Sheet1!B255","v":"PSA"},{"$f":"[1]Sheet1!D255","v":0}]
[{"$f":"[1]Sheet1!A256","v":"Electrocution"},{"$f":"[1]Sheet1!B256","v":"PSA"},{"$f":"[1]Sheet1!D256","v":0}]
[{"$f":"[1]Sheet1!A257","v":"Epistemology"},{"$f":"[1]Sheet1!B257","v":"PSA"},{"$f":"[1]Sheet1!D257","v":0}]
[{"$f":"[1]Sheet1!A258","v":"Ethics"},{"$f":"[1]Sheet1!B258","v":"PSA"},{"$f":"[1]Sheet1!D258","v":0}]
[{"$f":"[1]Sheet1!A259","v":"Evolution vs. Creationism"},{"$f":"[1]Sheet1!B259","v":"PSA"},{"$f":"[1]Sheet1!D259","v":0}]
[{"$f":"[1]Sheet1!A260","v":"Fake News"},{"$f":"[1]Sheet1!B260","v":"PSA"},{"$f":"[1]Sheet1!D260","v":0}]
[{"$f":"[1]Sheet1!A261","v":"Falling Coconuts"},{"$f":"[1]Sheet1!B261","v":"PSA"},{"$f":"[1]Sheet1!D261","v":0}]
[{"$f":"[1]Sheet1!A262","v":"Family Mental Illness"},{"$f":"[1]Sheet1!B262","v":"PSA"},{"$f":"[1]Sheet1!D262","v":0}]
[{"$f":"[1]Sheet1!A263","v":"Flat Earth"},{"$f":"[1]Sheet1!B263","v":"PSA"},{"$f":"[1]Sheet1!D263","v":0}]
[{"$f":"[1]Sheet1!A264","v":"Floaters"},{"$f":"[1]Sheet1!B264","v":"PSA"},{"$f":"[1]Sheet1!D264","v":0}]
[{"$f":"[1]Sheet1!A265","v":"FlossYoTeef"},{"$f":"[1]Sheet1!B265","v":"PSA"},{"$f":"[1]Sheet1!D265","v":0}]
[{"$f":"[1]Sheet1!A266","v":"Folic Acid Information"},{"$f":"[1]Sheet1!B266","v":"PSA"},{"$f":"[1]Sheet1!D266","v":0}]
[{"$f":"[1]Sheet1!A267","v":"Food Safety-Is It Done Yet"},{"$f":"[1]Sheet1!B267","v":"PSA"},{"$f":"[1]Sheet1!D267","v":0}]
[{"$f":"[1]Sheet1!A268","v":"Furnace Filters"},{"$f":"[1]Sheet1!B268","v":"PSA"},{"$f":"[1]Sheet1!D268","v":0}]
[{"$f":"[1]Sheet1!A269","v":"GO TO CLASS"},{"$f":"[1]Sheet1!B269","v":"PSA"},{"$f":"[1]Sheet1!D269","v":0}]
[{"$f":"[1]Sheet1!A270","v":"Graffiti"},{"$f":"[1]Sheet1!B270","v":"PSA"},{"$f":"[1]Sheet1!D270","v":0}]
[{"$f":"[1]Sheet1!A271","v":"Gun safety"},{"$f":"[1]Sheet1!B271","v":"PSA"},{"$f":"[1]Sheet1!D271","v":0}]
[{"$f":"[1]Sheet1!A272","v":"Handicapped Parking"},{"$f":"[1]Sheet1!B272","v":"PSA"},{"$f":"[1]Sheet1!D272","v":0}]
[{"$f":"[1]Sheet1!A273","v":"Health and Fast Food"},{"$f":"[1]Sheet1!B273","v":"PSA"},{"$f":"[1]Sheet1!D273","v":0}]
[{"$f":"[1]Sheet1!A274","v":"Healthy Eating"},{"$f":"[1]Sheet1!B274","v":"PSA"},{"$f":"[1]Sheet1!D274","v":0}]
[{"$f":"[1]Sheet1!A275","v":"Hearing Loss"},{"$f":"[1]Sheet1!B275","v":"PSA"},{"$f":"[1]Sheet1!D275","v":0}]
[{"$f":"[1]Sheet1!A276","v":"Heart Disease"},{"$f":"[1]Sheet1!B276","v":"PSA"},{"$f":"[1]Sheet1!D276","v":0}]
[{"$f":"[1]Sheet1!A277","v":"Highway Accidents"},{"$f":"[1]Sheet1!B277","v":"PSA"},{"$f":"[1]Sheet1!D277","v":0}]
[{"$f":"[1]Sheet1!A278","v":"Home Mental Illness"},{"$f":"[1]Sheet1!B278","v":"PSA"},{"$f":"[1]Sheet1!D278","v":0}]
[{"$f":"[1]Sheet1!A279","v":"Homophones"},{"$f":"[1]Sheet1!B279","v":"PSA"},{"$f":"[1]Sheet1!D279","v":0}]
[{"$f":"[1]Sheet1!A280","v":"Hotel Fire Safety"},{"$f":"[1]Sheet1!B280","v":"PSA"},{"$f":"[1]Sheet1!D280","v":0}]
[{"$f":"[1]Sheet1!A281","v":"IBS"},{"$f":"[1]Sheet1!B281","v":"PSA"},{"$f":"[1]Sheet1!D281","v":0}]
[{"$f":"[1]Sheet1!A282","v":"In the Trash"},{"$f":"[1]Sheet1!B282","v":"PSA"},{"$f":"[1]Sheet1!D282","v":0}]
[{"$f":"[1]Sheet1!A283","v":"Incredible egg"},{"$f":"[1]Sheet1!B283","v":"PSA"},{"$f":"[1]Sheet1!D283","v":0}]
[{"$f":"[1]Sheet1!A284","v":"Inhalants I"},{"$f":"[1]Sheet1!B284","v":"PSA"},{"$f":"[1]Sheet1!D284","v":0}]
[{"$f":"[1]Sheet1!A285","v":"Inhalents II"},{"$f":"[1]Sheet1!B285","v":"PSA"},{"$f":"[1]Sheet1!D285","v":0}]
[{"$f":"[1]Sheet1!A286","v":"Inline Skating Safety"},{"$f":"[1]Sheet1!B286","v":"PSA"},{"$f":"[1]Sheet1!D286","v":0}]
[{"$f":"[1]Sheet1!A287","v":"Internet Predators"},{"$f":"[1]Sheet1!B287","v":"PSA"},{"$f":"[1]Sheet1!D287","v":0}]
[{"$f":"[1]Sheet1!A288","v":"Islamic Beliefs"},{"$f":"[1]Sheet1!B288","v":"PSA"},{"$f":"[1]Sheet1!D288","v":0}]
[{"$f":"[1]Sheet1!A289","v":"Jay Walking"},{"$f":"[1]Sheet1!B289","v":"PSA"},{"$f":"[1]Sheet1!D289","v":0}]
[{"$f":"[1]Sheet1!A290","v":"Jenkem "},{"$f":"[1]Sheet1!B290","v":"PSA"},{"$f":"[1]Sheet1!D290","v":0}]
[{"$f":"[1]Sheet1!A291","v":"Lead Poisoning"},{"$f":"[1]Sheet1!B291","v":"PSA"},{"$f":"[1]Sheet1!D291","v":0}]
[{"$f":"[1]Sheet1!A292","v":"Libido"},{"$f":"[1]Sheet1!B292","v":"PSA"},{"$f":"[1]Sheet1!D292","v":0}]
[{"$f":"[1]Sheet1!A293","v":"Lightning Facts"},{"$f":"[1]Sheet1!B293","v":"PSA"},{"$f":"[1]Sheet1!D293","v":0}]
[{"$f":"[1]Sheet1!A294","v":"Local Awareness"},{"$f":"[1]Sheet1!B294","v":"PSA"},{"$f":"[1]Sheet1!D294","v":0}]
[{"$f":"[1]Sheet1!A295","v":"Local Music"},{"$f":"[1]Sheet1!B295","v":"PSA"},{"$f":"[1]Sheet1!D295","v":0}]
[{"$f":"[1]Sheet1!A296","v":"lock doors"},{"$f":"[1]Sheet1!B296","v":"PSA"},{"$f":"[1]Sheet1!D296","v":0}]
[{"$f":"[1]Sheet1!A297","v":"Lock Your Doors"},{"$f":"[1]Sheet1!B297","v":"PSA"},{"$f":"[1]Sheet1!D297","v":0}]
[{"$f":"[1]Sheet1!A298","v":"London Exchange"},{"$f":"[1]Sheet1!B298","v":"PSA"},{"$f":"[1]Sheet1!D298","v":0}]
[{"$f":"[1]Sheet1!A299","v":"Loud Music"},{"$f":"[1]Sheet1!B299","v":"PSA"},{"$f":"[1]Sheet1!D299","v":0}]
[{"$f":"[1]Sheet1!A300","v":"Maggots"},{"$f":"[1]Sheet1!B300","v":"PSA"},{"$f":"[1]Sheet1!D300","v":0}]
[{"$f":"[1]Sheet1!A301","v":"Make Beer"},{"$f":"[1]Sheet1!B301","v":"PSA"},{"$f":"[1]Sheet1!D301","v":0}]
[{"$f":"[1]Sheet1!A302","v":"Marijuana I"},{"$f":"[1]Sheet1!B302","v":"PSA"},{"$f":"[1]Sheet1!D302","v":0}]
[{"$f":"[1]Sheet1!A303","v":"Marijuana II"},{"$f":"[1]Sheet1!B303","v":"PSA"},{"$f":"[1]Sheet1!D303","v":0}]
[{"$f":"[1]Sheet1!A304","v":"Marijuana Reform"},{"$f":"[1]Sheet1!B304","v":"PSA"},{"$f":"[1]Sheet1!D304","v":0}]
[{"$f":"[1]Sheet1!A305","v":"Memory Loss"},{"$f":"[1]Sheet1!B305","v":"PSA"},{"$f":"[1]Sheet1!D305","v":0}]
[{"$f":"[1]Sheet1!A306","v":"Migraines"},{"$f":"[1]Sheet1!B306","v":"PSA"},{"$f":"[1]Sheet1!D306","v":0}]
[{"$f":"[1]Sheet1!A307","v":"Mono"},{"$f":"[1]Sheet1!B307","v":"PSA"},{"$f":"[1]Sheet1!D307","v":0}]
[{"$f":"[1]Sheet1!A308","v":"Monobola"},{"$f":"[1]Sheet1!B308","v":"PSA"},{"$f":"[1]Sheet1!D308","v":0}]
[{"$f":"[1]Sheet1!A309","v":"Mononucleosis"},{"$f":"[1]Sheet1!B309","v":"PSA"},{"$f":"[1]Sheet1!D309","v":0}]
[{"$f":"[1]Sheet1!A310","v":"Moshing"},{"$f":"[1]Sheet1!B310","v":"PSA"},{"$f":"[1]Sheet1!D310","v":0}]
[{"$f":"[1]Sheet1!A311","v":"Moshipit Safety"},{"$f":"[1]Sheet1!B311","v":"PSA"},{"$f":"[1]Sheet1!D311","v":0}]
[{"$f":"[1]Sheet1!A312","v":"Mosquitoes"},{"$f":"[1]Sheet1!B312","v":"PSA"},{"$f":"[1]Sheet1!D312","v":0}]
[{"$f":"[1]Sheet1!A313","v":"Motorcycle Safety I"},{"$f":"[1]Sheet1!B313","v":"PSA"},{"$f":"[1]Sheet1!D313","v":0}]
[{"$f":"[1]Sheet1!A314","v":"Motorcycle Safety II"},{"$f":"[1]Sheet1!B314","v":"PSA"},{"$f":"[1]Sheet1!D314","v":0}]
[{"$f":"[1]Sheet1!A315","v":"Motorcycles"},{"$f":"[1]Sheet1!B315","v":"PSA"},{"$f":"[1]Sheet1!D315","v":0}]
[{"$f":"[1]Sheet1!A316","v":"Music Festivals"},{"$f":"[1]Sheet1!B316","v":"PSA"},{"$f":"[1]Sheet1!D316","v":0}]
[{"$f":"[1]Sheet1!A317","v":"My Story Is Yours"},{"$f":"[1]Sheet1!B317","v":"PSA"},{"$f":"[1]Sheet1!D317","v":0}]
[{"$f":"[1]Sheet1!A318","v":"Net Neutrality"},{"$f":"[1]Sheet1!B318","v":"PSA"},{"$f":"[1]Sheet1!D318","v":0}]
[{"$f":"[1]Sheet1!A319","v":"No Metal  in the microwave"},{"$f":"[1]Sheet1!B319","v":"PSA"},{"$f":"[1]Sheet1!D319","v":0}]
[{"$f":"[1]Sheet1!A320","v":"Nuclear Attack"},{"$f":"[1]Sheet1!B320","v":"PSA"},{"$f":"[1]Sheet1!D320","v":0}]
[{"$f":"[1]Sheet1!A321","v":"Nuclear Power"},{"$f":"[1]Sheet1!B321","v":"PSA"},{"$f":"[1]Sheet1!D321","v":0}]
[{"$f":"[1]Sheet1!A322","v":"Obsession Vs. Affection"},{"$f":"[1]Sheet1!B322","v":"PSA"},{"$f":"[1]Sheet1!D322","v":0}]
[{"$f":"[1]Sheet1!A323","v":"Ocelots"},{"$f":"[1]Sheet1!B323","v":"PSA"},{"$f":"[1]Sheet1!D323","v":0}]
[{"$f":"[1]Sheet1!A324","v":"Old Guys On Trash"},{"$f":"[1]Sheet1!B324","v":"PSA"},{"$f":"[1]Sheet1!D324","v":0}]
[{"$f":"[1]Sheet1!A325","v":"Organ Donation"},{"$f":"[1]Sheet1!B325","v":"PSA"},{"$f":"[1]Sheet1!D325","v":0}]
[{"$f":"[1]Sheet1!A326","v":"P2P Privacy"},{"$f":"[1]Sheet1!B326","v":"PSA"},{"$f":"[1]Sheet1!D326","v":0}]
[{"$f":"[1]Sheet1!A327","v":"Painkiller Abuse"},{"$f":"[1]Sheet1!B327","v":"PSA"},{"$f":"[1]Sheet1!D327","v":0}]
[{"$f":"[1]Sheet1!A328","v":"Paintball Safety"},{"$f":"[1]Sheet1!B328","v":"PSA"},{"$f":"[1]Sheet1!D328","v":0}]
[{"$f":"[1]Sheet1!A329","v":"Parking"},{"$f":"[1]Sheet1!B329","v":"PSA"},{"$f":"[1]Sheet1!D329","v":0}]
[{"$f":"[1]Sheet1!A330","v":"Parking etiquette"},{"$f":"[1]Sheet1!B330","v":"PSA"},{"$f":"[1]Sheet1!D330","v":0}]
[{"$f":"[1]Sheet1!A331","v":"Passive Aggressiveness"},{"$f":"[1]Sheet1!B331","v":"PSA"},{"$f":"[1]Sheet1!D331","v":0}]
[{"$f":"[1]Sheet1!A332","v":"Peanutbutter and Jelly"},{"$f":"[1]Sheet1!B332","v":"PSA"},{"$f":"[1]Sheet1!D332","v":0}]
[{"$f":"[1]Sheet1!A333","v":"Pedestrian Crossing"},{"$f":"[1]Sheet1!B333","v":"PSA"},{"$f":"[1]Sheet1!D333","v":0}]
[{"$f":"[1]Sheet1!A334","v":"Pedigree vs. The Pound"},{"$f":"[1]Sheet1!B334","v":"PSA"},{"$f":"[1]Sheet1!D334","v":0}]
[{"$f":"[1]Sheet1!A335","v":"Pet Diseases"},{"$f":"[1]Sheet1!B335","v":"PSA"},{"$f":"[1]Sheet1!D335","v":0}]
[{"$f":"[1]Sheet1!A336","v":"Pets In Cars"},{"$f":"[1]Sheet1!B336","v":"PSA"},{"$f":"[1]Sheet1!D336","v":0}]
[{"$f":"[1]Sheet1!A337","v":"Phobias"},{"$f":"[1]Sheet1!B337","v":"PSA"},{"$f":"[1]Sheet1!D337","v":0}]
[{"$f":"[1]Sheet1!A338","v":"Piercing Safety"},{"$f":"[1]Sheet1!B338","v":"PSA"},{"$f":"[1]Sheet1!D338","v":0}]
[{"$f":"[1]Sheet1!A339","v":"Pink Elephant"},{"$f":"[1]Sheet1!B339","v":"PSA"},{"$f":"[1]Sheet1!D339","v":0}]
[{"$f":"[1]Sheet1!A340","v":"Plagiarism"},{"$f":"[1]Sheet1!B340","v":"PSA"},{"$f":"[1]Sheet1!D340","v":0}]
[{"$f":"[1]Sheet1!A341","v":"Poly-Drug Abuse"},{"$f":"[1]Sheet1!B341","v":"PSA"},{"$f":"[1]Sheet1!D341","v":0}]
[{"$f":"[1]Sheet1!A342","v":"Power in Space"},{"$f":"[1]Sheet1!B342","v":"PSA"},{"$f":"[1]Sheet1!D342","v":0}]
[{"$f":"[1]Sheet1!A343","v":"Prarie Dogs"},{"$f":"[1]Sheet1!B343","v":"PSA"},{"$f":"[1]Sheet1!D343","v":0}]
[{"$f":"[1]Sheet1!A344","v":"Proper Suncare"},{"$f":"[1]Sheet1!B344","v":"PSA"},{"$f":"[1]Sheet1!D344","v":0}]
[{"$f":"[1]Sheet1!A345","v":"Prostate Cancer"},{"$f":"[1]Sheet1!B345","v":"PSA"},{"$f":"[1]Sheet1!D345","v":0}]
[{"$f":"[1]Sheet1!A346","v":"Prostate Health"},{"$f":"[1]Sheet1!B346","v":"PSA"},{"$f":"[1]Sheet1!D346","v":0}]
[{"$f":"[1]Sheet1!A347","v":"Public Urination"},{"$f":"[1]Sheet1!B347","v":"PSA"},{"$f":"[1]Sheet1!D347","v":0}]
[{"$f":"[1]Sheet1!A348","v":"RADD (Recording artists Against Drunk Driving)"},{"$f":"[1]Sheet1!B348","v":"PSA"},{"$f":"[1]Sheet1!D348","v":0}]
[{"$f":"[1]Sheet1!A349","v":"Radiation Facts"},{"$f":"[1]Sheet1!B349","v":"PSA"},{"$f":"[1]Sheet1!D349","v":0}]
[{"$f":"[1]Sheet1!A350","v":"RecoveryPosition"},{"$f":"[1]Sheet1!B350","v":"PSA"},{"$f":"[1]Sheet1!D350","v":0}]
[{"$f":"[1]Sheet1!A351","v":"Refridgerated Foods"},{"$f":"[1]Sheet1!B351","v":"PSA"},{"$f":"[1]Sheet1!D351","v":0}]
[{"$f":"[1]Sheet1!A352","v":"Renters Rights"},{"$f":"[1]Sheet1!B352","v":"PSA"},{"$f":"[1]Sheet1!D352","v":0}]
[{"$f":"[1]Sheet1!A353","v":"Reporting Crimes"},{"$f":"[1]Sheet1!B353","v":"PSA"},{"$f":"[1]Sheet1!D353","v":0}]
[{"$f":"[1]Sheet1!A354","v":"Road Rage I"},{"$f":"[1]Sheet1!B354","v":"PSA"},{"$f":"[1]Sheet1!D354","v":0}]
[{"$f":"[1]Sheet1!A355","v":"Road Rage II"},{"$f":"[1]Sheet1!B355","v":"PSA"},{"$f":"[1]Sheet1!D355","v":0}]
[{"$f":"[1]Sheet1!A356","v":"Robotripping"},{"$f":"[1]Sheet1!B356","v":"PSA"},{"$f":"[1]Sheet1!D356","v":0}]
[{"$f":"[1]Sheet1!A357","v":"Route 666"},{"$f":"[1]Sheet1!B357","v":"PSA"},{"$f":"[1]Sheet1!D357","v":0}]
[{"$f":"[1]Sheet1!A358","v":"Running Red Lights"},{"$f":"[1]Sheet1!B358","v":"PSA"},{"$f":"[1]Sheet1!D358","v":0}]
[{"$f":"[1]Sheet1!A359","v":"Rural Roads"},{"$f":"[1]Sheet1!B359","v":"PSA"},{"$f":"[1]Sheet1!D359","v":0}]
[{"$f":"[1]Sheet1!A360","v":"Saving Matters"},{"$f":"[1]Sheet1!B360","v":"PSA"},{"$f":"[1]Sheet1!D360","v":0}]
[{"$f":"[1]Sheet1!A361","v":"Seat Belts"},{"$f":"[1]Sheet1!B361","v":"PSA"},{"$f":"[1]Sheet1!D361","v":0}]
[{"$f":"[1]Sheet1!A362","v":"Seatbelt Law"},{"$f":"[1]Sheet1!B362","v":"PSA"},{"$f":"[1]Sheet1!D362","v":0}]
[{"$f":"[1]Sheet1!A363","v":"Self-Assertiveness"},{"$f":"[1]Sheet1!B363","v":"PSA"},{"$f":"[1]Sheet1!D363","v":0}]
[{"$f":"[1]Sheet1!A364","v":"Serotonin  Syndrome"},{"$f":"[1]Sheet1!B364","v":"PSA"},{"$f":"[1]Sheet1!D364","v":0}]
[{"$f":"[1]Sheet1!A365","v":"Sharks"},{"$f":"[1]Sheet1!B365","v":"PSA"},{"$f":"[1]Sheet1!D365","v":0}]
[{"$f":"[1]Sheet1!A366","v":"Shoplifting"},{"$f":"[1]Sheet1!B366","v":"PSA"},{"$f":"[1]Sheet1!D366","v":0}]
[{"$f":"[1]Sheet1!A367","v":"Single-Serve Coffee"},{"$f":"[1]Sheet1!B367","v":"PSA"},{"$f":"[1]Sheet1!D367","v":0}]
[{"$f":"[1]Sheet1!A368","v":"Sink Hole"},{"$f":"[1]Sheet1!B368","v":"PSA"},{"$f":"[1]Sheet1!D368","v":0}]
[{"$f":"[1]Sheet1!A369","v":"Skin Cancer"},{"$f":"[1]Sheet1!B369","v":"PSA"},{"$f":"[1]Sheet1!D369","v":0}]
[{"$f":"[1]Sheet1!A370","v":"Skin Cancer and Tanning Salons"},{"$f":"[1]Sheet1!B370","v":"PSA"},{"$f":"[1]Sheet1!D370","v":0}]
[{"$f":"[1]Sheet1!A371","v":"Sleep"},{"$f":"[1]Sheet1!B371","v":"PSA"},{"$f":"[1]Sheet1!D371","v":0}]
[{"$f":"[1]Sheet1!A372","v":"Snakes"},{"$f":"[1]Sheet1!B372","v":"PSA"},{"$f":"[1]Sheet1!D372","v":0}]
[{"$f":"[1]Sheet1!A373","v":"Software Piracy"},{"$f":"[1]Sheet1!B373","v":"PSA"},{"$f":"[1]Sheet1!D373","v":0}]
[{"$f":"[1]Sheet1!A374","v":"Spay or Neuter"},{"$f":"[1]Sheet1!B374","v":"PSA"},{"$f":"[1]Sheet1!D374","v":0}]
[{"$f":"[1]Sheet1!A375","v":"Spinal Meningitis"},{"$f":"[1]Sheet1!B375","v":"PSA"},{"$f":"[1]Sheet1!D375","v":0}]
[{"$f":"[1]Sheet1!A376","v":"Stealing Food"},{"$f":"[1]Sheet1!B376","v":"PSA"},{"$f":"[1]Sheet1!D376","v":0}]
[{"$f":"[1]Sheet1!A377","v":"Stress Relief"},{"$f":"[1]Sheet1!B377","v":"PSA"},{"$f":"[1]Sheet1!D377","v":0}]
[{"$f":"[1]Sheet1!A378","v":"Sun Cancer Protection"},{"$f":"[1]Sheet1!B378","v":"PSA"},{"$f":"[1]Sheet1!D378","v":0}]
[{"$f":"[1]Sheet1!A379","v":"Sunburn Advice"},{"$f":"[1]Sheet1!B379","v":"PSA"},{"$f":"[1]Sheet1!D379","v":0}]
[{"$f":"[1]Sheet1!A380","v":"Supporting local Musicians"},{"$f":"[1]Sheet1!B380","v":"PSA"},{"$f":"[1]Sheet1!D380","v":0}]
[{"$f":"[1]Sheet1!A381","v":"Surviving a Traffic Stop"},{"$f":"[1]Sheet1!B381","v":"PSA"},{"$f":"[1]Sheet1!D381","v":0}]
[{"$f":"[1]Sheet1!A382","v":"SUV Problems"},{"$f":"[1]Sheet1!B382","v":"PSA"},{"$f":"[1]Sheet1!D382","v":0}]
[{"$f":"[1]Sheet1!A383","v":"Syphilis"},{"$f":"[1]Sheet1!B383","v":"PSA"},{"$f":"[1]Sheet1!D383","v":0}]
[{"$f":"[1]Sheet1!A384","v":"Tar Wars"},{"$f":"[1]Sheet1!B384","v":"PSA"},{"$f":"[1]Sheet1!D384","v":0}]
[{"$f":"[1]Sheet1!A385","v":"Tattoo Health"},{"$f":"[1]Sheet1!B385","v":"PSA"},{"$f":"[1]Sheet1!D385","v":0}]
[{"$f":"[1]Sheet1!A386","v":"Teen Obesity"},{"$f":"[1]Sheet1!B386","v":"PSA"},{"$f":"[1]Sheet1!D386","v":0}]
[{"$f":"[1]Sheet1!A387","v":"Test Anxiety"},{"$f":"[1]Sheet1!B387","v":"PSA"},{"$f":"[1]Sheet1!D387","v":0}]
[{"$f":"[1]Sheet1!A388","v":"Testicular Cancer"},{"$f":"[1]Sheet1!B388","v":"PSA"},{"$f":"[1]Sheet1!D388","v":0}]
[{"$f":"[1]Sheet1!A389","v":"Tetnus"},{"$f":"[1]Sheet1!B389","v":"PSA"},{"$f":"[1]Sheet1!D389","v":0}]
[{"$f":"[1]Sheet1!A390","v":"The Dangers of Social Media"},{"$f":"[1]Sheet1!B390","v":"PSA"},{"$f":"[1]Sheet1!D390","v":0}]
[{"$f":"[1]Sheet1!A391","v":"Theft Prevention"},{"$f":"[1]Sheet1!B391","v":"PSA"},{"$f":"[1]Sheet1!D391","v":0}]
[{"$f":"[1]Sheet1!A392","v":"Tinnitus"},{"$f":"[1]Sheet1!B392","v":"PSA"},{"$f":"[1]Sheet1!D392","v":0}]
[{"$f":"[1]Sheet1!A393","v":"Tip Your Delivery Driver"},{"$f":"[1]Sheet1!B393","v":"PSA"},{"$f":"[1]Sheet1!D393","v":0}]
[{"$f":"[1]Sheet1!A394","v":"Toad Licking"},{"$f":"[1]Sheet1!B394","v":"PSA"},{"$f":"[1]Sheet1!D394","v":0}]
[{"$f":"[1]Sheet1!A395","v":"Toilet Paper"},{"$f":"[1]Sheet1!B395","v":"PSA"},{"$f":"[1]Sheet1!D395","v":0}]
[{"$f":"[1]Sheet1!A396","v":"Too Many Cooks"},{"$f":"[1]Sheet1!B396","v":"PSA"},{"$f":"[1]Sheet1!D396","v":0}]
[{"$f":"[1]Sheet1!A397","v":"Tornado Safety"},{"$f":"[1]Sheet1!B397","v":"PSA"},{"$f":"[1]Sheet1!D397","v":0}]
[{"$f":"[1]Sheet1!A398","v":"Tread Wear"},{"$f":"[1]Sheet1!B398","v":"PSA"},{"$f":"[1]Sheet1!D398","v":0}]
[{"$f":"[1]Sheet1!A399","v":"Tresspassing I"},{"$f":"[1]Sheet1!B399","v":"PSA"},{"$f":"[1]Sheet1!D399","v":0}]
[{"$f":"[1]Sheet1!A400","v":"Tresspassing II"},{"$f":"[1]Sheet1!B400","v":"PSA"},{"$f":"[1]Sheet1!D400","v":0}]
[{"$f":"[1]Sheet1!A401","v":"Tropical Rain Forest"},{"$f":"[1]Sheet1!B401","v":"PSA"},{"$f":"[1]Sheet1!D401","v":0}]
[{"$f":"[1]Sheet1!A402","v":"Turn down the jams"},{"$f":"[1]Sheet1!B402","v":"PSA"},{"$f":"[1]Sheet1!D402","v":0}]
[{"$f":"[1]Sheet1!A403","v":"Turn Signals"},{"$f":"[1]Sheet1!B403","v":"PSA"},{"$f":"[1]Sheet1!D403","v":0}]
[{"$f":"[1]Sheet1!A404","v":"Ultrabra"},{"$f":"[1]Sheet1!B404","v":"PSA"},{"$f":"[1]Sheet1!D404","v":0}]
[{"$f":"[1]Sheet1!A405","v":"Underaged Drinking"},{"$f":"[1]Sheet1!B405","v":"PSA"},{"$f":"[1]Sheet1!D405","v":0}]
[{"$f":"[1]Sheet1!A406","v":"Vaccines"},{"$f":"[1]Sheet1!B406","v":"PSA"},{"$f":"[1]Sheet1!D406","v":0}]
[{"$f":"[1]Sheet1!A407","v":"Veggies"},{"$f":"[1]Sheet1!B407","v":"PSA"},{"$f":"[1]Sheet1!D407","v":0}]
[{"$f":"[1]Sheet1!A408","v":"Vending machines, the violent killer"},{"$f":"[1]Sheet1!B408","v":"PSA"},{"$f":"[1]Sheet1!D408","v":0}]
[{"$f":"[1]Sheet1!A409","v":"Video Game Ratings"},{"$f":"[1]Sheet1!B409","v":"PSA"},{"$f":"[1]Sheet1!D409","v":0}]
[{"$f":"[1]Sheet1!A410","v":"voicemail"},{"$f":"[1]Sheet1!B410","v":"PSA"},{"$f":"[1]Sheet1!D410","v":0}]
[{"$f":"[1]Sheet1!A411","v":"Voter Turnout"},{"$f":"[1]Sheet1!B411","v":"PSA"},{"$f":"[1]Sheet1!D411","v":0}]
[{"$f":"[1]Sheet1!A412","v":"Wash Ur Hands"},{"$f":"[1]Sheet1!B412","v":"PSA"},{"$f":"[1]Sheet1!D412","v":0}]
[{"$f":"[1]Sheet1!A413","v":"Wash Your Hands"},{"$f":"[1]Sheet1!B413","v":"PSA"},{"$f":"[1]Sheet1!D413","v":0}]
[{"$f":"[1]Sheet1!A414","v":"Water Bottles"},{"$f":"[1]Sheet1!B414","v":"PSA"},{"$f":"[1]Sheet1!D414","v":0}]
[{"$f":"[1]Sheet1!A415","v":"Weight Lifting"},{"$f":"[1]Sheet1!B415","v":"PSA"},{"$f":"[1]Sheet1!D415","v":0}]
[{"$f":"[1]Sheet1!A416","v":"When You are Pulled Over"},{"$f":"[1]Sheet1!B416","v":"PSA"},{"$f":"[1]Sheet1!D416","v":0}]
[{"$f":"[1]Sheet1!A417","v":"Wine And A Chocolate"},{"$f":"[1]Sheet1!B417","v":"PSA"},{"$f":"[1]Sheet1!D417","v":0}]
[{"$f":"[1]Sheet1!A418","v":"Winter Holiday Safety"},{"$f":"[1]Sheet1!B418","v":"PSA"},{"$f":"[1]Sheet1!D418","v":0}]
[{"$f":"[1]Sheet1!A419","v":"WNS in Bats"},{"$f":"[1]Sheet1!B419","v":"PSA"},{"$f":"[1]Sheet1!D419","v":0}]
[{"$f":"[1]Sheet1!A420","v":"Zoophilia"},{"$f":"[1]Sheet1!B420","v":"PSA"},{"$f":"[1]Sheet1!D420","v":0}]

{"sheet":"Sheet4","index":2,"n_rows":10,"n_cols":11,"rows_kept":10,"cut":false,"hidden":true,"merged":[]}
["Listen 30","01:31:00",{"$f":"B1","v":"01:31:00"},{"$f":"VLOOKUP(A1,[1]Sheet1!$A$2:$D$1000,3,FALSE)","v":30},{"$f":"TRUNC(D1/60,0)","v":0},{"$f":"MOD(D1,60)","v":30},{"$f":"CONCATENATE(J1, E1, K1, F1)","v":"00:00:30"},{"$f":"B1+G1","v":"01:31:30"},{"$f":"H1","v":"01:31:30"},"00:0",":"]
["Josh Groban 30","21:41:00",{"$f":"B2","v":"21:41:00"},{"$f":"VLOOKUP(A2,[1]Sheet1!$A$2:$D$1000,3,FALSE)","v":30},{"$f":"TRUNC(D2/60,0)","v":0},{"$f":"MOD(D2,60)","v":30},{"$f":"CONCATENATE(J1, E2, K1, F2)","v":"00:00:30"},{"$f":"B2+G2","v":"21:41:30"},{"$f":"H2","v":"21:41:30"}]
["Moments 60","15:30:00",{"$f":"B3","v":"15:30:00"},{"$f":"VLOOKUP(A3,[1]Sheet1!$A$2:$D$1000,3,FALSE)","v":60},{"$f":"TRUNC(D3/60,0)","v":1},{"$f":"MOD(D3,60)","v":0},{"$f":"CONCATENATE(J1, E3, K1, F3)","v":"00:01:0"},{"$f":"B3+G3","v":"15:31:00"},{"$f":"H3","v":"15:31:00"}]
["Chance 60","01:32:00",{"$f":"B4","v":"01:32:00"},{"$f":"VLOOKUP(A4,[1]Sheet1!$A$2:$D$1000,3,FALSE)","v":60},{"$f":"TRUNC(D4/60,0)","v":1},{"$f":"MOD(D4,60)","v":0},{"$f":"CONCATENATE(J1, E4, K1, F4)","v":"00:01:0"},{"$f":"B4+G4","v":"01:33:00"},{"$f":"H4","v":"01:33:00"}]
["Surprise You 30","18:46:00",{"$f":"B5","v":"18:46:00"},{"$f":"VLOOKUP(A5,[1]Sheet1!$A$2:$D$1000,3,FALSE)","v":30},{"$f":"TRUNC(D5/60,0)","v":0},{"$f":"MOD(D5,60)","v":30},{"$f":"CONCATENATE(J1, E5, K1, F5)","v":"00:00:30"},{"$f":"B5+G5","v":"18:46:30"},{"$f":"H5","v":"18:46:30"}]
["Designer Jeans 60","18:29:00",{"$f":"B6","v":"18:29:00"},{"$f":"VLOOKUP(A6,[1]Sheet1!$A$2:$D$1000,3,FALSE)","v":60},{"$f":"TRUNC(D6/60,0)","v":1},{"$f":"MOD(D6,60)","v":0},{"$f":"CONCATENATE(J1, E6, K1, F6)","v":"00:01:0"},{"$f":"B6+G6","v":"18:30:00"},{"$f":"H6","v":"18:30:00"}]
[null,null,{"$f":"B7","v":"00:00:00"},{"$f":"VLOOKUP(A7,[1]Sheet1!$A$2:$D$1000,3,FALSE)","v":{"$error":"#N/A"}},{"$f":"TRUNC(D7/60,0)","v":{"$error":"#N/A"}},{"$f":"MOD(D7,60)","v":{"$error":"#N/A"}},{"$f":"CONCATENATE(J1, E7, K1, F7)","v":{"$error":"#N/A"}},{"$f":"B7+G7","v":{"$error":"#N/A"}},{"$f":"H7","v":{"$error":"#N/A"}}]
[null,null,{"$f":"B8","v":"00:00:00"},{"$f":"VLOOKUP(A8,[1]Sheet1!$A$2:$D$1000,3,FALSE)","v":{"$error":"#N/A"}},{"$f":"TRUNC(D8/60,0)","v":{"$error":"#N/A"}},{"$f":"MOD(D8,60)","v":{"$error":"#N/A"}},{"$f":"CONCATENATE(J1, E8, K1, F8)","v":{"$error":"#N/A"}},{"$f":"B8+G8","v":{"$error":"#N/A"}},{"$f":"H8","v":{"$error":"#N/A"}}]
[null,null,{"$f":"B9","v":"00:00:00"},{"$f":"VLOOKUP(A9,[1]Sheet1!$A$2:$D$1000,3,FALSE)","v":{"$error":"#N/A"}},{"$f":"TRUNC(D9/60,0)","v":{"$error":"#N/A"}},{"$f":"MOD(D9,60)","v":{"$error":"#N/A"}},{"$f":"CONCATENATE(J1, E9, K1, F9)","v":{"$error":"#N/A"}},{"$f":"B9+G9","v":{"$error":"#N/A"}},{"$f":"H9","v":{"$error":"#N/A"}}]
[null,null,{"$f":"B10","v":"00:00:00"},{"$f":"VLOOKUP(A10,[1]Sheet1!$A$2:$D$1000,3,FALSE)","v":{"$error":"#N/A"}},{"$f":"TRUNC(D10/60,0)","v":{"$error":"#N/A"}},{"$f":"MOD(D10,60)","v":{"$error":"#N/A"}},{"$f":"CONCATENATE(J1, E10, K1, F10)","v":{"$error":"#N/A"}},{"$f":"B10+G10","v":{"$error":"#N/A"}},{"$f":"H10","v":{"$error":"#N/A"}}]

{"sheet":"Indivigual Program Log","index":3,"n_rows":276,"n_cols":3,"rows_kept":276,"cut":false,"hidden":false,"merged":[[0,0,0,2]]}
["Program Log"]
["Date","Program Type","Title (Start Time, End Time)"]
["1 Apr 2018","PSA","Donate Your Eyes (5:51:00 PM, 5:52:35 PM), Graffiti (12:52:00 AM, 12:52:59 AM), "]
["1 Apr 2018","Ascertainment","Student Success Center (11:47:00 AM, 11:48:04 AM), "]
["1 Apr 2018","Ad Council","Haircut 60 (2:00:00 AM, 2:01:00 AM), Groan 60 (11:48:00 AM, 11:49:00 AM), "]
["2 Apr 2018","PSA","Peanutbutter And Jelly (7:22:00 PM, 7:23:25 PM), Piercing Safety (5:21:00 PM, 5:22:37 PM), Ocelots (1:23:00 PM, 1:23:59 PM), Homophones (12:54:00 AM, 12:55:04 AM), Brush Your Teeth (9:41:00 AM, 9:41:54 AM), "]
["2 Apr 2018","Ascertainment","Video Game Addiction (3:43:00 PM, 3:45:25 PM), Marijuana (9:44:00 PM, 9:46:30 PM), Nature Conservation (11:22:00 AM, 11:25:29 AM), "]
["2 Apr 2018","Ad Council","Tune Out 30 (9:44:00 PM, 9:44:30 PM), Haircut 60 (11:37:00 AM, 11:38:00 AM), Groan 60 (3:14:00 PM, 3:15:00 PM), DonT Wait-Wildfire 30 (1:39:00 AM, 1:39:30 AM), PreDiabetes Test 30 (6:51:00 PM, 6:51:30 PM), "]
["3 Apr 2018","PSA","Aliens (1:37:00 PM, 1:38:22 PM), Road Rage Ii (7:39:00 PM, 7:42:49 PM), Homophones (5:05:00 PM, 5:06:04 PM), Brush Your Teeth (12:45:00 AM, 12:45:54 AM), "]
["3 Apr 2018","Ascertainment","SkatePark (4:06:00 PM, 4:06:46 PM), Dont be a Stalker (9:48:00 PM, 9:49:35 PM), Climbing Club (11:22:00 AM, 11:23:24 AM), Turn Down Your Ding Dang Speakers (7:42:00 AM, 7:44:15 AM), "]
["3 Apr 2018","Ad Council","Dont Wait-Earthquake 30 (9:47:00 PM, 9:47:30 PM), Grown Up 30 (11:34:00 AM, 11:34:30 AM), 2 Sides 30 (1:40:00 AM, 1:40:30 AM), Listen 30 (7:43:00 AM, 7:43:30 AM), Forest Animals 60 (3:36:00 PM, 3:37:00 PM), Designer Jeans 30 (6:04:00 PM, 6:04:30 PM), "]
["4 Apr 2018","PSA","Vaccines (8:25:00 PM, 8:28:24 PM), Absentee Voting (12:45:00 AM, 12:45:43 AM), Flat Earth (5:13:00 PM, 5:14:20 PM), "]
["4 Apr 2018","Ascertainment","Recycling (3:59:00 PM, 4:02:15 PM), Stressless Room (11:39:00 AM, 11:40:14 AM), Mailbox Decapitation (9:20:00 PM, 9:20:45 PM), Turn Down Your Ding Dang Speakers (3:39:00 AM, 3:41:15 AM), "]
["4 Apr 2018","Ad Council","Smiles 30 (1:46:00 AM, 1:46:30 AM), Grown Up 30 (11:24:00 AM, 11:24:30 AM), Forest Animals 60 (7:02:00 PM, 7:03:00 PM), Concert 30 (9:20:00 PM, 9:20:30 PM), Concert 60 (2:59:00 PM, 3:00:00 PM), "]
["5 Apr 2018","PSA","Single-Serve Coffee (1:16:00 PM, 1:17:02 PM), Beezin (9:16:00 AM, 9:16:58 AM), Sink Hole (12:34:00 AM, 12:35:41 AM), "]
["5 Apr 2018","Ascertainment","Bowling (11:23:00 AM, 11:24:07 AM), Rolla Rural Fire (9:49:00 PM, 9:51:12 PM), MSTRecCenter (3:00:00 PM, 3:00:34 PM), "]
["5 Apr 2018","Ad Council","Click 30 (9:48:00 PM, 9:48:30 PM), Designer Jeans 30 (3:00:00 PM, 3:00:30 PM), Best In Show Dog 60 (6:47:00 PM, 6:48:00 PM), Bento 30 (11:40:00 AM, 11:40:30 AM), Online Dating 30 (1:24:00 AM, 1:24:30 AM), "]
["6 Apr 2018","PSA","Single-Serve Coffee (1:18:00 PM, 1:19:02 PM), Data Due Diligence (7:37:00 PM, 7:38:51 PM), Sleep (12:47:00 AM, 12:48:04 AM), Drink Milk (5:44:00 PM, 5:44:55 PM), "]
["6 Apr 2018","Ascertainment","Mst Music (9:22:00 PM, 9:23:23 PM), Dags (3:25:00 AM, 3:25:45 AM), Lead (3:50:00 PM, 3:50:52 PM), Sports Programs (11:10:00 AM, 11:11:09 AM), Stressless Room (7:17:00 AM, 7:18:14 AM), "]
["6 Apr 2018","Ad Council","Hamilton 30 (1:47:00 AM, 1:47:30 AM), 2 Sides 60 (3:34:00 PM, 3:35:00 PM), Groan 30 (9:52:00 PM, 9:52:30 PM), Breakup 60 (7:39:00 AM, 7:40:00 AM), Leash 30 (6:53:00 PM, 6:53:30 PM), Surprise You 30 (11:43:00 AM, 11:43:30 AM), "]
["7 Apr 2018","PSA","Pets In Cars (1:05:00 PM, 1:05:34 PM), Call Your Mom (5:27:00 PM, 5:27:40 PM), Caffeine Addiction And You (7:18:00 PM, 7:18:56 PM), Bee Swarm (9:04:00 AM, 9:04:43 AM), Shoplifting (12:27:00 AM, 12:28:30 AM), "]
["7 Apr 2018","Ascertainment","University Police (9:36:00 PM, 9:37:09 PM), Go Outside (3:34:00 AM, 3:35:53 AM), MSTRecCenter (11:22:00 AM, 11:22:34 AM), "]
["7 Apr 2018","Ad Council","2 Sides 60 (11:22:00 AM, 11:23:00 AM), Taxi 60 (9:36:00 PM, 9:37:00 PM), Click 60 (6:40:00 PM, 6:41:00 PM), Breakup 60 (2:06:00 AM, 2:07:00 AM), "]
["8 Apr 2018","PSA","Beezin (12:41:00 AM, 12:41:58 AM), My Story Is Yours (7:25:00 PM, 7:25:21 PM), DonT Steal Wireless (5:45:00 PM, 5:46:06 PM), In The Trash (1:25:00 PM, 1:26:25 PM), "]
["8 Apr 2018","Ascertainment","Vote With Elton John (3:37:00 PM, 3:38:38 PM), Go Outside (7:24:00 AM, 7:25:53 AM), Frisbeegolf (11:45:00 AM, 11:45:37 AM), "]
["8 Apr 2018","Ad Council","Bear Hug Campfire 30 (7:09:00 PM, 7:09:30 PM), Rich Uncle 60 (3:17:00 PM, 3:18:00 PM), Forest Animals 60 (7:26:00 AM, 7:27:00 AM), Bear Hug Campfire 60 (11:44:00 AM, 11:45:00 AM), Leash 30 (1:47:00 AM, 1:47:30 AM), "]
["9 Apr 2018","PSA","DonT Die From The Cold (7:30:00 PM, 7:31:17 PM), Ibs (5:22:00 PM, 5:22:53 PM), Cellphones At Concerts (9:43:00 AM, 9:44:30 AM), Go To Class (12:35:00 AM, 12:36:13 AM), "]
["9 Apr 2018","Ascertainment","Curbside Recycling I (9:34:00 PM, 9:36:37 PM), University Police (7:29:00 AM, 7:30:09 AM), Frisbeegolf (3:29:00 PM, 3:29:37 PM), Marijuana (3:33:00 AM, 3:35:30 AM), Turn Down Your Ding Dang Speakers (11:18:00 AM, 11:20:15 AM), "]
["9 Apr 2018","Ad Council","Wed Do Anything 60 (11:47:00 AM, 11:48:00 AM), Best In Show Dog 60 (1:32:00 AM, 1:33:00 AM), Rising Ashes-Chains 30 (6:38:00 PM, 6:38:30 PM), 2 Sides 30 (9:22:00 PM, 9:22:30 PM), Groan 30 (3:41:00 PM, 3:41:30 PM), Groan 30 (7:46:00 AM, 7:46:30 AM), "]
["10 Apr 2018","PSA","College Campus Squirrels (5:00:00 PM, 5:00:59 PM), DonT Be A D (1:51:00 PM, 1:51:55 PM), Cellphones At Concerts (12:44:00 AM, 12:45:30 AM), Turn Signals (9:36:00 AM, 9:37:33 AM), Drink Milk (7:50:00 PM, 7:50:55 PM), "]
["10 Apr 2018","Ascertainment","Nature Conservation (7:53:00 AM, 7:56:29 AM), Open Container Law (3:34:00 PM, 3:36:37 PM), Writing Center (11:10:00 AM, 11:11:38 AM), Rolla Parks (9:56:00 PM, 9:58:04 PM), "]
["10 Apr 2018","Ad Council","Click 60 (11:32:00 AM, 11:33:00 AM), Only In The Forest 60 (7:53:00 AM, 7:54:00 AM), Redwoods 30 (6:47:00 PM, 6:47:30 PM), Best In Show Dog 60 (1:36:00 AM, 1:37:00 AM), Groan 30 (9:39:00 PM, 9:39:30 PM), Power Suit 60 (3:32:00 PM, 3:33:00 PM), "]
["11 Apr 2018","PSA","Furnace Filters (12:30:00 AM, 12:31:15 AM), Drink Milk (5:42:00 PM, 5:42:55 PM), Go To Class (1:21:00 PM, 1:22:13 PM), "]
["11 Apr 2018","Ascertainment","Rolla Public Library II (3:37:00 AM, 3:39:15 AM), Stressless Room (3:46:00 PM, 3:47:14 PM), "]
["11 Apr 2018","Ad Council","Pavlov Purpose 60 (3:44:00 PM, 3:45:00 PM), Wed Do Anything 60 (11:45:00 AM, 11:46:00 AM), Airtime 30 (9:59:00 PM, 9:59:30 PM), Rising Ashes-Fire Pit 60 (1:16:00 AM, 1:17:00 AM), "]
["12 Apr 2018","PSA","DonT Text And Drive (1:19:00 PM, 1:20:07 PM), Local Awareness (9:11:00 AM, 9:11:59 AM), Bee Swarm (12:28:00 AM, 12:28:43 AM), Gun Safety (7:38:00 PM, 7:38:43 PM), Cellphones At Concerts (5:13:00 PM, 5:14:30 PM), "]
["12 Apr 2018","Ascertainment","Epistemology (7:07:00 AM, 7:08:11 AM), Lead (9:49:00 PM, 9:49:52 PM), Missouri Caves (3:13:00 PM, 3:14:31 PM), Turn Down Your Ding Dang Speakers (11:45:00 AM, 11:47:15 AM), "]
["12 Apr 2018","Ad Council","Haircut 60 (7:34:00 AM, 7:35:00 AM), Listen 60 (1:23:00 AM, 1:24:00 AM), Tune Out 30 (9:48:00 PM, 9:48:30 PM), Concert 30 (3:14:00 PM, 3:14:30 PM), Pavlov Purpose 30 (11:22:00 AM, 11:22:30 AM), "]
["13 Apr 2018","PSA","Local Awareness (1:16:00 PM, 1:16:59 PM), Black Rhinos (12:49:00 AM, 12:49:48 AM), Cellphones At Concerts (5:49:00 PM, 5:50:30 PM), Piercing Safety (7:31:00 PM, 7:32:37 PM), "]
["13 Apr 2018","Ascertainment","Epistemology (9:49:00 PM, 9:50:11 PM), Electric Car (7:17:00 AM, 7:17:50 AM), Mstreccenter (3:36:00 PM, 3:36:34 PM), DonT Be A Stalker (11:19:00 AM, 11:20:35 AM), Mailbox Decapitation (3:12:00 AM, 3:12:45 AM), "]
["13 Apr 2018","Ad Council","Click 30 (7:40:00 AM, 7:40:30 AM), Rachael Ray 30 (11:43:00 AM, 11:43:30 AM), Redwoods 30 (6:36:00 PM, 6:36:30 PM), Airtime 60 (9:49:00 PM, 9:50:00 PM), Best In Show Dog 60 (1:49:00 AM, 1:50:00 AM), Allison 30 (3:28:00 PM, 3:28:30 PM), "]
["14 Apr 2018","PSA","Local Awareness (5:05:00 PM, 5:05:59 PM), Data Due Diligence (12:03:00 AM, 12:04:51 AM), Underaged Drinking (12:59:00 PM, 1:00:16 PM), "]
["14 Apr 2018","Ascertainment","Epistemology (9:17:00 PM, 9:18:11 PM), Severe Weather Safety Tips (3:34:00 AM, 3:37:11 AM), Rolla Parks (11:22:00 AM, 11:24:04 AM), "]
["14 Apr 2018","Ad Council","Rich Uncle 60 (1:21:00 AM, 1:22:00 AM), Tougher Than Tough 60 (9:16:00 PM, 9:17:00 PM), Click 60 (11:42:00 AM, 11:43:00 AM), "]
["15 Apr 2018","PSA","Pets In Cars (9:41:00 AM, 9:41:34 AM), "]
["15 Apr 2018","Ascertainment","Rolla Animal Shelter I (9:25:00 PM, 9:26:59 PM), Go Outside (3:23:00 PM, 3:24:53 PM), Missouri Caves (11:16:00 AM, 11:17:31 AM), "]
["15 Apr 2018","Ad Council","Lucky 30 (6:54:00 PM, 6:54:30 PM), Smiles 60 (1:31:00 AM, 1:32:00 AM), Short Shorts 60 (9:24:00 PM, 9:25:00 PM), Airtime 60 (3:23:00 PM, 3:24:00 PM), Sense Of Adventure 60 (11:37:00 AM, 11:38:00 AM), "]
["16 Apr 2018","PSA","Local Awareness (12:44:00 AM, 12:44:59 AM), Sleep (7:24:00 PM, 7:25:04 PM), Cellphones At Concerts (5:52:00 PM, 5:53:30 PM), College Campus Squirrels (1:24:00 PM, 1:24:59 PM), Autoerotic Asphyxiation (9:18:00 AM, 9:18:54 AM), "]
["16 Apr 2018","Ascertainment","MST Music (7:13:00 AM, 7:14:23 AM), Stressless Room (3:48:00 PM, 3:49:14 PM), "]
["16 Apr 2018","Ad Council","2 Sides 60 (3:25:00 PM, 3:26:00 PM), Click 60 (6:40:00 PM, 6:41:00 PM), Forest Animals 30 (1:44:00 AM, 1:44:30 AM), Dont Wait-Tornado 30 (7:47:00 AM, 7:47:30 AM), Listen 30 (9:36:00 PM, 9:36:30 PM), Smiles 60 (11:41:00 AM, 11:42:00 AM), "]
["17 Apr 2018","PSA","Handicapped Parking (5:01:00 PM, 5:01:42 PM), Dumpster Diving (7:46:00 PM, 7:49:36 PM), Drink Milk (9:42:00 AM, 9:42:55 AM), Home Mental Illness (1:58:00 PM, 1:58:57 PM), "]
["17 Apr 2018","Ascertainment","University Police (9:40:00 PM, 9:41:09 PM), Electric Car (3:39:00 PM, 3:39:50 PM), Frisbeegolf (11:27:00 AM, 11:27:37 AM), Missouri Caves (7:36:00 AM, 7:37:31 AM), "]
["17 Apr 2018","Ad Council","Click 60 (9:40:00 PM, 9:41:00 PM), Inside The Mind 60 (11:40:00 AM, 11:41:00 AM), I Want To Be 30 (3:39:00 PM, 3:39:30 PM), "]
["18 Apr 2018","PSA","Local Awareness (5:51:00 PM, 5:51:59 PM), Motorcycle Safety I (7:52:00 PM, 7:54:24 PM), Flat Earth (12:28:00 AM, 12:29:20 AM), "]
["18 Apr 2018","Ascertainment","Rolla Leash Laws (3:38:00 AM, 3:40:24 AM), Dags (9:56:00 PM, 9:56:45 PM), Mstreccenter (3:35:00 PM, 3:35:34 PM), Dont Be A Stalker (11:41:00 AM, 11:42:35 AM), "]
["18 Apr 2018","Ad Council","Airtime 60 (10:01:00 PM, 10:02:00 PM), Feather 30 (6:48:00 PM, 6:48:30 PM), Look Down 30 (11:56:00 AM, 11:56:30 AM), 2 Sides 60 (1:26:00 AM, 1:27:00 AM), Pavlov Purpose 60 (3:08:00 PM, 3:09:00 PM), "]
["19 Apr 2018","PSA","Family Mental Illness (7:35:00 PM, 7:35:30 PM), Flat Earth (5:14:00 PM, 5:15:20 PM), Single-Serve Coffee (12:36:00 AM, 12:37:02 AM), Parking etiquette (9:12:00 AM, 9:12:44 AM), "]
["19 Apr 2018","Ascertainment","Senior Companions (3:13:00 PM, 3:14:06 PM), Go Outside (9:00:00 PM, 9:01:53 PM), Dont Be A Stalker (11:23:00 AM, 11:24:35 AM), "]
["19 Apr 2018","Ad Council","Short Shorts 60 (1:37:00 AM, 1:38:00 AM), Sense Of Adventure 30 (11:52:00 AM, 11:52:30 AM), Gift To Future Me 60 (6:44:00 PM, 6:45:00 PM), Forest Animals 30 (3:13:00 PM, 3:13:30 PM), Show And Tell 30 (8:59:00 PM, 8:59:30 PM), "]
["20 Apr 2018","PSA","Water Bottles (7:37:00 PM, 7:40:50 PM), Caffeine Addiction And You (12:49:00 AM, 12:49:56 AM), Cat Herpes (5:47:00 PM, 5:48:12 PM), Campground Etiquette (1:14:00 PM, 1:16:28 PM), "]
["20 Apr 2018","Ascertainment","Go Outside (11:20:00 AM, 11:21:53 AM), Nature Conservation (3:15:00 PM, 3:18:29 PM), Electric Car (9:55:00 PM, 9:55:50 PM), Marijuana (3:05:00 AM, 3:07:30 AM), Bowling (7:22:00 AM, 7:23:07 AM), "]
["20 Apr 2018","Ad Council","Smiles 60 (9:55:00 PM, 9:56:00 PM), Cellphone 30 (1:46:00 AM, 1:46:30 AM), Forest Animals 30 (3:34:00 PM, 3:34:30 PM), Houseace 30 (11:44:00 AM, 11:44:30 AM), Bear Hug Campfire 30 (7:40:00 AM, 7:40:30 AM), I Want To Be 30 (6:10:00 PM, 6:10:30 PM), "]
["21 Apr 2018","PSA","Marijuana II (12:49:00 AM, 12:53:10 AM), Campground Etiquette (1:07:00 PM, 1:09:28 PM), "]
["21 Apr 2018","Ascertainment","Nature Conservation (3:48:00 AM, 3:51:29 AM), Stressless Room (4:04:00 PM, 4:05:14 PM), Marijuana (11:38:00 AM, 11:40:30 AM), Climbing Club (6:59:00 AM, 7:00:24 AM), "]
["21 Apr 2018","Ad Council","Redwoods 30 (4:04:00 PM, 4:04:30 PM), Look Down 30 (11:41:00 AM, 11:41:30 AM), One More 30 (6:59:00 AM, 6:59:30 AM), Houseace 30 (6:27:00 PM, 6:27:30 PM), Leash 30 (1:41:00 AM, 1:41:30 AM), "]
["22 Apr 2018","PSA","Ocelots (7:41:00 PM, 7:41:59 PM), Passive Aggressiveness (9:46:00 AM, 9:46:53 AM), Campground Etiquette (12:41:00 AM, 12:43:28 AM), Cellphones At Concerts (1:33:00 PM, 1:34:30 PM), "]
["22 Apr 2018","Ascertainment","Writing Center (11:29:00 AM, 11:30:38 AM), Go Outside (3:03:00 PM, 3:04:53 PM), "]
["22 Apr 2018","Ad Council","Danicapatrick 30 (9:35:00 PM, 9:35:30 PM), Houseace 30 (6:54:00 PM, 6:54:30 PM), Julius Randle Reverse 60 (3:05:00 PM, 3:06:00 PM), Forest Benefits 60 (11:39:00 AM, 11:40:00 AM), Leash 30 (1:58:00 AM, 1:58:30 AM), "]
["23 Apr 2018","PSA","Cellphones At Concerts (5:25:00 PM, 5:26:30 PM), Go To Class (7:17:00 PM, 7:18:13 PM), Clean Towels (1:29:00 PM, 1:30:22 PM), Campground Etiquette (12:49:00 AM, 12:51:28 AM), Brush Your Teeth (9:44:00 AM, 9:44:54 AM), "]
["23 Apr 2018","Ascertainment","Student Success Center (3:29:00 PM, 3:30:04 PM), Turn Down Your Ding Dang Speakers (9:05:00 PM, 9:07:15 PM), Stressless Room (11:14:00 AM, 11:15:14 AM), Rolla Animal Shelter I (7:23:00 AM, 7:24:59 AM), Mailbox Decapitation (3:08:00 AM, 3:08:45 AM), "]
["23 Apr 2018","Ad Council","Only In The Forest 60 (6:31:00 PM, 6:32:00 PM), Best In Show Dog 60 (11:27:00 AM, 11:28:00 AM), Listen 30 (9:06:00 PM, 9:06:30 PM), Pavlov Purpose 30 (1:48:00 AM, 1:48:30 AM), Forest Animals 60 (7:40:00 AM, 7:41:00 AM), Groan 30 (3:51:00 PM, 3:51:30 PM), "]
["24 Apr 2018","PSA","Single-Serve Coffee (9:44:00 AM, 9:45:02 AM), Local Awareness (5:16:00 PM, 5:16:59 PM), Drink Milk (1:41:00 PM, 1:41:55 PM), College Campus Squirrels (12:58:00 AM, 12:58:59 AM), Veggies (7:37:00 PM, 7:38:59 PM), "]
["24 Apr 2018","Ascertainment","LEAD (9:19:00 PM, 9:19:52 PM), DonT Be A Stalker (3:27:00 PM, 3:28:35 PM), Habitat For Humanity I (7:38:00 AM, 7:42:06 AM), Stressless Room (11:57:00 AM, 11:58:14 AM), "]
["24 Apr 2018","Ad Council","There Yet 60 (7:38:00 AM, 7:39:00 AM), Sense Of Adventure 60 (3:29:00 PM, 3:30:00 PM), Redwoods 30 (11:57:00 AM, 11:57:30 AM), Tickle Fight 30 (6:52:00 PM, 6:52:30 PM), Click 60 (9:19:00 PM, 9:20:00 PM), "]
["25 Apr 2018","PSA","Pets In Cars (5:51:00 PM, 5:51:34 PM), Tread Wear (7:00:00 PM, 7:01:13 PM), Tinnitus (12:30:00 AM, 12:31:01 AM), "]
["25 Apr 2018","Ascertainment","University Police (3:04:00 PM, 3:05:09 PM), Marijuana (3:20:00 AM, 3:22:30 AM), Rolla Rural Fire (11:09:00 AM, 11:11:12 AM), Mailbox Decapitation (9:56:00 PM, 9:56:45 PM), "]
["25 Apr 2018","Ad Council","Listen 60 (1:18:00 AM, 1:19:00 AM), Redwoods 60 (11:36:00 AM, 11:37:00 AM), "]
["26 Apr 2018","PSA","Jay walking (7:33:00 PM, 7:33:54 PM), Ocelots (5:13:00 PM, 5:13:59 PM), Dont Text And Drive (1:44:00 PM, 1:45:07 PM), "]
["26 Apr 2018","Ascertainment","Dont Be A Stalker (9:15:00 PM, 9:16:35 PM), Skatepark (11:49:00 AM, 11:49:46 AM), Mstreccenter (3:14:00 PM, 3:14:34 PM), "]
["26 Apr 2018","Ad Council","Gift To Future Me 60 (6:47:00 PM, 6:48:00 PM), Forest Benefits 30 (11:27:00 AM, 11:27:30 AM), Haircut 60 (9:14:00 PM, 9:15:00 PM), Cellphone 30 (3:14:00 PM, 3:14:30 PM), "]
["27 Apr 2018","PSA","Homophones (5:40:00 PM, 5:41:04 PM), Absentee Voting (12:41:00 AM, 12:41:43 AM), Tinnitus (1:12:00 PM, 1:13:01 PM), Campground Etiquette (8:47:00 PM, 8:49:28 PM), "]
["27 Apr 2018","Ascertainment","Rolla Public Library I (7:27:00 AM, 7:29:19 AM), Mst Music (3:51:00 PM, 3:52:23 PM), University Police (11:24:00 AM, 11:25:09 AM), Frisbeegolf (3:20:00 AM, 3:20:37 AM), "]
["27 Apr 2018","Ad Council","Rich Uncle 60 (3:53:00 PM, 3:54:00 PM), Sense Of Adventure 60 (7:49:00 AM, 7:50:00 AM), Tickle Fight 30 (7:41:00 PM, 7:41:30 PM), Toast 30 (1:44:00 AM, 1:44:30 AM), Click 30 (11:43:00 AM, 11:43:30 AM), Chance 60 (10:01:00 PM, 10:02:00 PM), "]
["28 Apr 2018","PSA","Radd (Recor, #VALUE!), Turn Signals (9:23:00 AM, 9:24:33 AM), Always with me sub disorder (12:28:00 AM, 12:28:30 AM), Flat Earth (1:35:00 PM, 1:36:20 PM), "]
["28 Apr 2018","Ascertainment","Electric Car (11:30:00 AM, 11:30:50 AM), "]
["28 Apr 2018","Ad Council","Show And Tell 60 (1:00:00 AM, 1:01:00 AM), Click 60 (11:49:00 AM, 11:50:00 AM), "]
["29 Apr 2018","PSA","Bear Selfie (1:53:00 PM, 1:54:29 PM), Tread Wear (5:47:00 PM, 5:48:13 PM), Phobias (7:58:00 PM, 7:58:56 PM), "]
["29 Apr 2018","Ascertainment","Mst Music (3:25:00 PM, 3:26:23 PM), DonT Be A Stalker (11:21:00 AM, 11:22:35 AM), Mailbox Decapitation (9:41:00 PM, 9:41:45 PM), "]
["29 Apr 2018","Ad Council","Danicapatrick 30 (6:29:00 PM, 6:29:30 PM), Grown Up 30 (11:35:00 AM, 11:35:30 AM), Redwoods 30 (9:41:00 PM, 9:41:30 PM), Forest Animals 60 (3:24:00 PM, 3:25:00 PM), "]
["30 Apr 2018","PSA","Tread Wear (12:43:00 AM, 12:44:13 AM), Tinnitus (5:13:00 PM, 5:14:01 PM), Rural Roads (1:31:00 PM, 1:32:19 PM), Flat Earth (7:54:00 PM, 7:55:20 PM), "]
["30 Apr 2018","Ascertainment","Stressless Room (3:19:00 PM, 3:20:14 PM), "]
["30 Apr 2018","Ad Council","Power Suit 60 (7:42:00 AM, 7:43:00 AM), Bear Hug Campfire 60 (1:43:00 AM, 1:44:00 AM), Grown Up 60 (9:10:00 PM, 9:11:00 PM), Groan 30 (3:34:00 PM, 3:34:30 PM), Listen 60 (11:43:00 AM, 11:44:00 AM), Designer Jeans 60 (6:29:00 PM, 6:30:00 PM), "]
["1 May 2018","PSA","Vaccines (1:51:00 PM, 1:54:24 PM), DonT Die From The Cold (7:44:00 PM, 7:45:17 PM), Drink Milk (9:40:00 AM, 9:40:55 AM), Tinnitus (5:31:00 PM, 5:32:01 PM), "]
["1 May 2018","Ascertainment","Stressless Room (9:10:00 PM, 9:11:14 PM), Skatepark (3:30:00 PM, 3:30:46 PM), Rolla Public Library II (7:50:00 AM, 7:52:15 AM), Go Outside (11:14:00 AM, 11:15:53 AM), "]
["1 May 2018","Ad Council","Grown Up 60 (9:11:00 PM, 9:12:00 PM), Listen 60 (7:42:00 AM, 7:43:00 AM), Forest Animals 60 (6:51:00 PM, 6:52:00 PM), Bear Hug Campfire 30 (3:30:00 PM, 3:30:30 PM), Online Dating 30 (11:27:00 AM, 11:27:30 AM), "]
["2 May 2018","PSA","Bear Selfie (12:31:00 AM, 12:32:29 AM), Call Your Mom (5:36:00 PM, 5:36:40 PM), "]
["2 May 2018","Ascertainment","Stressless Room (10:00:00 PM, 10:01:14 PM), University Police (3:27:00 PM, 3:28:09 PM), Writing Center (3:34:00 AM, 3:35:38 AM), Go Outside (11:25:00 AM, 11:26:53 AM), "]
["2 May 2018","Ad Council","Josh Groban 30 (11:43:00 AM, 11:43:30 AM), Click 60 (9:47:00 PM, 9:48:00 PM), Toys 30 (1:20:00 AM, 1:20:30 AM), Missed Opportunity 60 (3:27:00 PM, 3:28:00 PM), "]
["3 May 2018","PSA","Weight lifting (7:48:00 PM, 7:49:31 PM), Ocelots (9:10:00 AM, 9:10:59 AM), Campground Etiquette (1:22:00 PM, 1:24:28 PM), "]
["3 May 2018","Ascertainment","Student Success Center (9:53:00 PM, 9:54:04 PM), Recycling (7:22:00 AM, 7:25:15 AM), Senior Companions (3:45:00 PM, 3:46:06 PM), Turn Down Your Ding Dang Speakers (11:10:00 AM, 11:12:15 AM), "]
["3 May 2018","Ad Council","Power Suit 60 (7:38:00 AM, 7:39:00 AM), Lucky 30 (3:46:00 PM, 3:46:30 PM), Designer Jeans 30 (9:54:00 PM, 9:54:30 PM), Gps 30 (11:38:00 AM, 11:38:30 AM), Surprise You 30 (6:46:00 PM, 6:46:30 PM), "]
["4 May 2018","PSA","Local Awareness (5:53:00 PM, 5:53:59 PM), Tread Wear (1:13:00 PM, 1:14:13 PM), Pets In Cars (12:48:00 AM, 12:48:34 AM), Water Bottles (7:42:00 PM, 7:45:50 PM), "]
["4 May 2018","Ascertainment","Dags (3:17:00 AM, 3:17:45 AM), "]
["4 May 2018","Ad Council","Super Buddies Experience 30 (1:26:00 AM, 1:26:30 AM), Pavlov Purpose 30 (3:36:00 PM, 3:36:30 PM), Prediabetes Test 30 (6:10:00 PM, 6:10:30 PM), Airtime 30 (11:48:00 AM, 11:48:30 AM), "]
["5 May 2018","PSA","Veggies (1:39:00 PM, 1:40:59 PM), Lock Your Doors (5:01:00 PM, 5:01:45 PM), Campground Etiquette (7:16:00 PM, 7:18:28 PM), "]
["5 May 2018","Ascertainment","Electric Car (9:18:00 PM, 9:18:50 PM), "]
["5 May 2018","Ad Council","Dont Wait 60 (6:30:00 PM, 6:31:00 PM), Toast 30 (9:18:00 PM, 9:18:30 PM), "]
["6 May 2018","PSA","Bear Selfie (7:30:00 PM, 7:31:29 PM), Ibs (9:43:00 AM, 9:43:53 AM), Skin Cancer And Tanning Salons (1:58:00 PM, 1:59:20 PM), Inhalants I (12:48:00 AM, 12:50:40 AM), "]
["6 May 2018","Ascertainment","Student Success Center (9:18:00 PM, 9:19:04 PM), Mailbox Decapitation (11:29:00 AM, 11:29:45 AM), "]
["6 May 2018","Ad Council","Bear Hug Campfire 60 (6:39:00 PM, 6:40:00 PM), Only in the forest 60 (9:17:00 PM, 9:18:00 PM), 2 Sides 60 (2:00:00 AM, 2:01:00 AM), Online Dating 30 (11:29:00 AM, 11:29:30 AM), "]
["7 May 2018","PSA","Check Your Boots (12:07:00 AM, 12:07:40 AM), "]
["7 May 2018","Ascertainment","Mstreccenter (9:19:00 PM, 9:19:34 PM), DonT Be A Stalker (11:16:00 AM, 11:17:35 AM), "]
["7 May 2018","Ad Council","Forest Animals 30 (9:55:00 PM, 9:55:30 PM), Overconfidence 30 (11:42:00 AM, 11:42:30 AM), Best Vs Standard 30 (1:27:00 AM, 1:27:30 AM), "]
["8 May 2018","PSA","Doggie Depression (12:27:00 AM, 12:28:21 AM), "]
["8 May 2018","Ascertainment","Senior Companions (9:28:00 PM, 9:29:06 PM), "]
["8 May 2018","Ad Council","Listen 30 (9:03:00 PM, 9:03:30 PM), Pool Party 30 (1:07:00 AM, 1:07:30 AM), "]
["9 May 2018","PSA","Stress Relief (5:35:00 PM, 5:35:40 PM), Campground Etiquette (7:44:00 PM, 7:46:28 PM), "]
["9 May 2018","Ascertainment","MST Music (8:57:00 PM, 8:58:23 PM), "]
["9 May 2018","Ad Council","Pool Party 30 (8:57:00 PM, 8:57:30 PM), Stuntman 60 (6:49:00 PM, 6:50:00 PM), "]
["10 May 2018","PSA","Caffeine Addiction And You (12:32:00 AM, 12:32:56 AM), Tinnitus (7:04:00 PM, 7:05:01 PM), "]
["10 May 2018","Ascertainment","Dont Be A Stalker (12:00:00 PM, 12:01:35 PM), Rolla Public Library II (3:24:00 AM, 3:26:15 AM), Writing Center (9:38:00 PM, 9:39:38 PM), "]
["10 May 2018","Ad Council","Long Haul 30 (9:15:00 PM, 9:15:30 PM), Forest Animals 30 (11:32:00 AM, 11:32:30 AM), Forest Animals 30 (6:50:00 PM, 6:50:30 PM), Chance 60 (1:32:00 AM, 1:33:00 AM), "]
["11 May 2018","PSA","Autoerotic Asphyxiation (7:06:00 PM, 7:06:54 PM), College Campus Squirrels (1:24:00 PM, 1:24:59 PM), "]
["11 May 2018","Ascertainment","Frisbeegolf (3:49:00 PM, 3:49:37 PM), "]
["11 May 2018","Ad Council","Click 60 (3:39:00 PM, 3:40:00 PM), DanicaPatrick 60 (6:28:00 PM, 6:29:00 PM), "]
["12 May 2018","PSA",""]
["12 May 2018","Ascertainment",""]
["12 May 2018","Ad Council",""]
["13 May 2018","PSA",""]
["13 May 2018","Ascertainment",""]
["13 May 2018","Ad Council",""]
["14 May 2018","PSA",""]
["14 May 2018","Ascertainment",""]
["14 May 2018","Ad Council",""]
["15 May 2018","PSA",""]
["15 May 2018","Ascertainment",""]
["15 May 2018","Ad Council",""]
["16 May 2018","PSA",""]
["16 May 2018","Ascertainment",""]
["16 May 2018","Ad Council",""]
["17 May 2018","PSA",""]
["17 May 2018","Ascertainment",""]
["17 May 2018","Ad Council",""]
["18 May 2018","PSA",""]
["18 May 2018","Ascertainment","Rolla Parks (9:55:00 PM, 9:57:04 PM), "]
["18 May 2018","Ad Council","Airtime 30 (9:56:00 PM, 9:56:30 PM), "]
["19 May 2018","PSA",""]
["19 May 2018","Ascertainment",""]
["19 May 2018","Ad Council",""]
["20 May 2018","PSA",""]
["20 May 2018","Ascertainment",""]
["20 May 2018","Ad Council",""]
["21 May 2018","PSA",""]
["21 May 2018","Ascertainment",""]
["21 May 2018","Ad Council",""]
["22 May 2018","PSA",""]
["22 May 2018","Ascertainment",""]
["22 May 2018","Ad Council",""]
["23 May 2018","PSA","Pets In Cars (1:47:00 PM, 1:47:34 PM), "]
["23 May 2018","Ascertainment","Go Outside (3:47:00 PM, 3:48:53 PM), "]
["23 May 2018","Ad Council","Bear Hug Campfire 60 (3:46:00 PM, 3:47:00 PM), "]
["24 May 2018","PSA",""]
["24 May 2018","Ascertainment","MST Music (7:26:00 AM, 7:27:23 AM), "]
["24 May 2018","Ad Council","Expensive Night 60 (7:48:00 AM, 7:49:00 AM), "]
["25 May 2018","PSA",""]
["25 May 2018","Ascertainment",""]
["25 May 2018","Ad Council",""]
["26 May 2018","PSA",""]
["26 May 2018","Ascertainment",""]
["26 May 2018","Ad Council",""]
["27 May 2018","PSA",""]
["27 May 2018","Ascertainment",""]
["27 May 2018","Ad Council",""]
["28 May 2018","PSA",""]
["28 May 2018","Ascertainment",""]
["28 May 2018","Ad Council",""]
["29 May 2018","PSA",""]
["29 May 2018","Ascertainment",""]
["29 May 2018","Ad Council",""]
["30 May 2018","PSA",""]
["30 May 2018","Ascertainment",""]
["30 May 2018","Ad Council",""]
["31 May 2018","PSA",""]
["31 May 2018","Ascertainment",""]
["31 May 2018","Ad Council",""]
["1 June 2018","PSA",""]
["1 June 2018","Ascertainment",""]
["1 June 2018","Ad Council",""]
["2 June 2018","PSA",""]
["2 June 2018","Ascertainment",""]
["2 June 2018","Ad Council",""]
["3 June 2018","PSA","Duster (5:24:00 PM, 5:24:53 PM), "]
["3 June 2018","Ascertainment",""]
["3 June 2018","Ad Council",""]
["4 June 2018","PSA","Brush Your Teeth (5:42:00 PM, 5:42:54 PM), "]
["4 June 2018","Ascertainment",""]
["4 June 2018","Ad Council",""]
["5 June 2018","PSA","Brush Your Teeth (5:29:00 PM, 5:29:54 PM), "]
["5 June 2018","Ascertainment",""]
["5 June 2018","Ad Council",""]
["6 June 2018","PSA",""]
["6 June 2018","Ascertainment","DonT Be A Stalker (9:40:00 PM, 9:41:35 PM), "]
["6 June 2018","Ad Council","Rock Tshirt 30 (6:51:00 PM, 6:51:30 PM), Rich 60 (9:11:00 PM, 9:12:00 PM), "]
["7 June 2018","PSA","DonT Be A D (7:57:00 PM, 7:57:55 PM), Donate Your Eyes (1:24:00 PM, 1:25:35 PM), "]
["7 June 2018","Ascertainment",""]
["7 June 2018","Ad Council","Power Suit 60 (6:33:00 PM, 6:34:00 PM), "]
["8 June 2018","PSA","Home Mental Illness (1:29:00 PM, 1:29:57 PM), "]
["8 June 2018","Ascertainment",""]
["8 June 2018","Ad Council",""]
["9 June 2018","PSA","DonT Swear In Front of the Children (12:35:00 AM, 12:36:24 AM), "]
["9 June 2018","Ascertainment",""]
["9 June 2018","Ad Council","click 30 (1:35:00 AM, 1:35:30 AM), "]
["10 June 2018","PSA",""]
["10 June 2018","Ascertainment",""]
["10 June 2018","Ad Council",""]
["11 June 2018","PSA","Cellphones At Concerts (5:25:00 PM, 5:26:30 PM), "]
["11 June 2018","Ascertainment","MST Music (9:16:00 PM, 9:17:23 PM), "]
["11 June 2018","Ad Council","I Want To Be 30 (9:16:00 PM, 9:16:30 PM), "]
["12 June 2018","PSA","Tread Wear (5:32:00 PM, 5:33:13 PM), "]
["12 June 2018","Ascertainment",""]
["12 June 2018","Ad Council",""]
["13 June 2018","PSA","Drug Free (7:47:00 PM, 7:48:23 PM), "]
["13 June 2018","Ascertainment",""]
["13 June 2018","Ad Council","Battlefield 30 (6:57:00 PM, 6:57:30 PM), "]
["14 June 2018","PSA","Highway Accidents (1:17:00 PM, 1:20:29 PM), "]
["14 June 2018","Ascertainment","Frisbeegolf (9:10:00 PM, 9:10:37 PM), "]
["14 June 2018","Ad Council","Smiles 30 (9:05:00 PM, 9:05:30 PM), "]
["15 June 2018","PSA",""]
["15 June 2018","Ascertainment",""]
["15 June 2018","Ad Council",""]
["16 June 2018","PSA","Local Awareness (12:34:00 AM, 12:34:59 AM), "]
["16 June 2018","Ascertainment",""]
["16 June 2018","Ad Council",""]
["17 June 2018","PSA","Furnace Filters (7:45:00 PM, 7:46:15 PM), "]
["17 June 2018","Ascertainment","MST Music (9:41:00 PM, 9:42:23 PM), Missouri Caves (3:50:00 PM, 3:51:31 PM), "]
["17 June 2018","Ad Council","Redwoods 30 (9:20:00 PM, 9:20:30 PM), Groan 30 (7:10:00 PM, 7:10:30 PM), Moments 60 (3:30:00 PM, 3:31:00 PM), "]
["18 June 2018","PSA","Highway Accidents (1:45:00 PM, 1:48:29 PM), Seat belts (12:57:00 AM, 1:00:01 AM), "]
["18 June 2018","Ascertainment",""]
["18 June 2018","Ad Council","I Want To Be 60 (1:40:00 AM, 1:41:00 AM), "]
["19 June 2018","PSA","Call Your Mom (7:42:00 PM, 7:42:40 PM), "]
["19 June 2018","Ascertainment",""]
["19 June 2018","Ad Council","Gift To Future Me 60 (6:41:00 PM, 6:42:00 PM), "]
["20 June 2018","PSA","Flat Earth (7:04:00 PM, 7:05:20 PM), "]
["20 June 2018","Ascertainment",""]
["20 June 2018","Ad Council","I Want To Be 30 (6:59:00 PM, 6:59:30 PM), "]
["21 June 2018","PSA","DonT Be A D (7:51:00 PM, 7:51:55 PM), "]
["21 June 2018","Ascertainment","Mstreccenter (9:23:00 PM, 9:23:34 PM), "]
["21 June 2018","Ad Council","Toast 30 (9:09:00 PM, 9:09:30 PM), Forest Animals 60 (6:51:00 PM, 6:52:00 PM), "]
["22 June 2018","PSA",""]
["22 June 2018","Ascertainment",""]
["22 June 2018","Ad Council",""]
["23 June 2018","PSA","My Story Is Yours (12:31:00 AM, 12:31:21 AM), "]
["23 June 2018","Ascertainment",""]
["23 June 2018","Ad Council","Boss Baby 30 (1:34:00 AM, 1:34:30 AM), "]
["24 June 2018","PSA","Phobias (2:51:00 PM, 2:51:56 PM), Ocelots (7:53:00 PM, 7:53:59 PM), "]
["24 June 2018","Ascertainment","Skatepark (3:23:00 PM, 3:23:46 PM), Stressless Room (9:44:00 PM, 9:45:14 PM), "]
["24 June 2018","Ad Council","Sense Of Adventure 60 (6:32:00 PM, 6:33:00 PM), Click 60 (3:23:00 PM, 3:24:00 PM), "]
["25 June 2018","PSA","Furnace Filters (12:47:00 AM, 12:48:15 AM), Brush Your Teeth (1:34:00 PM, 1:34:54 PM), "]
["25 June 2018","Ascertainment","Turn Down Your Ding Dang Speakers (9:17:00 PM, 9:19:15 PM), "]
["25 June 2018","Ad Council","Designer Jeans 60 (1:48:00 AM, 1:49:00 AM), Click 30 (9:17:00 PM, 9:17:30 PM), "]
["26 June 2018","PSA","Sharks (5:22:00 PM, 5:23:01 PM), Stress Relief (7:42:00 PM, 7:42:40 PM), "]
["26 June 2018","Ascertainment","Mailbox Decapitation (9:25:00 PM, 9:25:45 PM), "]
["26 June 2018","Ad Council","Groan 60 (6:48:00 PM, 6:49:00 PM), Sense Of Adventure 30 (9:26:00 PM, 9:26:30 PM), "]
["27 June 2018","PSA","Cellphones At Concerts (7:35:00 PM, 7:36:30 PM), "]
["27 June 2018","Ascertainment",""]
["27 June 2018","Ad Council","Listen 60 (6:51:00 PM, 6:52:00 PM), "]
["28 June 2018","PSA","Drink Milk (1:38:00 PM, 1:38:55 PM), Marijuana Reform (7:55:00 PM, 7:55:37 PM), "]
["28 June 2018","Ascertainment","Dags (9:20:00 PM, 9:20:45 PM), "]
["28 June 2018","Ad Council","Grown Up 30 (6:51:00 PM, 6:51:30 PM), Josh Groban 30 (9:41:00 PM, 9:41:30 PM), "]
["29 June 2018","PSA",""]
["29 June 2018","Ascertainment",""]
["29 June 2018","Ad Council",""]
["30 June 2018","PSA","Lock Your Doors (12:31:00 AM, 12:31:45 AM), "]
["30 June 2018","Ascertainment",""]
["30 June 2018","Ad Council","Listen 30 (1:31:00 AM, 1:31:30 AM), "]
[null,null,""]